{"text_format":"1","workbook":"xlsx","n_sheets":68,"sheets":["Toelichting","voorbeeld","Dashboard","Voedermiddelen","Weidegras","Jan vee+melk","Jan voer","Feb vee+melk","Feb voer","Maart vee+melk","Maart voer","April vee+melk","April voer","Mei vee+melk","Mei voer","Juni vee+melk","Juni voer","Juli vee+melk","Juli voer","Aug vee+melk","Aug voer","Sep vee+melk","Sep voer","Okt vee+melk","Okt voer","Nov vee+melk","Nov voer","Dec vee+melk","Dec voer","Dec Voeropname","Dec Excretie","Dec kengetallen","Nov Voeropname","Nov Excretie","Nov kengetallen","Okt Voeropname","Okt Excretie","Okt kengetallen","Sep Voeropname","Sep Excretie","Sep kengetallen","Aug Voeropname","Aug Excretie","Aug kengetallen","Juli Voeropname","Juli Excretie","Juli kengetallen","Juni Voeropname","Juni Excretie","Juni kengetallen","Mei Voeropname","Mei Excretie","Mei kengetallen","April Voeropname","April Excretie","April kengetallen","Maart Voeropname","Maart Excretie","Maart kengetallen","Feb Voeropname","Feb Excretie","Feb kengetallen","Voeropname","Excretie","codes","kengetallen","monitor","grafieken"],"not_rendered":{"charts":7,"images":3,"macros":1,"external_links":2,"defined_names":18,"comments":0,"pivot_tables":0},"unopened":[],"bounds":{"document_bytes":16777216,"sheet_cells":100000,"rows_first":2000,"rows_last":500,"rows_between":2000,"halvings":0,"cell_chars":16384,"cell_head_chars":4096},"cells_cut":0,"cells_raw":0,"read":"whole","date_system":"1900"}

{"sheet":"Toelichting","index":0,"n_rows":52,"n_cols":2,"rows_kept":52,"cut":false,"hidden":false,"merged":[]}
[]
[]
[]
["Welkom:"]
["Dit rekenpgramma is gemaakt om meer inzicht te verkrijgen in de mineralen efficientie op uw bedrijf en u te helpen deze te verbeteren."]
["Het programma helpt u in beeld te brengen wat u de afgelopen periode aan uw melkvee heeft gevoerd en tot welke excretie dit leidt."]
["Ook maakt het inzichtelijk hoeveel stikstof en fosfor u per kg krachtvoer kunt aankopen bij het rantsoen dat u voert en het gewenste krachtvoer niveau."]
[]
["Kies nu eerst of u deze tool het hele jaar of alleen gedurende het weideseizoen wilt gebruiken (u kunt u keuze altijd nog aanpassen)."]
[]
["Stap 1"]
["Voer in het tablad voedermiddelen het voer in dat u heeft gevoerd en van plan bent de komende periode te gaan voeren."]
[]
["Stap 2"]
["In het tablad weidegras staan per maand standaard gemiddelde voederwaardes voor het weidegras. Deze waarde zijn gebasseerd op metingen uit het verleden."]
["Wanneer u wilt kunt u zelf de waarden van uw weidegras invoeren onder het kopje eigen invoer."]
[]
["Stap 3"]
["In het tabblad Veestapel+Melkproductie voert u het gemiddelde aantal melkgevende koeien in van de gewenste maand en de bijbehorende geleverde melk."]
["Ook voert u het aantal droge koeien in die tussen de melkveestapel lopen en zodoende ook mee eten van het melkveerantsoen. "]
["Voor de prognose voert u de hoeveelheid in die u komende maand verwacht te leveren alsmede het aantal koeien. "]
[]
["Stap 4"]
["In het tablad rantsoen geeft u aan of wel of geen weidegang toepast en welk weidegras te koeien te vreten hebben. Dit kunt u zowel voor de realisatie doen als voor de prognose."]
["Daarnaast vult u in hoeveel kg product u van iedere voersoort dagelijks aan het melkvee heeft gevoerd en hoeveel % restvoer er was van het ruwvoer. "]
["U kunt hierbij kiezen uit de voedermiddelen die u zelf in het tabblad voedermiddelen hebt ingevoerd."]
["Kies bij prognose voor een gewenst krachtvoer niveau en de gewenste gehaltes aan ruw eiwit en fosfor in het rantsoen."]
[]
["Uitkomst:","Het programma geeft nu aan hoeveel eiwit en fosfor er per kg maximaal in de brok mag zitten om het gewenste rantsoen samen te stellen "]
[null,"en hoeveel weidegras de koeien nog op moeten nemen om in de VEM behoefte te kunnen voorzien. "]
[]
[]
[]
[]
[]
[]
[]
[]
[]
[]
[]
[]
["Jan vee+melk","J"]
["Jan voer","J"]
["Feb vee+melk","J"]
["Feb voer","J"]
["Maart vee+melk","J"]
["Maart voer","J"]
["Nov vee+melk","J"]
["Nov voer","J"]
["Dec vee+melk","J"]
["Dec voer","J"]

{"sheet":"voorbeeld","index":1,"n_rows":109,"n_cols":63,"rows_kept":109,"cut":false,"hidden":true,"merged":[[52,30,52,31],[52,32,52,40],[52,41,52,48]]}
["Voergroep 1"]
[" "]
[null,null,null,"         pinken",null,"         kalveren",null,"kg melk","Voersoorten met restvoer en voer voor andere diergroepen",null,null,null,null,null,null,null,null,null,"kg voer","kg voer","kg rest-",null,"Voersoorten zonder restvoer"]
["dgn","aantal","aantal","lft","lft","lft","lft","niet in de",null,null,null,null,null,null,null,null,null,null,"diergroep","diergroep","voer"]
["periode","melkg.","droog",null,null,null,null,"tank","wg",{"$f":"D35","v":"graskuil 2016"},{"$f":"D36","v":"graskuil plaat 2 2015"},{"$f":"D37","v":"hooi 2e snede"},{"$f":"D38","v":"maiskuil oost 2016"},{"$f":"D39","v":0},{"$f":"D40","v":"bierbostel"},{"$f":"D41","v":"sodagrain"},{"$f":"D42","v":0},null,"I","II","mestvaalt",null,{"$f":"D43","v":"snijmaiskernbrok"},{"$f":"D44","v":"eiwit"},{"$f":"D45","v":"opti-brok"},"voer 13","voer 14","voer 15"]
[7,67,2,null,null,null,null,0,0,10500,0,70,5600,null,2400,{"$f":"140*7","v":980},null,null,null,null,null,null,420,{"$f":"240*7","v":1680},0]
[]
[]
[]
[]
[]
[]
[null,null,null,null,null,null,null,null,{"$f":"IF($AA$30>0,($L$50*$AA$30/100-SUM($W$35:$W$48))/$L$34*1000/$K$34*SUM($B$19:$G$19)*$A$6,0)","v":556.34252101661264}]
[]
[]
["Kg verstrekt",null,null,null,null,null,null,null,{"$f":"SUM(I6:I15)","v":556.34252101661264},10500,0,70,5600,0,2400,980,0,null,null,null,null,null,{"$f":"SUM(W6:W15)","v":420},1680,0,0,0,0]
["Kg rest en voer andere diergroepen",null,null,null,null,null,null,null,{"$f":"IF($AA$30>0,0,IF(I16>0,I16/(SUM($I16:$Q16))*($S17+$T17+$U17),0))","v":0},{"$f":"IF($AA$30>0,IF(J$16>0,(J$16/SUM($J$16:$Q$16))*($S$17+$T$17+$U$17),0),IF(J$16>0,(J$16/SUM($I$16:$Q$16))*($S$17+$T$17+$U$17),0))","v":0},0,0,0,0,0,0,0,null,{"$f":"SUM(S6:S15)","v":0},{"$f":"SUM(T6:T15)","v":0},{"$f":"SUM(U6:U15)","v":0}]
["Kg opname in 7 dagen",null,null,null,null,null,null,null,{"$f":"IF(I16>0,(I16-I17)/A6*7,0)","v":556.34252101661264},{"$f":"IF(J16>0,(J16-J17)/A6*7,0)","v":10500},{"$f":"IF(K16>0,(K16-K17)/A6*7,0)","v":0},{"$f":"IF(L16>0,(L16-L17)/A6*7,0)","v":70},{"$f":"IF(M16>0,(M16-M17)/A6*7,0)","v":5600},{"$f":"IF(N16>0,(N16-N17)/A6*7,0)","v":0},{"$f":"IF(O16>0,(O16-O17)/A6*7,0)","v":2400},{"$f":"IF(P16>0,(P16-P17)/A6*7,0)","v":980},{"$f":"IF(Q16>0,(Q16-Q17)/A6*7,0)","v":0},null,null,null,null,null,{"$f":"IF(W16>0,W16/A6*7,0)","v":420},{"$f":"IF(X16>0,X16/A6*7,0)","v":1680},{"$f":"IF(Y16>0,Y16/A6*7,0)","v":0},{"$f":"IF(Z16>0,Z16/A6*7,0)","v":0},{"$f":"IF(AA16>0,AA16/A6*7,0)","v":0},{"$f":"IF(AB16>0,AB16/A6*7,0)","v":0}]
["Gem.",{"$f":"IF(B6>0,AVERAGE(B6:B15),0)","v":67},2,0,0,0,0,{"$f":"SUM(H6:H18)","v":0}]
["Voer voor diergroep I",null,null,null,null,null,null,null,{"$f":"IF($AA$30>0,0,IF(I$16>0,(I$16/SUM($I$16:$Q$16))*$S$17,0))","v":0},{"$f":"IF($AA$30>0,IF(J$16>0,(J$16/SUM($J$16:$Q$16))*$S$17,0),IF(J$16>0,(J$16/SUM($I$16:$Q$16))*$S$17,0))","v":0},0,0,0,0,0,0,0,null,null,{"$f":"SUM(I20:Q20)","v":0}]
["Voer voor diergroep II",null,null,null,null,null,null,null,{"$f":"IF($AA$30>0,0,IF(I$16>0,(I$16/SUM($I$16:$Q$16))*$T$17,0))","v":0},{"$f":"IF($AA$30>0,IF(J$16>0,(J$16/SUM($J$16:$Q$16))*$T$17,0),IF(J$16>0,(J$16/SUM($I$16:$Q$16))*$T$17,0))","v":0},0,0,0,0,0,0,0,null,null,{"$f":"SUM(I21:Q21)","v":0}]
["Verdeling voer over de diercategorien"]
["Melkg.",{"$f":"B19","v":67},null,null,null,null,null,null,{"$f":"IF(I$18>0,I$18/SUM(B$19:G$19)*B23,0)","v":540.21665084221809},{"$f":"IF(J$18>0,J$18/SUM(B$19:G$19)*B23,0)","v":10195.652173913042},{"$f":"IF(K$18>0,K$18/SUM(B$19:G$19)*B23,0)","v":0},{"$f":"IF(L$18>0,L$18/SUM(B$19:G$19)*B23,0)","v":67.971014492753625},{"$f":"IF(M$18>0,M$18/SUM(B$19:G$19)*B23,0)","v":5437.68115942029},{"$f":"IF(N$18>0,N$18/SUM(B$19:G$19)*B23,0)","v":0},{"$f":"IF(O$18>0,O$18/SUM(B$19:G$19)*B23,0)","v":2330.4347826086955},{"$f":"IF(P$18>0,P$18/SUM(B$19:G$19)*B23,0)","v":951.59420289855063},{"$f":"IF(Q$18>0,Q$18/SUM(B$19:G$19)*B23,0)","v":0},null,null,null,null,null,{"$f":"IF(W$18>0,W$18/SUM(B$19:G$19)*B23,0)","v":407.82608695652175},{"$f":"IF(X$18>0,X$18/SUM(B$19:G$19)*B23,0)","v":1631.304347826087},{"$f":"IF(Y$18>0,Y$18/SUM(B$19:G$19)*B23,0)","v":0},{"$f":"IF(Z$18>0,Z$18/SUM(B$19:G$19)*B23,0)","v":0},{"$f":"IF(AA$18>0,AA$18/SUM(B$19:G$19)*B23,0)","v":0},{"$f":"IF(AB$18>0,AB$18/SUM(B$19:G$19)*B23,0)","v":0}]
["Droog",{"$f":"C19","v":2},null,null,null,null,null,null,16.125870174394571,304.3478260869565,0,2.0289855072463769,162.31884057971016,0,69.565217391304344,28.405797101449274,0,null,null,null,null,null,12.173913043478262,48.695652173913047,0,0,0,0]
["Jongvee",{"$f":"D19","v":0},null,"Leeft.",{"$f":"D5","v":0},"  mnd",null,null,0,0,0,0,0,0,0,0,0,null,null,null,null,null,0,0,0,0,0,0]
["Jongvee",{"$f":"E19","v":0},null,"Leeft.",{"$f":"E5","v":0},"  mnd",null,null,0,0,0,0,0,0,0,0,0,null,null,null,null,null,0,0,0,0,0,0]
["Jongvee",{"$f":"F19","v":0},null,"Leeft.",{"$f":"F5","v":0},"  mnd",null,null,0,0,0,0,0,0,0,0,0,null,null,null,null,null,0,0,0,0,0,0]
["Jongvee",{"$f":"G19","v":0},null,"Leeft.",{"$f":"G5","v":0},"  mnd",null,null,0,0,0,0,0,0,0,0,0,null,null,null,null,null,0,0,0,0,0,0]
[]
["Bedrijf:",null,"Voorbeeld",null,null,null,null,null,"Week:","2016_01",null,null,"Diergroep: ","Melkgevende koeien",null,null,null,null,"Aantal dieren in de groep:",{"$f":"B23","v":67},null,null,null,"VEM-dekking weideperiode",null,null,110]
[null,null,null,null,null,null,null,null,"Datum:",{"$f":"C67","v":"2016-01-11"},"t/m",{"$f":"C68","v":"2016-01-17"},null,null,null,null,null,null,"Dierdagen:",{"$f":"T30*7","v":469},null,null,null,null,null,"(0 = stalperiode)","110 = gem 2011/2012"]
["Voeropname",null,null,null,null,null,null,null,"kg","kg ds/","              analyse bij R en B in gr/kg ds; bij K in gr/kg product",null,null,null,null,null,null,null,null,null,null,null,"        opname per dier/dag"]
["Voercode",null,null,"Omschrijving",null,null,null,"R, B of K","gevoerd","dier/dag","ds","VEM","DVE","OEB","RE","RC","RAS","P","N-tot",null,"Opmerkingen",null,"VEM","DVE","OEB","% RE"," gr P","gr N"]
["Versg gras",null,null,"weidegars",null,null,null,"R",{"$f":"I$23","v":540.21665084221809},{"$f":"IF(T$30>0,(I34*K34)/7/T$30/1000,0)","v":0.23036957391992244},200,940,50,30,200,220,90,4.5,32,null,null,"wg",{"$f":"IF(H34=\"k\",(1000/K34*J34*L34),((J34*L34)))","v":216.54739948472709},{"$f":"IF(H34=\"k\",(1000/K34*J34*M34),((J34*M34)))","v":11.518478695996121},{"$f":"IF(H34=\"k\",(1000/K34*J34*N34),((J34*N34)))","v":6.9110872175976734},{"$f":"IF(H34=\"k\",(1000/K34*J34*O34),((J34*O34)))","v":46.073914783984485},{"$f":"IF(H34=\"k\",(1000/K34*J34*R34),((J34*R34)))","v":1.036663082639651},{"$f":"IF(H34=\"k\",(1000/K34*J34*S34),((J34*S34)))","v":7.371826365437518}]
["GK_2016_01_A",null,null,"graskuil 2016",null,null,null,"R",{"$f":"J$23","v":10195.652173913042},{"$f":"IF(T$30>0,(I35*K35)/7/T$30/1000,0)","v":10.804347826086955},497,969,71,36,160,245,92,3.6,{"$f":"O35/6.25","v":25.6},null,null,"gk",10469.41304347826,767.10869565217376,388.95652173913038,1728.6956521739128,38.895652173913042,276.59130434782605]
["GK_2016_01_B",null,null,"graskuil plaat 2 2015",null,null,null,"R",{"$f":"K$23","v":0},0,478,852,49,18,114,243,131,4.2,{"$f":"O36/6.25","v":18.239999999999998},null,null,"gk",0,0,0,0,0,0]
["GH_2016",null,null,"hooi 2e snede",null,null,null,"R",{"$f":"L$23","v":67.971014492753625},0.12579710144927536,868,797,68,-28,106,261,91,3.3,16.96,null,null,"gk",100.26028985507246,8.5542028985507237,-3.5223188405797101,13.334492753623188,0.41513043478260869,2.1335188405797103]
["MK_2016_01",null,null,"maiskuil oost 2016",null,null,null,"R",{"$f":"M$23","v":5437.68115942029},4,345,1016,55,-48,66,166,35,2.2999999999999998,10.56,null,null,"mk",4064,220,-192,264,9.1999999999999993,42.24]
[null,null,null,null,null,null,null,null,{"$f":"N$23","v":0},0,null,null,null,null,null,null,null,null,null,null,null,null,0,0,0,0,0,{"$f":"IF(H39=\"k\",(1000/K39*J39*S39),((J39*S39)))","v":0}]
["Bierbostel",null,null,"bierbostel",null,null,null,"B",{"$f":"O$23","v":2330.4347826086955},1.0881987577639749,219,947,137,55,247,178,42,6.2,39.5,null,null,"b",1030.5242236024842,149.08322981366456,59.850931677018622,{"$f":"IF(H40=\"k\",(1000/K40*J40*O40),((J40*O40)))","v":268.7850931677018},6.7468322981366446,42.983850931677011]
["Sodagrain",null,null,"sodagrain",null,null,null,"B",{"$f":"P$23","v":951.59420289855063},1.5217391304347823,750,1160,100,-43,109,24,15,3,{"$f":"O41/6.25","v":17.440000000000001},null,null,"b",1765.2173913043475,152.17391304347822,-65.434782608695642,165.86956521739125,4.5652173913043468,26.539130434782603]
[null,null,null,null,null,null,null,null,{"$f":"Q$23","v":0},0,null,null,null,null,null,null,null,null,null,null,null," ",0,0,0,0,0,0]
["KV_2016_01_A",null,null,"snijmaiskernbrok",null,null,null,"K",{"$f":"W$23","v":407.82608695652175},0.77130434782608703,887,950,180,75,315,88,101,6.6,{"$f":"O43/6.25","v":50.4},null,null,"kv",826.08695652173913,156.52173913043478,65.217391304347828,273.91304347826087,5.7391304347826084,43.826086956521735]
["KV_2016_01_B",null,null,"eiwit",null,null,null,"K",{"$f":"X$23","v":1631.304347826087},3.0852173913043481,887,950,115,5,175,99,73,3.9,28,null,null,"kv",3304.3478260869565,400,17.391304347826086,608.695652173913,13.565217391304348,97.391304347826079]
["KV_2016_01_C",null,null,"opti-brok",null,null,null,null,0,0,892,890,139,105,276,86,148,4.7,44.16,null,null,null,0,0,0,0,0,0]
[null,null,null,null,null,null,null,null,{"$f":"Z$23","v":0},0,null,null,null,null,null,null,null,null,null,null,null,null,0,0,0,0,0,0]
[null,null,null,null,null,null,null,null,{"$f":"AA$23","v":0},0,null,null,null,null,null,null,null,null,null,null,null,null,0,0,0,0,0,0]
[null,null,null,null,null,null,null,null,{"$f":"AB$23","v":0},0,null,null,null,null,null,null,null,null,null,null,null,null,0,0,0,0,0,0]
["Opname totaal (dier/dag)",null,null,null,null,null,null,null,null,{"$f":"SUM(J34:J48)","v":21.626974128785346},null,{"$f":"W49","v":21776.397130333586},{"$f":"X49","v":1864.9602592342981},{"$f":"Y49","v":277.37013483664521},{"$f":"Z49","v":3369.3674137487878},null,null,{"$f":"AA49","v":80.163843206863234},{"$f":"AB49","v":539.0770222246507},null,null,null,{"$f":"SUM(W34:W48)","v":21776.397130333586},1864.9602592342981,277.37013483664521,3369.3674137487878,80.163843206863234,539.0770222246507]
["Behoefte",null,null,null,null,null,null,null,null,null,null,{"$f":"IF(AA30>0,6013+440*M54+0.73*M54*M54,5013+440*M54+0.73*M54*M54)","v":19796.724663939625},{"$f":"114+(1.396*E57*E60*10)+0.000195*((E57*E60*10)*(E57*E60*10))+20","v":1763.743570394297},null,{"$f":"M49/N49*10","v":67.237240964412067},null,null,{"$f":"19+1.43*M54","v":61.683365671641781}]
["Dekking (%)",null,null,null,null,null,null,null,null,null,null,{"$f":"L49/L50*100","v":109.99999999999999},{"$f":"M49/M50*100","v":105.73874176150071},null,null,null,null,{"$f":"R49/R50*100","v":129.96022887855753}]
[null,null,null,null,null,null,null,null,null,null,null,"Let op: In zomer VEM-beh+1000"]
["Melkproductie",null,null,null,null,null,null,null,null,null,"Kengetallen",null,null,null,null,"Excretie (kg/dier/dag)",null,null,null,null,null,null,"kg ds/koe/dag",null,null,null,null,null,null,"Melkproductie ",null,null,"Ureumgehalte (mg/100 g)",null,null,null,null,null,null,null,null,"Ureumgehalte (mg/100 g)",null,null,null,null,null,null,null,null,null,null,null,null,null,null,null,null,null,null,null,"Fosfaat-","mestproductie in stal"]
["kg melk per week",null,null,null,{"$f":"(L74/C74*7)+H19","v":12950},"  (inclusief niet in de tank :",null,null,{"$f":"H19","v":0},"kg)","FPCM",null,{"$f":"(0.337+0.116*E59+0.06*E60)*E57","v":29.848507462686563}," kg",null,null,null,"N","P","P2O5",null,"wg",{"$f":"SUMIF(V$34:V$48,\"wg\",J$34:J$48)","v":0.23036957391992244},null,null,null,null,null,null,"per koe (kg) ","max","waar melk?","<14",14,15,16,17,18,19,20,21,22,23,24,25,26,27,28,29,30,31,32,33,34,35,36,37,38,39,40,">40","excretie","per 7 maanden"]
["aantal melkgevende koeien",null,null,null,{"$f":"B23","v":67},null,null,null,null,null,"N-efficiëntie",null,{"$f":"(E57*E60*10/6.38)/S49*100","v":29.704835407229709}," %",null,"Opname",null,{"$f":"(AB49*T30)*0.365/(E55+E56)","v":173.46221813820833},{"$f":"(AA49*T30)*0.365/(E55+E56)","v":25.794826126629481},{"$f":"S55*2.291","v":59.09594665610814},null,"gk",{"$f":"SUMIF(V$34:V$48,\"gk\",J$34:J$48)","v":10.930144927536231},null,null,null,null,null,null,"< 5625",5625,{"$f":"IF($AE$84>0,+IF($AE$84<AE55,1,0))","v":0},76,77.5,79,81,82.5,84,86,87.5,89,90.5,92.5,94,95.5,97.5,99,100.5,102.5,104,105.5,107,109,110.5,112,114,115.5,117,118.5,120.5,122,32.4,12.1]
["aantal droogstaande koeien",null,null,null,9,null,null,null,null,null,"P-efficiëntie",null,{"$f":"(E57*0.9)/R49*100","v":30.99994370844874}," %",null,"Productie",null,{"$f":"(E58*E60*10)/6.38*0.365","v":51.526666391684543},{"$f":"E58*0.9*0.365","v":7.9963815789473687},{"$f":"S56*2.291","v":18.319710197368423},null,"mk",{"$f":"SUMIF(V$34:V$48,\"mk\",J$34:J$48)","v":4},null,null,null,null,null,null,"5625 - 5874 ",5874,{"$f":"IF($AE$84>AE55,+IF($AE$84<AE56,1,0))","v":0},80.5,82.5,84,85.5,87,89,90.5,92,94,95.5,97,99,100.5,102,103.5,105.5,107,108.5,110.5,112,113.5,115,117,118.5,120,122,123.5,125,127,34,12.6]
["kg melk/koe/dag",null,null,null,{"$f":"E54/E55/7","v":27.611940298507459},"  (gem. melkgevende koeien)",null,null,null,null,"KV / 100 kg FPCM",null,{"$f":"(SUMIF(H34:H48,\"K\",I34:I48)/(M54*E55*7))*100","v":14.566309864544191}," kg",null,"Vastlegging",null,1.4,0.5,{"$f":"S57*2.291","v":1.1455},null,"ov",{"$f":"SUMIF(V$34:V$48,\"ov\",J$34:J$48)","v":0},null,"vastlegging standaardwaarde?",null,null,null,null,"5875 - 6124 ",{"$f":"AE56+250","v":6124},0,83,84.5,86,87.5,89.5,91,92.5,94.5,96,97.5,99.5,101,102.5,104,106,107.5,109,111,112.5,114,115.5,117.5,119,120.5,122.5,124,125.5,127.5,129,34.799999999999997,12.9]
["kg melk/koe/dag",null,null,null,{"$f":"E54/(E55+E56)/7","v":24.342105263157894},"  (gem. incl droge koeien)",null,null,null,null,"RE",null,{"$f":"O49/J49","v":155.79467537551562}," gr/kg ds",null,"Onder de staart",null,{"$f":"R55-R56-R57","v":120.53555174652378},{"$f":"S55-S56-S57","v":17.298444547682113},{"$f":"S58*2.291","v":39.630736458739719},null,"kv",{"$f":"SUMIF(V$34:V$48,\"kv\",J$34:J$48)","v":3.8565217391304349},null,null,null,null,null,null,"6125 - 6374 ",6374,0,85,86.5,88,90,91.5,93,95,96.5,98,100,101.5,103,104.5,106.5,108,109.5,111.5,113,114.5,116,118,119.5,121,123,124.5,126,128,129.5,131,35.5,13.1]
["% vet",null,null,null,{"$f":"I75","v":4.5},null,null,null,null,null,"P",null,{"$f":"R49/J49","v":3.7066601517854383}," gr/kg ds",null,"Vervluchtiging",null,{"$f":"R58*0.1175","v":14.162927330216544},null,null,null,null,null,null,null,null,null,null,null,"6375 - 6624 ",6624,0,87,89,90.5,92,93.5,95.5,97,98.5,100.5,102,103.5,105,107,108.5,110,112,113.5,115,116.5,118.5,120,121.5,123.5,125,126.5,128.5,130,131.5,133,36.200000000000003,13.4]
["% eiwit",null,null,null,{"$f":"J75","v":3.6999999999999997},null,null,null,null,null,"kg FPCM/kg ds",null,{"$f":"M54/J49","v":1.3801518087987361},null,null,null,"Gemeten netto excretie",{"$f":"(R58-R59)","v":106.37262441630723},{"$f":"S58","v":17.298444547682113},{"$f":"T58","v":39.630736458739719},null,"som",{"$f":"SUM(W54:W58)","v":19.017036240586588},null,null,null,null,null,null,"6625 – 6874",6874,0,89.5,91,92.5,94,96,97.5,99,101,102.5,104,105.5,107.5,109,110.5,112.5,114,115.5,117,119,120.5,122,124,125.5,127,129,130.5,132,133.5,135.5,36.9,13.6]
["melkureum",null,null,null,{"$f":"K75","v":18},null,"ureum in mg/100 gram melk",null,null,null,"methaanemissie",null,{"$f":"(SUM(W96:AB96)*25/1000)/M54*100","v":{"$error":"#VALUE!"}},null,null,null,"Berekende excretie (melk en ureum)",{"$f":"AE82","v":117},{"$f":"T61*0.436","v":18.966000000000001},{"$f":"AG82","v":43.5},null,null,null,null,null,null,null,null,null,"6875 – 7124",7124,0,91.5,93,94.5,96.5,98,99.5,101.5,103,104.5,106,108,109.5,111,113,114.5,116,117.5,119.5,121,122.5,124.5,126,127.5,129.5,131,132.5,134,136,137.5,37.700000000000003,13.9]
["kg melk/koe/jaar",null,null,null,{"$f":"E58*365","v":8884.8684210526317},null,null,null,null,null,"(kg CO2/100 kg FPCM)",null,null,null,null,null,"Afwijking gemeten van berekend (%)",{"$f":"((R60-R61)/R61)*100","v":-9.0832269946092037},null,{"$f":"((T60-T61)/T61)*100","v":-8.8948587155408774},null,null,null,null,"ureum?",null,null,null,null,"7125 – 7374",7374,0,93.5,95,97,98.5,100,102,103.5,105,106.5,108.5,110,111.5,113.5,115,116.5,118.5,120,121.5,123,125,126.5,128,130,131.5,133,134.5,136.5,138,139.5,38.4,14.1]
[null,null,null,null,null,null,"N in ureum/ton melk",null,{"$f":"E61/1000*10*(28/60)","v":8.3999999999999991E-2},null,null,null,null,null,null,null,null,null,null,null,null,null,null,null,null,null,null,null,null,"7375 – 7624",7624,0,95.5,97.5,99,100.5,102.5,104,105.5,107,109,110.5,112,114,115.5,117,119,120.5,122,123.5,125.5,127,128.5,130.5,132,133.5,135,137,138.5,140,142,39.1,14.4]
["Berekening melkproductie",null,null,null,null,null,null,null,null,null,null,null,null,null,null,"Excretie per ton melk",null,{"$f":"R60/E62*1000","v":11.972335365626583},{"$f":"S60/E62*1000","v":1.9469556247668871},{"$f":"T60/E62*1000","v":4.460475336340938},null,null,null,null,null,null,null,null,null,"7625 – 7874",7874,0,98,99.5,101,103,104.5,106,107.5,109.5,111,112.5,114.5,116,117.5,119.5,121,122.5,124,126,127.5,129,131,132.5,134,135.5,137.5,139,140.5,142.5,144,39.799999999999997,14.6]
[null,null,null,null,null,"aantal melkmalen",null,null,null,null,null,null,null,null,null,null,null,null,null,null,null,null,null,null,null,null,null,null,null,"7875 – 8124",8124,0,100,101.5,103.5,105,106.5,108,110,111.5,113,115,116.5,118,120,121.5,123,124.5,126.5,128,129.5,131.5,133,134.5,136,138,139.5,141,143,144.5,146,40.6,14.9]
["meetperiode",null,null,null,"datum","tank","in ber.","kg melk","vet","eiwit","ureum","kg melk","kg vet","kg eiwit","ureum",null,null,null,null,null,null,null,null,null,null,null,null,null,null,"8125 – 8374",8374,0,102,104,105.5,107,108.5,110.5,112,113.5,115.5,117,118.5,120.5,122,123.5,125,127,128.5,130,132,133.5,135,136.5,138.5,140,141.5,143.5,145,146.5,148.5,41.3,15.1]
["begindatum",null,"2016-01-11",null,"2013-01-12",6,6,{"$f":"1850*7","v":12950},450,370,18,{"$f":"IF(F67>0,(H67/F67)*G67,0)","v":12950},{"$f":"IF($F67>0,($L67/10000*I67),0)","v":582.75},479.15,{"$f":"IF($F67>0,($L67*K67),0)","v":233100},null,null,13.22,1.96,4.4800000000000004,null,null,null,null,null,null,null,null,null,"8375 – 8624",8624,0,104.5,106,107.5,109,111,112.5,114,116,117.5,119,121,122.5,124,125.5,127.5,129,130.5,132.5,134,135.5,137,139,140.5,142,144,145.5,147,149,150.5,42,15.4]
["einddatum",null,"2016-01-17",null,{"$f":"E67+3","v":"2013-01-15"},6,6,0,447,360,20,0,0,0,0,null,null,null,null,null,null,null," b",null,null,null,null,null,null,"8625 – 8874",8874,0,106.5,108,109.5,111.5,113,114.5,116.5,118,119.5,121.5,123,124.5,126,128,129.5,131,133,134.5,136,137.5,139.5,141,142.5,144.5,146,147.5,149.5,151,152.5,42.7,15.6]
[null,null,null,null,{"$f":"E68+3","v":"2013-01-18"},6,4,0,453,360,17,0,0,0,0,null,null,null,null,null,null,null,null,null,null,null,null,null,null,"8875 – 9124",9124,1,108.5,110,112,113.5,115,117,118.5,120,122,123.5,125,126.5,128.5,130,131.5,133.5,135,136.5,138,140,141.5,143,145,146.5,148,150,151.5,153,154.5,43.5,15.9]
[null,null,null,null,{"$f":"E69+3","v":"2013-01-21"},null,null,null,null,null,null,0,0,0,0,null,null,null,null,null,null,null,null,null,null,null,null,null,null,"9125 – 9374",9374,false,111,112.5,114,115.5,117.5,119,120.5,122.5,124,125.5,127,129,130.5,132,134,135.5,137,138.5,140.5,142,143.5,145.5,147,148.5,150.5,152,153.5,155,157,44.2,16.100000000000001]
[null,null,null,null,{"$f":"E70+3","v":"2013-01-24"},null,null,null,null,null,null,0,0,0,0,null,null,null,null,null,null,null,null,null,null,null,null,null,null,"9375 – 9624",9624,false,113,114.5,116,118,119.5,121,123,124.5,126,127.5,129.5,131,132.5,134.5,136,137.5,139,141,142.5,144,146,147.5,149,151,152.5,154,155.5,157.5,159,44.9,16.399999999999999]
[null,null,null,null,{"$f":"E71+3","v":"2013-01-27"},null,null,null,null,null,null,0,0,0,0,null,null,null,null,null,null,null,null,null,null,null,null,null,null,"9625 – 9874",9874,false,115,116.5,118.5,120,121.5,123.5,125,126.5,128,130,131.5,133,135,136.5,138,139.5,141.5,143,144.5,146.5,148,149.5,151.5,153,154.5,156,158,159.5,161,45.6,16.600000000000001]
[null,null,null,null,null,null,null,null,null,null,null,null,null,null,null,null,null,null,null,null,null,null,null,null,null,null,null,null,null,"9875 – 10124",10124,false,117,119,120.5,122,124,125.5,127,128.5,130.5,132,133.5,135.5,137,138.5,140,142,143.5,145,147,148.5,150,152,153.5,155,156.5,158.5,160,161.5,163.5,46.4,16.899999999999999]
["lengte (dgn)",null,{"$f":"C68-C67+1","v":7},null,null,null,{"$f":"SUM(G67:G73)","v":16},null,null,null,null,{"$f":"SUM(L67:L73)","v":12950},{"$f":"SUM(M67:M73)","v":582.75},{"$f":"SUM(N67:N73)","v":479.15},{"$f":"SUM(O67:O73)","v":233100},null,null,null,null,null,null,null,null,null,null,null,null,null,null,"10125 – 10374",10374,false,119.5,121,122.5,124.5,126,127.5,129,131,132.5,134,136,137.5,139,141,142.5,144,145.5,147.5,149,150.5,152.5,154,155.5,157,159,160.5,162,164,165.5,47.1,17.100000000000001]
[null,null,null,null,null,null,null,{"$f":"(L74+H19)/(E55+E56)/C74","v":24.342105263157894},{"$f":"IF(L74>0,(M74/$L74*100),0)","v":4.5},{"$f":"IF(L74>0,(N74/$L74*100),0)","v":3.6999999999999997},{"$f":"IF(L74>0,(O74/$L74),0)","v":18},null,null,null,null,null,null,null,null,null,null,null,null,null,null,null,null,null,null,"10375 – 10624",10624,false,121.5,123,125,126.5,128,129.5,131.5,133,134.5,136.5,138,139.5,141.5,143,144.5,146,148,149.5,151,153,154.5,156,157.5,159.5,161,162.5,164.5,166,167.5,47.8,17.399999999999999]
[null,null,null,null,null,null,null,null,null,null,null,null,null,null,null,null,null,null,null,null,null,null,null,null,null,null,null,null,null,"> 10624",null,false,126,127.5,129,130.5,132.5,134,135.5,137.5,139,140.5,142.5,144,145.5,147,149,150.5,152,154,155.5,157,158.5,160.5,162,163.5,165.5,167,168.5,170.5,172,49.3,17.899999999999999]
[{"$f":"IF(A30>0,A30,\" \")","v":"Bedrijf:"},null,{"$f":"IF(C30>0,C30,\" \")","v":"Voorbeeld"},null,null,null,null,null,{"$f":"IF(I30>0,I30,\" \")","v":"Week:"},"2016_01",null,null,{"$f":"IF(M30>0,M30,\" \")","v":"Diergroep: "},{"$f":"IF(N30>0,N30,\" \")","v":"Melkgevende koeien"},null,null,null,null,{"$f":"IF(S30>0,S30,\" \")","v":"Aantal dieren in de groep:"},{"$f":"IF(T30>0,T30,\" \")","v":67},{"$f":"IF(U30>0,U30,\" \")","v":" "}]
[null,null,null,null,null,null,null,null,"Datum:","2016-01-11",{"$f":"IF(K31>0,K31,\" \")","v":"t/m"},{"$f":"IF(L31>0,L31,\" \")","v":"2016-01-17"},null,null,null,null,null,null,null,null,null,null,null,null,null,null,null,null,null,null,"N",null,"P2O5","m³ per 7 maanden",null,null,null,null,null,null,null,null,null,null,null,null,null,null,null,null,null,null,null,null,null,null,null,null,null,null,null,"pink",9.5]
[{"$f":"IF(A32>0,A32,\" \")","v":"Voeropname"},null,null,null,null,null,null,null,"kg","kg ds/","              analyse bij R en B in gr/kg ds; bij K in gr/kg product",null,null,null,null,null,null,null,null,null,null,null,"Methaanemissie",null,null,null,null,null,null,"pink",{"$f":"66.9","v":66.900000000000006},null,{"$f":"21.9","v":21.9},9.5,null,null,null,null,null,null,null,null,null,null,null,null,null,null,null,null,null,null,null,null,null,null,null,null,null,null,null,"kalf",4.4000000000000004]
["Voercode",null,null,{"$f":"IF(D33>0,D33,\" \")","v":"Omschrijving"},null,null,null,{"$f":"IF(H33>0,H33,\" \")","v":"R, B of K"},"gevoerd","dier/dag","ds","VEM","DVE","OEB","RE","RC","RAS","P","N-tot",null,{"$f":"IF(U33>0,U33,\" \")","v":"Opmerkingen"}," ","wg","gk","mk","ov","ov","kv",null,"kalf",{"$f":"32.3","v":32.299999999999997},null,{"$f":"9.6","v":9.6},4.4000000000000004]
["Versg gras",null,null,"weidegars",null,null,null,"R",540.21665084221809,0.23036957391992244,200,940,50,{"$f":"IF(N34>0,N34,IF(N34<0,N34,IF(N34=0,\" \",\" \")))","v":30},200,220,90,4.5,32," "," ","wg",{"$f":"IF($V81=W$80,J81*(L81*-0.026+45.6),0)","v":4.8746201841455594},{"$f":"IF(V81=X$80,IF(O81<175,(J81*((0.01-(0.01+0.0025)/75*(O81-100))*L81+(21.883-13.2)/75*(O81-100)+13.2)),(J81*((-0.0025-(0.007-0.0025)/75*(O81-175))*L81+(25.1-21.883)/75*(O81-175)+21.883))),0)","v":0},{"$f":"IF($V81=Y$80,J81*16.4,0)","v":0},0,{"$f":"IF(Z81>0,(J81*Z81),0)","v":0},{"$f":"IF($V81=AB$80,J81*(-0.0494*M81+27.876),0)","v":0}]
["GK_2016_01_A",null,null,"graskuil 2016",null,null,null,"R",10195.652173913042,10.804347826086955,497,969,71,36,160,245,92,3.6,25.6," "," ","gk",{"$f":"IF($V82=W$80,J82*(L82*-0.026+45.6),0)","v":0},{"$f":"IF(V82=X$80,IF(O82<175,(J82*((0.01-(0.01+0.0025)/75*(O82-100))*L82+(21.883-13.2)/75*(O82-100)+13.2)),(J82*((-0.0025-(0.007-0.0025)/75*(O82-175))*L82+(25.1-21.883)/75*(O82-175)+21.883))),0)","v":217.66871304347819},{"$f":"IF($V82=Y$80,J82*16.4,0)","v":0},0,{"$f":"IF(Z82>0,(J82*Z82),0)","v":0},{"$f":"IF($V82=AB$80,J82*(-0.0494*M82+27.876),0)","v":0},null,"koe",{"$f":"(VLOOKUP(1,AF55:BJ76,AE83-11,TRUE))","v":117},null,{"$f":"VLOOKUP(1,AF55:BJ76,31,TRUE)","v":43.5},{"$f":"VLOOKUP(1,AF55:BM76,32,TRUE)","v":15.9}]
["GK_2016_01_B",null,null,"graskuil plaat 2 2015",null,null,null,"R"," "," ",478,852,49,18,114,243,131,4.2,18.239999999999998," "," ","gk",0,{"$f":"IF(V83=X$80,IF(O83<175,(J83*((0.01-(0.01+0.0025)/75*(O83-100))*L83+(21.883-13.2)/75*(O83-100)+13.2)),(J83*((-0.0025-(0.007-0.0025)/75*(O83-175))*L83+(25.1-21.883)/75*(O83-175)+21.883))),0)","v":{"$error":"#VALUE!"}},0,0,0,0,null,"ureum in berekening",{"$f":"IF(AE85<14,13,IF(AE85>40,41,MROUND(AE85,1)))","v":18}]
["GH_2016",null,null,"hooi 2e snede",null,null,null,"R",67.971014492753625,0.12579710144927536,868,797,68,-28,106,261,91,3.3,16.96," "," ","gk",0,2.6502480463768117,0,0,0,0,null,"melk",{"$f":"E62","v":8884.8684210526317}]
["MK_2016_01",null,null,"maiskuil oost 2016",null,null,null,"R",5437.68115942029,4,345,1016,55,-48,66,166,35,2.2999999999999998,10.56," "," ","mk",0,0,65.599999999999994,0,0,0,null,"ureum",{"$f":"E61","v":18}]
[" ",null,null," ",null,null,null," "," "," "," "," "," "," "," "," "," "," "," "," "," "," ",0,0,0,0,0,0]
["Bierbostel",null,null,"bierbostel",null,null,null,"B",2330.4347826086955,1.0881987577639749,219,947,137,55,247,178,42,6.2,39.5," "," ","b",0,0,0,0,0,0]
["Sodagrain",null,null,"sodagrain",null,null,null,"B",951.59420289855063,1.5217391304347823,750,1160,100,-43,109,24,15,3,17.440000000000001," "," ","b",0,0,0,0,0,0]
[" ",null,null," ",null,null,null," "," "," "," "," "," "," "," "," "," "," "," "," "," "," ",0,0,0,0,0,0]
["KV_2016_01_A",null,null,"snijmaiskernbrok",null,null,null,"K",407.82608695652175,0.77130434782608703,887,950,180,{"$f":"IF(N43>0,N43,IF(N43<0,N43,0))","v":75},315,88,101,6.6,50.4," "," ","kv",0,0,0,0,0,14.642441739130438]
["KV_2016_01_B",null,null,"eiwit",null,null,null,"K",1631.304347826087,3.0852173913043481,887,950,115,{"$f":"IF(N44>0,N44,IF(N44<0,N44,0))","v":5},175,99,73,3.9,28," "," ","kv",0,0,0,0,0,68.476400000000012]
["KV_2016_01_C",null,null,"opti-brok",null,null,null," "," "," ",892,890,139,{"$f":"IF(N45>0,N45,IF(N45<0,N45,IF(N45=0,\" \",\" \")))","v":105},276,86,148,4.7,44.16," "," "," ",0,0,0,0,0,0]
[" ",null,null," ",null,null,null," ",{"$f":"IF(I46>0,I46,\" \")","v":" "}," "," "," "," ",{"$f":"IF(N46>0,N46,IF(N46<0,N46,IF(N46=0,\" \",\" \")))","v":" "},{"$f":"IF(O46>0,O46,\" \")","v":" "}," "," "," "," "," "," "," ",0,0,0,0,0,0]
[" ",null,null," ",null,null,null," "," "," "," "," "," ",{"$f":"IF(N47>0,N47,IF(N47<0,N47,IF(N47=0,\" \",\" \")))","v":" "}," "," "," "," "," "," "," "," ",0,0,0,0,0,0]
[" ",null,null," ",null,null,null," "," "," "," "," "," ",{"$f":"IF(N48>0,N48,IF(N48<0,N48,IF(N48=0,\" \",\" \")))","v":" "}," "," "," "," "," "," "," "," ",0,0,0,0,0,0]
["Opname totaal (dier/dag)",null,null,null,null,null,null,null,null,{"$f":"IF(J49>0,J49,\" \")","v":21.626974128785346},{"$f":"IF(K49>0,K49,\" \")","v":" "},21776.397130333586,1864.9602592342981,{"$f":"IF(N49>0,N49,\" \")","v":277.37013483664521},3369.3674137487878," "," ",80.163843206863234,539.0770222246507," "," "," ",{"$f":"SUM(W81:W95)","v":4.8746201841455594},{"$f":"SUM(X81:X95)","v":{"$error":"#VALUE!"}},{"$f":"SUM(Y81:Y95)","v":65.599999999999994},null,{"$f":"SUM(AA81:AA95)","v":0},{"$f":"SUM(AB81:AB95)","v":83.118841739130445}]
["Behoefte",null,null,null,null,null,null,null,null,{"$f":"IF(J50>0,J50,\" \")","v":" "}," ",19796.724663939625,1763.743570394297,{"$f":"IF(N50>0,N50,\" \")","v":" "},67.237240964412067," "," ",61.683365671641781," "," "," "," "]
["Dekking (%)",null,null,null,null,null,null,null,null,{"$f":"IF(J51>0,J51,\" \")","v":" "}," ",109.99999999999999,105.73874176150071,{"$f":"IF(N51>0,N51,\" \")","v":" "}," "," "," ",129.96022887855753," "," ",{"$f":"IF(U51>0,U51,\" \")","v":" "},{"$f":"IF(V53>0,V53,\" \")","v":" "}]
[null,null,null,null,null,null,null,null,null,null,null,null,null,null,null,null,null,null,null,null,null,"wg"]
[{"$f":"IF(A53>0,A53,\" \")","v":"Melkproductie"},null,null,null,null,null,null,null,null,null,{"$f":"IF(K53>0,K53,\" \")","v":"Kengetallen"},null,null,null,{"$f":"IF(O53>0,O53,\" \")","v":" "},"Excretie (kg/dier/dag)",null,null,null,null,null,"gk"]
["kg melk per week",null,null,null,{"$f":"IF(E54>0,E54,\" \")","v":12950},"  (inclusief niet in de tank :",null,null,{"$f":"IF(I54>0,I54,0)","v":0},{"$f":"IF(J54>0,J54,\" \")","v":"kg)"},"FPCM",null,{"$f":"IF(M54>0,M54,\" \")","v":29.848507462686563}," kg"," "," ",null,{"$f":"IF(R54>0,R54,\" \")","v":"N"},"P","P2O5"," ","mk"]
["aantal melkgevende koeien",null,null,null,67," ",null,null,null," ","N-efficiëntie",null,29.704835407229709," %"," ","Opname",null,173.46221813820833,25.794826126629481,59.09594665610814," ","ov"]
["aantal droogstaande koeien",null,null,null,9," ",null,null,null," ","P-efficiëntie",null,30.99994370844874," %"," ","Productie",null,51.526666391684543,7.9963815789473687,18.319710197368423," ","kv"]
["kg melk/koe/dag",null,null,null,27.611940298507459,"  (gem. melkgevende koeien)",null,null,null," ","KV / 100 kg FPCM",null,14.566309864544191," kg"," ","Vastlegging",null,1.4,0.5,1.1455," "," "]
["kg melk/koe/dag",null,null,null,24.342105263157894,"  (gem. incl droge koeien)",null,null,null," ","RE",{"$f":"IF(L58>0,L58,\" \")","v":" "},155.79467537551562," gr/kg ds"," ","Onder de staart",null,120.53555174652378,17.298444547682113,39.630736458739719," ","som"]
["% vet",null,null,null,4.5," ",null,null,null," ","P",{"$f":"IF(L59>0,L59,\" \")","v":" "},3.7066601517854383," gr/kg ds"," ","Vervluchtiging",null,14.162927330216544," "," "," "," "]
["% eiwit",null,null,null,3.6999999999999997," ",null,null,null," ","kg FPCM/kg ds",null,1.3801518087987361,null,null,null,"Gemeten netto excretie",106.37262441630723,17.298444547682113,39.630736458739719," "," "]
["melkureum",null,null,null,18," ",null,null,null," ","methaanemissie",null,{"$error":"#VALUE!"},null,null,null,"Berekende excretie (melk en ureum)",117,18.966000000000001,43.5," "," "]
["kg melk/koe/jaar",null,null,{"$f":"IF(D62>0,D62,\" \")","v":" "},8884.8684210526317," "," "," "," "," ","(kg CO2/100 kg FPCM)",null,null,null,null,null,"Afwijking gemeten van berekend (%)",{"$f":"R62","v":-9.0832269946092037},{"$f":"IF(S62>0,S62,\" \")","v":" "},{"$f":"T62","v":-8.8948587155408774},{"$f":"IF(U62>0,U62,\" \")","v":" "}]

{"sheet":"Dashboard","index":2,"n_rows":17,"n_cols":17,"rows_kept":17,"cut":false,"hidden":false,"merged":[]}
[]
[]
[]
[]
["Maand","Excretie N/ton melk","Streefwaarde","Exretie fosfaat/ton melk","Streefwaarde","Re gehalte rantsoen","Streefwaarde","P gehalte rantsoen","Streefwaarde"]
["Januari",{"$f":"'Jan voer'!M18","v":9.3088584838056878},{"$f":"$M$6","v":0},{"$f":"'Jan voer'!M19","v":3.4810878089741428},{"$f":"$M$7","v":0},{"$f":"'Jan voer'!M16","v":147.88901630233715},{"$f":"$Q$8","v":155},{"$f":"'Jan voer'!M17","v":3.5424301453100542},{"$f":"$Q$9","v":3.5},null,null,{"$f":"B5","v":"Excretie N/ton melk"}]
["Februari",{"$f":"'Feb voer'!M18","v":10.370131092982628},{"$f":"$M$6","v":0},{"$f":"'Feb voer'!M19","v":4.1821317362707049},{"$f":"$M$7","v":0},{"$f":"'Feb voer'!M16","v":157.4080169665439},155,{"$f":"'Feb voer'!M17","v":3.9939087951287822},3.5,null,null,{"$f":"D5","v":"Exretie fosfaat/ton melk"},null,null,null,"Streefwaardes","waarde"]
["Maart",{"$f":"'Maart voer'!M18","v":10.44168609878748},0,{"$f":"'Maart voer'!M19","v":4.4467543808918144},0,{"$f":"'Maart voer'!M16","v":156.30717581778711},155,{"$f":"'Maart voer'!M17","v":4.1416250607354543},3.5,null,null,null,null,null,null,{"$f":"F5","v":"Re gehalte rantsoen"},155]
["April",{"$f":"'April voer'!M18","v":10.078825650751861},0,{"$f":"'April voer'!M19","v":3.9991876227294338},0,{"$f":"'April voer'!M16","v":151.28555941922468},155,{"$f":"'April voer'!M17","v":3.7994757514445392},3.5,null,null,null,null,null,null,{"$f":"H5","v":"P gehalte rantsoen"},3.5]
["Mei",{"$f":"'Mei voer'!M18","v":10.476308178976252},0,{"$f":"'Mei voer'!M19","v":3.8910029970065403},0,{"$f":"'Mei voer'!M16","v":154.20115268135592},155,{"$f":"'Mei voer'!M17","v":3.6840199694848619},3.5]
["Juni",{"$f":"'Juni voer'!M18","v":11.031011472777244},0,{"$f":"'Juni voer'!M19","v":4.238300087507203},0,{"$f":"'Juni voer'!M16","v":152.0573982533823},155,{"$f":"'Juni voer'!M17","v":3.7385224756257287},3.5]
["Juli",{"$f":"'Juli voer'!M18","v":11.435907282517627},0,{"$f":"'Juli voer'!M19","v":4.2884369152299353},0,{"$f":"'Juli voer'!M16","v":153.77372442830011},155,{"$f":"'Juli voer'!M17","v":3.7485596877889029},3.5]
["Augustus",{"$f":"'Aug voer'!M18","v":12.51151691842562},0,{"$f":"'Aug voer'!M19","v":4.6800714574374611},0,{"$f":"'Aug voer'!M16","v":160.07890434233684},155,{"$f":"'Aug voer'!M17","v":3.8609379403293511},3.5]
["September",{"$f":"'Sep voer'!M18","v":12.741282568164705},0,{"$f":"'Sep voer'!M19","v":4.5015258686517639},0,{"$f":"'Sep voer'!M16","v":166.60582860085077},155,{"$f":"'Sep voer'!M17","v":3.831090514391855},3.5]
["Oktober",{"$f":"'Okt voer'!M18","v":12.308372092624422},0,{"$f":"'Okt voer'!M19","v":4.3152577881426435},0,{"$f":"'Okt voer'!M16","v":164.09908228715241},155,{"$f":"'Okt voer'!M17","v":3.745822491523338},3.5]
["November",{"$f":"'Nov voer'!M18","v":11.392457371628618},0,{"$f":"'Nov voer'!M19","v":3.7350142423940289},0,{"$f":"'Nov voer'!M16","v":157.18654633420169},155,{"$f":"'Nov voer'!M17","v":3.3991936484307153},3.5]
["December",{"$f":"'Dec voer'!M18","v":11.147981219012532},0,{"$f":"'Dec voer'!M19","v":3.6172039709981281},0,{"$f":"'Dec voer'!M16","v":158.82153088084047},155,{"$f":"'Dec voer'!M17","v":3.4347269272561416},3.5]

{"sheet":"Voedermiddelen","index":3,"n_rows":75,"n_cols":23,"rows_kept":75,"cut":false,"hidden":false,"merged":[]}
["Vul de voedermiddelen in met de bijbehorende voederwaardes die u aan het melkvee voert"]
["Kuilgras",null,null,"Gehaltes per kg droge stof"]
["Naam","naam","ds","VEM","DVE","OEB","RE","RC","RAS","P","N-tot"]
["Gkuil 1e snede 2016","Graskuil 1e snede 2016",0.497,969,71,36,170,10,90,3.6,{"$f":"G4/6.25","v":27.2}]
["Gkuil 2 2e snede 2015","graskuil plaat 2 2015",0.497,939,62,41,166,248,97,4.4000000000000004,{"$f":"G5/6.25","v":26.56}]
["2017 1e 2e snede",null,0.46500000000000002,936,60,57,180,null,null,3.6,28.8]
["Gkuil balen 2016 2e snede",null,0.86799999999999999,797,68,-28,106,null,null,3.3,16.96,null,null,null,null,null,null,null,null," "," "," "]
["Gkuil 5",null,null,null,null,null,null,null,null,null,0,null,null,null,null,null,null,null,null," "," "," "]
["Gkuil 6",null,null,null,null,null,null,null,null,null,0,null,null,null,null,null,null,null,null," "," "," "]
["Gkuil 7",null,null,null,null,null,null,null,null,null,0,null,null,null,null,null,null,null,null," "," "," "]
["Gkuil 8",null,null,null,null,null,null,null,null,null,0]
["Gkuil 9",null,null,null,null,null,null,null,null,null,0]
["Gkuil 10",null,null,null,null,null,null,null,null,null,0]
[]
["Snijmais",null,null,"Gehaltes per kg droge stof"]
["Naam","naam","ds","VEM","DVE","OEB","RE","RC","RAS","P","N-tot"]
["Mkuil 1","maiskuil oost 2016",0.31979999999999997,1002.2,50,-35,70,168.4,36.4,3.0799999999999996,{"$f":"G17/6.25","v":11.2}]
["silo 2 links",null,0.371,964,49,-36,72,null,null,2.1,11.52]
["Mkuil 3",null,null,null,null,null,null,null,null,null,0]
["Mkuil 4",null,null,null,null,null,null,null,null,null,0]
["Mkuil 5",null,null,null,null,null,null,null,null,null,0]
["Mkuil 6",null,null,null,null,null,null,null,null,null,0]
["Mkuil 7",null,null,null,null,null,null,null,null,null,0]
["Mkuil 8",null,null,null,null,null,null,null,null,null,0]
["Mkuil 9",null,null,null,null,null,null,null,null,null,0]
["Mkuil 10",null,null,null,null,null,null,null,null,null,0]
[]
["Overig ruwvoer",null,null,"Gehaltes per kg droge stof"]
["Naam","naam","ds","VEM","DVE","OEB","RE","RC","RAS","P","N-tot"]
["Overig 1","Hooi",0.86799999999999999,797,68,-28,106,261,91,3.3,{"$f":"G30/6.25","v":16.96}]
["Mais en bierbostel","Tarwestro",0.34,{"$f":"(D43+D18*4)/5","v":960.6},{"$f":"(E43+E18*4)/5","v":66.599999999999994},-17.8,107,35.6,8.4,2.72,17.12]
["Overig 3",null,null,null,null,null,null,null,null,null,0]
["Overig 4",null,null,null,null,null,null,null,null,null,0]
["Overig 5",null,null,null,null,null,null,null,null,null,0]
["Overig 6",null,null,null,null,null,null,null,null,null,0]
["Overig 7",null,null,null,null,null,null,null,null,null,0]
["Overig 8",null,null,null,null,null,null,null,null,null,0]
["Overig 9",null,null,null,null,null,null,null,null,null,0]
["Overig 10",null,null,null,null,null,null,null,null,null,0]
[]
["Bijproducten",null,null,"Gehaltes per kg droge stof"]
["Naam","naam","ds","VEM","DVE","OEB","RE","RC","RAS","P","N-tot"]
["Bierbostel","Bierbostel",0.219,947,137,55,247,178,42,5.2,{"$f":"G43/6.25","v":39.520000000000003}]
["sodagrain","Sodagrain",0.8,1036,70,-43,88,24,15,2.2999999999999998,14.08]
["soja raap",null,1,942,100,40,374,null,null,7.2,59.84]
["BP 4",null,null,null,null,null,null,null,null,null,0]
["BP 5",null,null,null,null,null,null,null,null,null,0]
["BP 6",null,null,null,null,null,null,null,null,null,0]
["BP 7",null,null,null,null,null,null,null,null,null,0]
["BP 8",null,null,null,null,null,null,null,null,null,0]
["BP 9",null,null,null,null,null,null,null,null,null,0]
["BP 10",null,null,null,null,null,null,null,null,null,0]
[]
["Krachtvoer",null,"Let op voer de gehaltes per kilogram product in!!!!"]
["Naam","naam","ds","VEM","DVE","OEB","RE","RC","RAS","P","N-tot",null,null,null,null,null,"VEM","DVE","OEB","RE","RC","RAS","P"]
["KV 1","snijmaiskernbrok",0.9,900,120,60,170,null,null,4,{"$f":"T56/6.25","v":30.222222222222221},null,null,null,null,0.9,{"$f":"D56/$C56","v":1000},{"$f":"E56/$C56","v":133.33333333333334},66.666666666666671,188.88888888888889,0,0,{"$f":"J56/$C56","v":4.4444444444444446}]
["KV 2","eiwitspeciaal",0.9,940,110,50,150,null,null,3.8,26.666666666666664,null,null,null,null,0.9,{"$f":"D57/$C57","v":1044.4444444444443},{"$f":"E57/$C57","v":122.22222222222221},{"$f":"F57/$C57","v":55.555555555555557},{"$f":"G57/$C57","v":166.66666666666666},{"$f":"H57/$C57","v":0},{"$f":"I57/$C57","v":0},{"$f":"J57/$C57","v":4.2222222222222223}]
["Protitopbrok",null,0.9,1020,128,11,191,null,null,4.2,33.955555555555556,null,null,null,null,null,1133.3333333333333,142.22222222222223,12.222222222222221,212.22222222222223,0,0,4.666666666666667]
["Pens stabielbrok EBZ",null,0.9,960,115,14,177,null,null,4,31.466666666666665,null,null,null,null,null,1066.6666666666667,127.77777777777777,15.555555555555555,196.66666666666666,0,0,4.4444444444444446]
["soja raap",null,1,942,100,40,374,null,null,7.2,59.84,null,null,null,null,null,942,100,40,374,0,0,7.2]
["snijmaiskernbrok",null,0.9,940,130,70,317,null,null,6.6,56.355555555555554,null,null,null,null,null,1044.4444444444443,144.44444444444443,77.777777777777771,352.22222222222223,0,0,7.333333333333333]
["Melkbrok BM",null,0.9,960,null,null,214,null,null,4,38.044444444444444,null,null,null,null,null,1066.6666666666667,0,0,237.77777777777777,0,0,4.4444444444444446]
["KV 8",null,null,null,null,null,null,null,null,null,{"$error":"#DIV/0!"},null,null,null,null,null,{"$error":"#DIV/0!"},{"$error":"#DIV/0!"},{"$error":"#DIV/0!"},{"$error":"#DIV/0!"},{"$error":"#DIV/0!"},{"$error":"#DIV/0!"},{"$error":"#DIV/0!"}]
["KV 9",null,null,null,null,null,null,null,null,null,{"$error":"#DIV/0!"},null,null,null,null,null,{"$error":"#DIV/0!"},{"$error":"#DIV/0!"},{"$error":"#DIV/0!"},{"$error":"#DIV/0!"},{"$error":"#DIV/0!"},{"$error":"#DIV/0!"},{"$error":"#DIV/0!"}]
["KV 10",null,null,null,null,null,null,null,null,null,{"$error":"#DIV/0!"},null,null,null,null,null,{"$error":"#DIV/0!"},{"$error":"#DIV/0!"},{"$error":"#DIV/0!"},{"$error":"#DIV/0!"},{"$error":"#DIV/0!"},{"$error":"#DIV/0!"},{"$error":"#DIV/0!"}]
["KV 11",null,null,null,null,null,null,null,null,null,{"$error":"#DIV/0!"},null,null,null,null,null,{"$error":"#DIV/0!"},{"$error":"#DIV/0!"},{"$error":"#DIV/0!"},{"$error":"#DIV/0!"},{"$error":"#DIV/0!"},{"$error":"#DIV/0!"},{"$error":"#DIV/0!"}]
["KV 12",null,null,null,null,null,null,null,null,null,{"$error":"#DIV/0!"},null,null,null,null,null,{"$error":"#DIV/0!"},{"$error":"#DIV/0!"},{"$error":"#DIV/0!"},{"$error":"#DIV/0!"},{"$error":"#DIV/0!"},{"$error":"#DIV/0!"},{"$error":"#DIV/0!"}]
["KV 13",null,null,null,null,null,null,null,null,null,{"$error":"#DIV/0!"},null,null,null,null,null,{"$error":"#DIV/0!"},{"$error":"#DIV/0!"},{"$error":"#DIV/0!"},{"$error":"#DIV/0!"},{"$error":"#DIV/0!"},{"$error":"#DIV/0!"},{"$error":"#DIV/0!"}]
["KV 14",null,null,null,null,null,null,null,null,null,{"$error":"#DIV/0!"},null,null,null,null,null,{"$error":"#DIV/0!"},{"$error":"#DIV/0!"},{"$error":"#DIV/0!"},{"$error":"#DIV/0!"},{"$error":"#DIV/0!"},{"$error":"#DIV/0!"},{"$error":"#DIV/0!"}]
["KV 15",null,null,null,null,null,null,null,null,null,{"$error":"#DIV/0!"},null,null,null,null,null,{"$error":"#DIV/0!"},{"$error":"#DIV/0!"},{"$error":"#DIV/0!"},{"$error":"#DIV/0!"},{"$error":"#DIV/0!"},{"$error":"#DIV/0!"},{"$error":"#DIV/0!"}]
["KV 16",null,null,null,null,null,null,null,null,null,{"$error":"#DIV/0!"},null,null,null,null,null,{"$error":"#DIV/0!"},{"$error":"#DIV/0!"},{"$error":"#DIV/0!"},{"$error":"#DIV/0!"},{"$error":"#DIV/0!"},{"$error":"#DIV/0!"},{"$error":"#DIV/0!"}]
["KV 17",null,null,null,null,null,null,null,null,null,{"$error":"#DIV/0!"},null,null,null,null,null,{"$error":"#DIV/0!"},{"$error":"#DIV/0!"},{"$error":"#DIV/0!"},{"$error":"#DIV/0!"},{"$error":"#DIV/0!"},{"$error":"#DIV/0!"},{"$error":"#DIV/0!"}]
["KV 18",null,null,null,null,null,null,null,null,null,{"$error":"#DIV/0!"},null,null,null,null,null,{"$error":"#DIV/0!"},{"$error":"#DIV/0!"},{"$error":"#DIV/0!"},{"$error":"#DIV/0!"},{"$error":"#DIV/0!"},{"$error":"#DIV/0!"},{"$error":"#DIV/0!"}]
["KV 19",null,null,null,null,null,null,null,null,null,{"$error":"#DIV/0!"},null,null,null,null,null,{"$error":"#DIV/0!"},{"$error":"#DIV/0!"},{"$error":"#DIV/0!"},{"$error":"#DIV/0!"},{"$error":"#DIV/0!"},{"$error":"#DIV/0!"},{"$error":"#DIV/0!"}]
["KV 20",null,null,null,null,null,null,null,null,null,{"$error":"#DIV/0!"},null,null,null,null,null,{"$error":"#DIV/0!"},{"$error":"#DIV/0!"},{"$error":"#DIV/0!"},{"$error":"#DIV/0!"},{"$error":"#DIV/0!"},{"$error":"#DIV/0!"},{"$error":"#DIV/0!"}]

{"sheet":"Weidegras","index":4,"n_rows":23,"n_cols":11,"rows_kept":23,"cut":false,"hidden":false,"merged":[]}
["Vul indien gewenst uw eigen gehaltes per kg ds in voor het weidegras onder \"eigen invoer\"",null,null,null,null,null,null,null,null,null,"N-tot"]
[]
[]
[]
["Weidegras",null,null,"VEM","DVE","OEB","RE","RC","RAS","P"]
["Maart standaard",null,null,1050,80,35,225,null,4,4]
["April standaard",null,null,1075,80,35,250,null,4,4.2]
["Mei standaard",null,null,1050,80,35,220,null,4,4.2]
["Juni standaard",null,null,950,77,27,180,null,4,4]
["Juli standaard",null,null,950,77,27,180,null,4,4]
["Augustus standaard",null,null,920,81,40,200,null,4,4.4000000000000004]
["September standaard",null,null,920,81,43,225,null,4,4.4000000000000004]
["Oktober standaard",null,null,920,60,46,250,null,4,4.4000000000000004]
["Eigen invoer"]
["April eigen invoer",null,null,1100,80,30,175,null,null,3.7]
["Mei eigen invoer",null,null,1075,80,30,200,null,null,4]
["Juni eigen invoer"]
["Juli eigen invoer"]
["Augustus eigen invoer"]
["September eigen invoer",null,null,940,75,50,215,null,null,4.4000000000000004]
["Oktober eigen invoer",null,null,920,60,43,225,null,null,4.4000000000000004]
["Eigen invoer KLW vorig jaar"," "]
["Eigen invoer overig","Eigen invoer overig","Eigen invoer overig",null,null,null,null,null,"Eigen invoer overig"]

{"sheet":"Jan vee+melk","index":5,"n_rows":29,"n_cols":5,"rows_kept":29,"cut":false,"hidden":false,"merged":[]}
[]
["Melkgevende koeien",null,70,null,70]
["Droge koeien*",null,3,null,3]
["*Het aantal droge koeien dat bij de melkveestapel loopt en dus ook van het ruwvoer mee vreet."]
[]
[null,null,{"$f":"'[1]Jan voer'!B3","v":"januari gerealiseerd"},null,{"$f":"'[1]Jan voer'!G3","v":"januari prognose"}]
["Tankmelk geleverd",null,67020,null,60000]
["Aantal dagen",null,33,null,30]
["Vet%",null,4.5600000000000002E-2,null,4.5199999999999997E-2]
["Eiwit%",null,3.6700000000000003E-2,null,3.5000000000000003E-2]
["Ureum",null,17,null,22]
[]
["Separatie melk kg/dag",null,40,null,30]
[]
["Melk per dag",null,{"$f":"IF(SUM(C7)>0,SUM(C7)/(SUM(C8)),\"\")+C13","v":2070.909090909091},null,{"$f":"IF(SUM(E7)>0,SUM(E7)/(SUM(E8)),\"\")+E13","v":2030}]
["Eiwit",null,{"$f":"C15*MAX(C10)","v":76.00236363636364},null,{"$f":"E15*MAX(E10)","v":71.050000000000011}]
["Vet",null,{"$f":"(C9*C15)","v":94.433454545454552},null,{"$f":"(E9*E15)","v":91.756}]
["N",null,{"$f":"C16/6.38","v":11.912596181248219},null,{"$f":"E16/6.38","v":11.136363636363638}]
[]
["kg melk/koe/dag",null,{"$f":"IF(C7>0,C15/C2,\"\")","v":29.584415584415584},null,{"$f":"IF(E7>0,E15/E2,\"\")","v":29}]
["FCPM/koe/dag",null,{"$f":"(0.337+0.116*MAX(C9)*100+0.06*MAX(C10)*100)*C15/C2","v":32.133408831168829},null,{"$f":"(0.337+0.116*MAX(E9)*100+0.06*MAX(E10)*100)*E15/E2","v":31.068280000000005}]
["Melkproductie incl droge",null,{"$f":"C15/(C2+C3)","v":28.368617683686178},null,{"$f":"E15/(E2+E3)","v":27.80821917808219}]
["Meetmelk 305 dgn",null,{"$f":"C21*305","v":9800.6896935064924},null,{"$f":"E21*305","v":9475.8254000000015}]
["gemiddeld Meetmelk 305 dgn",null,{"$f":"C23","v":9800.6896935064924},null,{"$f":"E23","v":9475.8254000000015}]
[]
["Behoefte"]
["VEM",null,{"$f":"IF('Jan voer'!B4=1,6013+440*C21+0.73*C21*C21,5013+440*C21+0.73*C21*C21)","v":19905.46573878534},null,{"$f":"IF('Jan voer'!G4=1,6013+440*E21+0.73*E21*E21,5013+440*E21+0.73*E21*E21)","v":19387.666956175632}]
["DVE",null,{"$f":"114+(1.396*(C15/C2)*C10*100*10)+0.000195*(((C15/C2)*C10*100*10)*((C15/C2)*C10*100*10))+20","v":1879.5798028197337},null,{"$f":"114+(1.396*(E15/E2)*E10*100*10)+0.000195*(((E15/E2)*E10*100*10)*((E15/E2)*E10*100*10))+20","v":1751.8338749999998}]
["P",null,{"$f":"19+1.43*C21","v":64.950774628571423},null,{"$f":"19+1.43*E21","v":63.427640400000008}]

{"sheet":"Jan voer","index":6,"n_rows":23,"n_cols":14,"rows_kept":23,"cut":false,"hidden":false,"merged":[[21,5,21,6],[7,9,7,12]]}
["Vul alle ","licht en ","donkerblauwe",null,null,"cellen in"]
[]
[null,"januari gerealiseerd",null,null,null,null,"januari prognose",null,null,"Prognose"]
["Weidegang (ja/nee)",2,null,null,null,"Weidegang (ja/nee)",2,null,null,"Drogestof opname uit weidegras kg/koe/dag",null,null,{"$f":"Voeropname!E31","v":0},{"$f":"IF(M4>10,codes!F9,\"\")","v":""}]
["Weidegras","Eigen invoer",null,null,null,"Weidegras","Eigen invoer",null,null,"Uren weidegang per koe/dag",null,null,{"$f":"IF(M4>0.1,IF(M4>2.5,(M4-3)+2,M4/1.5),\"\")","v":""}]
["% restvoer",0.05,null,null,null,"% restvoer",0.05,null,null,"Gewenst ruw eiwit gehalte krachtvoer (g/kg)",null,null,{"$f":"(H20*Voeropname!E2-Voeropname!E6*Voeropname!E2)/(Voeropname!E76/('Jan vee+melk'!E2+'Jan vee+melk'!E3))*0.9","v":186.06382389162576}]
[null,null,null,null,null,null,null,null,null,"Gewenst P gehalte krachtvoer (g/kg)",null,null,{"$f":"(H21*Voeropname!E2-Voeropname!E8*Voeropname!E2)/(Voeropname!E76/('Jan vee+melk'!E3+'Jan vee+melk'!E2))*0.9","v":3.6870072906403961}]
["Wat is er afgelopen maand op stal gevoerd?","Naam","kg product gevoerd/dag",null,null,"Wat wilt u komende maand op stal voeren?","Naam","kg product te voeren/dag",null,"*Dit zijn de gewenste gehaltes in het krachtvoer om bij het ingevoerde stalrantsoen en gehaltes in het weidegras het gewenste ruw eiwit en P gehalte in het totale rantsoen te realiseren."]
["Kuilgras","Gkuil 1e snede 2016",1680,null,null,{"$f":"IF(A9>0,A9,\"\")","v":"Kuilgras"},"Gkuil 1e snede 2016",1680,null,"Totale droge stof opname/koe/dag",null,null,{"$f":"Voeropname!E2","v":21.370856164383564}]
["Snijmais","Mkuil 1",800,null,null,"Snijmais","Mkuil 1",800,null,"VEM dekking",null,null,{"$f":"IF(G4=1,codes!C4,Voeropname!E23/Voeropname!E27)","v":1.0860536353882944},{"$f":"IF(M10<1,codes!F10,\"\")","v":""}]
["OverigRuwvoer","Overig 1",0,null,null,"OverigRuwvoer","Overig 1",0,null,"Verwachte N excretie per ton meetmelk (kg)",null,null,{"$f":"Excretie!E24","v":11.299616102547841}]
["Bijproducten","Bierbostel",250,null,null,"Bijproducten","Bierbostel",250,null,"Verwachte fosfaat excretie per ton meetmelk (kg)",null,null,{"$f":"Excretie!E25*2.29","v":3.7898497145345744}]
["Bijproducten","sodagrain",140,null,null,"Bijproducten","sodagrain",140]
["Bijproducten","BP 6",null,null,null,{"$f":"IF(A14>0,A14,\"\")","v":"Bijproducten"},"BP 6",null,null,"Kengetallen afgelopen maand"]
[null,null,null,null,null,"",null,null,null,"Totale droge stof opname/koe/dag",null,null,{"$f":"kengetallen!C4","v":21.38318493150685}]
[null,null,null,null,null,"",null,null,null,"Ruw eiwit gehalte rantsoen (g/kg ds)",null,null,{"$f":"kengetallen!C8","v":147.88901630233715}]
[null,null,null,null,null,"",null,null,null,"P gehalte rantsoen (g/kg ds)",null,null,{"$f":"kengetallen!C10","v":3.5424301453100542}]
[null,null,null,null,null,"",null,null,null,{"$f":"kengetallen!A16","v":"N excretie per ton meetmelk (kg)"},null,null,{"$f":"kengetallen!C16","v":9.3088584838056878}]
[null,null,null,null,null,null,null,null,null,"Fosfaat excretie per ton meetmelk (kg)",null,null,{"$f":"kengetallen!C17*2.29","v":3.4810878089741428}]
["Krachtvoer","KV 1",102,null,null,"Gewenst ruw eiwit gehalte rantsoen (g/kg ds)",null,160]
["Krachtvoer","KV 2",305,null,null,"Gewenst P gehalte rantsoen (g/kg ds)",null,3.6,null,{"$f":"kengetallen!A24","v":"Voerefficientie kg meetmelk/kg voer (ds)"},null,null,{"$f":"kengetallen!C24","v":1.5027419411138405}]
["Krachtvoer",null,null,null,null,"Gewenste hoeveelheid krachtvoer (kg/100 kg melk)",null,20,null,{"$f":"kengetallen!A25","v":"kg krachtvoer per 100 kg (excl bijprod)"},null,null,{"$f":"kengetallen!C25","v":18.09420763553091}]
["kg krachtvoer gevoerd/100 kg melk",null,{"$f":"IF(SUM(C20:C22)>0,kengetallen!C25,\"\")","v":18.09420763553091},null,null,null,null,null,null,{"$f":"kengetallen!A20","v":"VEM dekking"},null,null,{"$f":"kengetallen!C20","v":1.0407696737883925}]

{"sheet":"Feb vee+melk","index":7,"n_rows":29,"n_cols":5,"rows_kept":29,"cut":false,"hidden":false,"merged":[]}
[]
["Melkgevende koeien",null,71,null,70]
["Droge koeien*",null,3,null,1]
["*Het aantal droge koeien dat bij de melkveestapel loopt en dus ook van het ruwvoer mee vreet."]
[]
[null,null,{"$f":"'[1]Feb voer'!B3","v":"Februari gerealiseerd"},null,{"$f":"'[1]Feb voer'!G3","v":"Februari prognose"}]
["Tankmelk geleverd",null,56301,null,58000]
["Aantal dagen",null,27,null,28]
["Vet%",null,4.5400000000000003E-2,null,4.2999999999999997E-2]
["Eiwit%",null,3.56E-2,null,3.5499999999999997E-2]
["Ureum",null,22,null,19]
[]
["Separatie melk kg/dag",null,30,null,30]
[]
["Melk per dag",null,{"$f":"IF(SUM(C7)>0,SUM(C7)/(SUM(C8)),\"\")+C13","v":2115.2222222222222},null,{"$f":"IF(SUM(E7)>0,SUM(E7)/(SUM(E8)),\"\")+E13","v":2101.4285714285716}]
["Eiwit",null,{"$f":"C15*MAX(C10)","v":75.30191111111111},null,{"$f":"E15*MAX(E10)","v":74.60071428571429}]
["Vet",null,{"$f":"(C9*C15)","v":96.031088888888888},null,{"$f":"(E9*E15)","v":90.361428571428576}]
["N",null,{"$f":"C16/6.38","v":11.802807384186695},null,{"$f":"E16/6.38","v":11.692901925660546}]
[]
["kg melk/koe/dag",null,{"$f":"IF(C7>0,C15/C2,\"\")","v":29.791862284820031},null,{"$f":"IF(E7>0,E15/E2,\"\")","v":30.020408163265309}]
["FCPM/koe/dag",null,{"$f":"(0.337+0.116*MAX(C9)*100+0.06*MAX(C10)*100)*C15/C2","v":32.092985727699535},null,{"$f":"(0.337+0.116*MAX(E9)*100+0.06*MAX(E10)*100)*E15/E2","v":31.485404081632655}]
["Melkproductie incl droge",null,{"$f":"C15/(C2+C3)","v":28.584084084084083},null,{"$f":"E15/(E2+E3)","v":29.597585513078474}]
["Meetmelk 305 dgn",null,{"$f":"C21*305","v":9788.3606469483584},null,{"$f":"E21*305","v":9603.0482448979601}]
["gemiddeld Meetmelk 305 dgn",null,{"$f":"C23","v":9788.3606469483584},null,{"$f":"E23","v":9603.0482448979601}]
[]
["Behoefte"]
["VEM",null,{"$f":"IF('Feb voer'!B4=1,6013+440*C21+0.73*C21*C21,5013+440*C21+0.73*C21*C21)","v":19885.784325218174},null,{"$f":"IF('Feb voer'!G4=1,6013+440*E21+0.73*E21*E21,5013+440*E21+0.73*E21*E21)","v":19590.249185152461}]
["DVE",null,{"$f":"114+(1.396*(C15/C2)*C10*100*10)+0.000195*(((C15/C2)*C10*100*10)*((C15/C2)*C10*100*10))+20","v":1833.9301519541946},null,{"$f":"114+(1.396*(E15/E2)*E10*100*10)+0.000195*(((E15/E2)*E10*100*10)*((E15/E2)*E10*100*10))+20","v":1843.2262819445023}]
["P",null,{"$f":"19+1.43*C21","v":64.892969590610335},null,{"$f":"19+1.43*E21","v":64.024127836734692}]

{"sheet":"Feb voer","index":8,"n_rows":23,"n_cols":14,"rows_kept":23,"cut":false,"hidden":false,"merged":[[7,9,7,12],[21,5,21,6]]}
["Vul alle ","licht en ","donkerblauwe",null,null,"cellen in"]
[]
[null,"Februari gerealiseerd",null,null,null,null,"Februari prognose",null,null,"Prognose"]
["Weidegang (ja/nee)",2,null,null,null,"Weidegang (ja/nee)",2,null,null,"Drogestof opname uit weidegras kg/koe/dag",null,null,{"$f":"'Feb Voeropname'!E31","v":0},{"$f":"IF(M4>10,'Feb Voeropname'!R12,\"\")","v":""}]
["Weidegras","Eigen invoer",null,null,null,"Weidegras","Eigen invoer",null,null,"Uren weidegang per koe/dag",null,null,{"$f":"IF(M4>0.1,IF(M4>2.5,(M4-3)+2,M4/1.5),\"\")","v":""}]
["% restvoer",0.05,null,null,null,"% restvoer",0.05,null,null,"Gewenst ruw eiwit gehalte krachtvoer (g/kg)",null,null,{"$f":"(H20*'Feb Voeropname'!E2-'Feb Voeropname'!E6*'Feb Voeropname'!E2)/('Feb Voeropname'!E76/('Feb vee+melk'!E2+'Feb vee+melk'!E3))*0.9","v":176.18043356748987}]
[null,null,null,null,null,null,null,null,null,"Gewenst P gehalte krachtvoer (g/kg)",null,null,{"$f":"(H21*'Feb Voeropname'!E2-'Feb Voeropname'!E8*'Feb Voeropname'!E2)/('Feb Voeropname'!E76/('Feb vee+melk'!E3+'Feb vee+melk'!E2))*0.9","v":3.8845215303270626}]
["Wat is er afgelopen maand op stal gevoerd?","Naam","kg product gevoerd/dag",null,null,"Wat wilt u komende maand op stal voeren?","Naam","kg product te voeren/dag",null,"*Dit zijn de gewenste gehaltes in het krachtvoer om bij het ingevoerde stalrantsoen en gehaltes in het weidegras het gewenste ruw eiwit en P gehalte in het totale rantsoen te realiseren."]
["Kuilgras","Gkuil 1e snede 2016",600,null,null,"Kuilgras","Gkuil 1e snede 2016",600,null,"Totale droge stof opname/koe/dag",null,null,{"$f":"'Feb Voeropname'!E2","v":21.976107444668006}]
["Snijmais","Mkuil 1",820,null,null,"OverigRuwvoer","Mkuil 1",820,null,"VEM dekking",null,null,{"$f":"IF(G4=1,'Feb Voeropname'!O7,'Feb Voeropname'!E23/'Feb Voeropname'!E27)","v":1.0939802306103712},{"$f":"IF(M10<1,'Feb Voeropname'!R13,\"\")","v":""}]
["OverigRuwvoer","Overig 1",0,null,null,"OverigRuwvoer","Overig 1",0,null,"Verwachte N excretie per ton meetmelk (kg)",null,null,{"$f":"'Feb Excretie'!E24","v":10.612525122873787}]
["Bijproducten","Bierbostel",260,null,null,{"$f":"IF(A12>0,A12,\"\")","v":"Bijproducten"},"Bierbostel",260,null,"Verwachte fosfaat excretie per ton meetmelk (kg)",null,null,{"$f":"'Feb Excretie'!E25*2.29","v":4.2180824083575983}]
["Bijproducten","sodagrain",150,null,null,"Bijproducten","sodagrain",150]
["Bijproducten","BP 6",null,null,null,"Bijproducten","BP 6",null,null,"Kengetallen afgelopen maand"]
["Kuilgras","Gkuil 2 2e snede 2015",1100,null,null,"Kuilgras","Gkuil 2 2e snede 2015",1100,null,"Totale droge stof opname/koe/dag",null,null,{"$f":"'Feb kengetallen'!C4","v":21.459083783783779}]
[null,null,null,null,null,"",null,null,null,"Ruw eiwit gehalte rantsoen (g/kg ds)",null,null,{"$f":"'Feb kengetallen'!C8","v":157.4080169665439}]
[null,null,null,null,null,"",null,null,null,"P gehalte rantsoen (g/kg ds)",null,null,{"$f":"'Feb kengetallen'!C10","v":3.9939087951287822}]
[null,null,null,null,null,"",null,null,null,{"$f":"'Feb kengetallen'!A16","v":"N excretie per ton meetmelk (kg)"},null,null,{"$f":"'Feb kengetallen'!C16","v":10.370131092982628}]
[null,null,null,null,null,null,null,null,null,"Fosfaat excretie per ton meetmelk (kg)",null,null,{"$f":"'Feb kengetallen'!C17*2.29","v":4.1821317362707049}]
["Krachtvoer","KV 1",0,null,null,"Gewenst ruw eiwit gehalte rantsoen (g/kg ds)",null,155]
["Krachtvoer","KV 2",279,null,null,"Gewenst P gehalte rantsoen (g/kg ds)",null,3.9,null,{"$f":"'Feb kengetallen'!A24","v":"Voerefficientie kg meetmelk/kg voer (ds)"},null,null,{"$f":"'Feb kengetallen'!C24","v":1.4955431485826804}]
["Krachtvoer","snijmaiskernbrok",130,null,null,"Gewenste hoeveelheid krachtvoer (kg/100 kg melk)",null,18,null,{"$f":"'Feb kengetallen'!A25","v":"kg krachtvoer per 100 kg (excl bijprod)"},null,null,{"$f":"'Feb kengetallen'!C25","v":17.94960253669927}]
["kg krachtvoer gevoerd/100 kg melk",null,{"$f":"'Feb kengetallen'!C25","v":17.94960253669927},null,null,null,null,null,null,{"$f":"'Feb kengetallen'!A20","v":"VEM dekking"},null,null,{"$f":"'Feb kengetallen'!C20","v":1.0378241468564988}]

{"sheet":"Maart vee+melk","index":9,"n_rows":29,"n_cols":5,"rows_kept":29,"cut":false,"hidden":false,"merged":[]}
[]
["Melkgevende koeien",null,71,null,70]
["Droge koeien*",null,3,null,3]
["*Het aantal droge koeien dat bij de melkveestapel loopt en dus ook van het ruwvoer mee vreet."]
[]
[null,null,{"$f":"'[1]Maart voer'!B3","v":"Maart gerealiseerd"},null,{"$f":"'[1]Maart voer'!G3","v":"Maart prognose"}]
["Tankmelk geleverd",null,63710,null,60000]
["Aantal dagen",null,30,null,30]
["Vet%",null,4.3799999999999999E-2,null,4.5199999999999997E-2]
["Eiwit%",null,3.49E-2,null,3.5000000000000003E-2]
["Ureum",null,20,null,22]
[]
["Separatie melk kg/dag",null,30,null,30]
[]
["Melk per dag",null,{"$f":"IF(SUM(C7)>0,SUM(C7)/(SUM(C8)),\"\")+C13","v":2153.6666666666665},null,{"$f":"IF(SUM(E7)>0,SUM(E7)/(SUM(E8)),\"\")+E13","v":2030}]
["Eiwit",null,{"$f":"C15*MAX(C10)","v":75.162966666666662},null,{"$f":"E15*MAX(E10)","v":71.050000000000011}]
["Vet",null,{"$f":"(C9*C15)","v":94.33059999999999},null,{"$f":"(E9*E15)","v":91.756}]
["N",null,{"$f":"C16/6.38","v":11.781029258098224},null,{"$f":"E16/6.38","v":11.136363636363638}]
[]
["kg melk/koe/dag",null,{"$f":"IF(C7>0,C15/C2,\"\")","v":30.333333333333332},null,{"$f":"IF(E7>0,E15/E2,\"\")","v":29}]
["FCPM/koe/dag",null,{"$f":"(0.337+0.116*MAX(C9)*100+0.06*MAX(C10)*100)*C15/C2","v":31.985893333333333},null,{"$f":"(0.337+0.116*MAX(E9)*100+0.06*MAX(E10)*100)*E15/E2","v":31.068280000000005}]
["Melkproductie incl droge",null,{"$f":"C15/(C2+C3)","v":29.103603603603602},null,{"$f":"E15/(E2+E3)","v":27.80821917808219}]
["Meetmelk 305 dgn",null,{"$f":"C21*305","v":9755.6974666666665},null,{"$f":"E21*305","v":9475.8254000000015}]
["gemiddeld Meetmelk 305 dgn",null,{"$f":"C23","v":9755.6974666666665},null,{"$f":"E23","v":9475.8254000000015}]
[]
["Behoefte"]
["VEM",null,{"$f":"IF('Maart voer'!B4=1,6013+440*C21+0.73*C21*C21,5013+440*C21+0.73*C21*C21)","v":19833.654148468569},null,{"$f":"IF('Maart voer'!G4=1,6013+440*E21+0.73*E21*E21,5013+440*E21+0.73*E21*E21)","v":19387.666956175632}]
["DVE",null,{"$f":"114+(1.396*(C15/C2)*C10*100*10)+0.000195*(((C15/C2)*C10*100*10)*((C15/C2)*C10*100*10))+20","v":1830.3895175499999},null,{"$f":"114+(1.396*(E15/E2)*E10*100*10)+0.000195*(((E15/E2)*E10*100*10)*((E15/E2)*E10*100*10))+20","v":1751.8338749999998}]
["P",null,{"$f":"19+1.43*C21","v":64.739827466666668},null,{"$f":"19+1.43*E21","v":63.427640400000008}]

{"sheet":"Maart voer","index":10,"n_rows":23,"n_cols":14,"rows_kept":23,"cut":false,"hidden":false,"merged":[[7,9,7,12],[21,5,21,6]]}
["Vul alle ","licht en ","donkerblauwe",null,null,"cellen in"]
[]
[null,"Maart gerealiseerd",null,null,null,null,"Maart prognose",null,null,"Prognose"]
["Weidegang (ja/nee)",2,null,null,null,"Weidegang (ja/nee)",2,null,null,"Drogestof opname uit weidegras kg/koe/dag",null,null,{"$f":"'Maart Voeropname'!E31","v":0},{"$f":"IF(M4>10,'Maart Voeropname'!R12,\"\")","v":""}]
["Weidegras","Eigen invoer",null,null,null,"Weidegras","Eigen invoer",null,null,"Uren weidegang per koe/dag",null,null,{"$f":"IF(M4>0.1,IF(M4>2.5,(M4-3)+2,M4/1.5),\"\")","v":""}]
["% restvoer",0.05,null,null,null,"% restvoer",0.05,null,null,"Gewenst ruw eiwit gehalte krachtvoer (g/kg)",null,null,{"$f":"(H20*'Maart Voeropname'!E2-'Maart Voeropname'!E6*'Maart Voeropname'!E2)/('Maart Voeropname'!E76/('Maart vee+melk'!E2+'Maart vee+melk'!E3))*0.9","v":199.66309729064039}]
[null,null,null,null,null,null,null,null,null,"Gewenst P gehalte krachtvoer (g/kg)",null,null,{"$f":"(H21*'Maart Voeropname'!E2-'Maart Voeropname'!E8*'Maart Voeropname'!E2)/('Maart Voeropname'!E76/('Maart vee+melk'!E3+'Maart vee+melk'!E2))*0.9","v":1.55462161330049}]
["Wat is er afgelopen maand op stal gevoerd?","Naam","kg product gevoerd/dag",null,null,"Wat wilt u komende maand op stal voeren?","Naam","kg product te voeren/dag",null,"*Dit zijn de gewenste gehaltes in het krachtvoer om bij het ingevoerde stalrantsoen en gehaltes in het weidegras het gewenste ruw eiwit en P gehalte in het totale rantsoen te realiseren."]
["Kuilgras","Gkuil 1e snede 2016",0,null,null,{"$f":"IF(A9>0,A9,\"\")","v":"Kuilgras"},"Gkuil 1e snede 2016",0,null,"Totale droge stof opname/koe/dag",null,null,{"$f":"'Maart Voeropname'!E2","v":21.613089041095886}]
["Snijmais","Mkuil 1",750,null,null,"Snijmais","Mkuil 1",750,null,"VEM dekking",null,null,{"$f":"IF(G4=1,'Maart Voeropname'!O7,'Maart Voeropname'!E23/'Maart Voeropname'!E27)","v":1.0771556622533125},{"$f":"IF(M10<1,'Maart Voeropname'!R13,\"\")","v":""}]
["OverigRuwvoer","Overig 1",0,null,null,"OverigRuwvoer","Overig 1",0,null,"Verwachte N excretie per ton meetmelk (kg)",null,null,{"$f":"'Maart Excretie'!E24","v":11.447234604169607}]
["Bijproducten","Bierbostel",260,null,null,"Bijproducten","Bierbostel",260,null,"Verwachte fosfaat excretie per ton meetmelk (kg)",null,null,{"$f":"'Maart Excretie'!E25*2.29","v":3.8112001792405823}]
["Bijproducten","sodagrain",140,null,null,"Bijproducten","sodagrain",140]
["Bijproducten","BP 6",null,null,null,"Bijproducten","BP 6",null,null,"Kengetallen afgelopen maand"]
["Kuilgras","Gkuil 2 2e snede 2015",1900,null,null,"Kuilgras","Gkuil 2 2e snede 2015",1900,null,"Totale droge stof opname/koe/dag",null,null,{"$f":"'Maart kengetallen'!C4","v":21.651831081081077}]
[null,null,null,null,null,"",null,null,null,"Ruw eiwit gehalte rantsoen (g/kg ds)",null,null,{"$f":"'Maart kengetallen'!C8","v":156.30717581778711}]
[null,null,null,null,null,"",null,null,null,"P gehalte rantsoen (g/kg ds)",null,null,{"$f":"'Maart kengetallen'!C10","v":4.1416250607354543}]
[null,null,null,null,null,"",null,null,null,{"$f":"'Maart kengetallen'!A16","v":"N excretie per ton meetmelk (kg)"},null,null,{"$f":"'Maart kengetallen'!C16","v":10.44168609878748}]
[null,null,null,null,null,null,null,null,null,"Fosfaat excretie per ton meetmelk (kg)",null,null,{"$f":"'Maart kengetallen'!C17*2.29","v":4.4467543808918144}]
["Krachtvoer","snijmaiskernbrok",102,null,null,"Gewenst ruw eiwit gehalte rantsoen (g/kg ds)",null,160]
["Krachtvoer","KV 2",250,null,null,"Gewenst P gehalte rantsoen (g/kg ds)",null,3.6,null,{"$f":"'Maart kengetallen'!A24","v":"Voerefficientie kg meetmelk/kg voer (ds)"},null,null,{"$f":"'Maart kengetallen'!C24","v":1.4772835245921507}]
["Krachtvoer",null,null,null,null,"Gewenste hoeveelheid krachtvoer (kg/100 kg melk)",null,16,null,{"$f":"'Maart kengetallen'!A25","v":"kg krachtvoer per 100 kg (excl bijprod)"},null,null,{"$f":"'Maart kengetallen'!C25","v":15.499790570822176}]
["kg krachtvoer gevoerd/100 kg melk",null,{"$f":"'Maart kengetallen'!C25","v":15.499790570822176},null,null,null,null,null,null,{"$f":"'Maart kengetallen'!A20","v":"VEM dekking"},null,null,{"$f":"'Maart kengetallen'!C20","v":1.0424337893174573}]

{"sheet":"April vee+melk","index":11,"n_rows":29,"n_cols":5,"rows_kept":29,"cut":false,"hidden":false,"merged":[]}
[]
["Melkgevende koeien",null,71,null,70]
["Droge koeien*",null,3,null,3]
["*Het aantal droge koeien dat bij de melkveestapel loopt en dus ook van het ruwvoer mee vreet."]
[]
[null,null,{"$f":"'[1]April voer'!B3","v":"April gerealiseerd"},null,{"$f":"'[1]April voer'!G3","v":"April prognose"}]
["Tankmelk geleverd",null,59638,null,58000]
["Aantal dagen",null,30,null,30]
["Vet%",null,4.1500000000000002E-2,null,4.2000000000000003E-2]
["Eiwit%",null,3.5700000000000003E-2,null,3.5000000000000003E-2]
["Ureum",null,15,null,22]
[]
["Separatie melk kg/dag",null,30,null,30]
[]
["Melk per dag",null,{"$f":"IF(SUM(C7)>0,SUM(C7)/(SUM(C8)),\"\")+C13","v":2017.9333333333334},null,{"$f":"IF(SUM(E7)>0,SUM(E7)/(SUM(E8)),\"\")+E13","v":1963.3333333333333}]
["Eiwit",null,{"$f":"C15*MAX(C10)","v":72.040220000000005},null,{"$f":"E15*MAX(E10)","v":68.716666666666669}]
["Vet",null,{"$f":"(C9*C15)","v":83.744233333333341},null,{"$f":"(E9*E15)","v":82.460000000000008}]
["N",null,{"$f":"C16/6.38","v":11.291570532915362},null,{"$f":"E16/6.38","v":10.770637408568444}]
[]
["kg melk/koe/dag",null,{"$f":"IF(C7>0,C15/C2,\"\")","v":28.421596244131457},null,{"$f":"IF(E7>0,E15/E2,\"\")","v":28.047619047619047}]
["FCPM/koe/dag",null,{"$f":"(0.337+0.116*MAX(C9)*100+0.06*MAX(C10)*100)*C15/C2","v":29.348140281690139},null,{"$f":"(0.337+0.116*MAX(E9)*100+0.06*MAX(E10)*100)*E15/E2","v":29.006847619047619}]
["Melkproductie incl droge",null,{"$f":"C15/(C2+C3)","v":27.269369369369372},null,{"$f":"E15/(E2+E3)","v":26.894977168949772}]
["Meetmelk 305 dgn",null,{"$f":"C21*305","v":8951.1827859154928},null,{"$f":"E21*305","v":8847.0885238095234}]
["gemiddeld Meetmelk 305 dgn",null,{"$f":"C23","v":8951.1827859154928},null,{"$f":"E23","v":8847.0885238095234}]
[]
["Behoefte"]
["VEM",null,{"$f":"IF('April voer'!B4=1,6013+440*C21+0.73*C21*C21,5013+440*C21+0.73*C21*C21)","v":19554.940460679107},null,{"$f":"IF('April voer'!G4=1,6013+440*E21+0.73*E21*E21,5013+440*E21+0.73*E21*E21)","v":19390.232914801047}]
["DVE",null,{"$f":"114+(1.396*(C15/C2)*C10*100*10)+0.000195*(((C15/C2)*C10*100*10)*((C15/C2)*C10*100*10))+20","v":1751.2085178657881},null,{"$f":"114+(1.396*(E15/E2)*E10*100*10)+0.000195*(((E15/E2)*E10*100*10)*((E15/E2)*E10*100*10))+20","v":1692.3222083333335}]
["P",null,{"$f":"19+1.43*C21","v":60.967840602816899},null,{"$f":"19+1.43*E21","v":60.479792095238096}]

{"sheet":"April voer","index":12,"n_rows":23,"n_cols":14,"rows_kept":23,"cut":false,"hidden":false,"merged":[[7,9,7,12],[21,5,21,6]]}
["Vul alle ","licht en ","donkerblauwe",null,null,"cellen in"]
[]
[null,"April gerealiseerd",null,null,null,null,"April prognose",null,null,"Prognose"]
["Weidegang (ja/nee)",1,null,null,null,"Weidegang (ja/nee)",1,null,null,"Drogestof opname uit weidegras kg/koe/dag",null,null,{"$f":"'April Voeropname'!E31","v":5.8990466182082288},{"$f":"IF(M4>10,'April Voeropname'!R12,\"\")","v":""}]
["Weidegras","April eigen invoer",null,null,null,"Weidegras","April standaard",null,null,"Uren weidegang per koe/dag",null,null,{"$f":"IF(M4>0.1,IF(M4>2.5,(M4-3)+2,M4/1.5),\"\")","v":4.8990466182082288}]
["% restvoer",0.05,null,null,null,"% restvoer",0.05,null,null,"Gewenst ruw eiwit gehalte krachtvoer (g/kg)",null,null,{"$f":"(H20*'April Voeropname'!E2-'April Voeropname'!E6*'April Voeropname'!E2)/('April Voeropname'!E76/('April vee+melk'!E2+'April vee+melk'!E3))*0.9","v":219.7874922005501}]
[null,null,null,null,null,null,null,null,null,"Gewenst P gehalte krachtvoer (g/kg)",null,null,{"$f":"(H21*'April Voeropname'!E2-'April Voeropname'!E8*'April Voeropname'!E2)/('April Voeropname'!E76/('April vee+melk'!E3+'April vee+melk'!E2))*0.9","v":3.0477628512294737}]
["Wat is er afgelopen maand op stal gevoerd?","Naam","kg product gevoerd/dag",null,null,"Wat wilt u komende maand op stal voeren?","Naam","kg product te voeren/dag",null,"*Dit zijn de gewenste gehaltes in het krachtvoer om bij het ingevoerde stalrantsoen en gehaltes in het weidegras het gewenste ruw eiwit en P gehalte in het totale rantsoen te realiseren."]
["Kuilgras","Gkuil 2 2e snede 2015",1000,null,null,{"$f":"IF(A9>0,A9,\"\")","v":"Kuilgras"},"Gkuil 2 2e snede 2015",600,null,"Totale droge stof opname/koe/dag",null,null,{"$f":"'April Voeropname'!E2","v":19.742368536016446}]
["Snijmais","Mkuil 1",1000,null,null,"Snijmais","Mkuil 1",1000,null,"VEM dekking",null,null,{"$f":"IF(G4=1,'April Voeropname'!O7,'April Voeropname'!E23/'April Voeropname'!E27)","v":1.03},{"$f":"IF(M10<1,'April Voeropname'!R13,\"\")","v":""}]
["OverigRuwvoer","Overig 1",0,null,null,"OverigRuwvoer","Overig 1",0,null,"Verwachte N excretie per ton meetmelk (kg)",null,null,{"$f":"'April Excretie'!E24","v":10.955814520966344}]
["Bijproducten","Bierbostel",250,null,null,"Bijproducten","Bierbostel",250,null,"Verwachte fosfaat excretie per ton meetmelk (kg)",null,null,{"$f":"'April Excretie'!E25*2.29","v":3.6334613698421174}]
["OverigRuwvoer","Overig 2",null,null,null,"OverigRuwvoer","Overig 2"]
["Bijproducten","sodagrain",140,null,null,"Bijproducten","sodagrain",140,null,"Kengetallen afgelopen maand"]
[null,null,null,null,null,"",null,null,null,"Totale droge stof opname/koe/dag",null,null,{"$f":"'April kengetallen'!C4","v":20.309383813427043}]
[null,null,null,null,null,"",null,null,null,"Ruw eiwit gehalte rantsoen (g/kg ds)",null,null,{"$f":"'April kengetallen'!C8","v":151.28555941922468}]
[null,null,null,null,null,"",null,null,null,"P gehalte rantsoen (g/kg ds)",null,null,{"$f":"'April kengetallen'!C10","v":3.7994757514445392}]
[null,null,null,null,null,"",null,null,null,{"$f":"'April kengetallen'!A16","v":"N excretie per ton meetmelk (kg)"},null,null,{"$f":"'April kengetallen'!C16","v":10.078825650751861}]
[null,null,null,null,null,null,null,null,null,"Fosfaat excretie per ton meetmelk (kg)",null,null,{"$f":"'April kengetallen'!C17*2.29","v":3.9991876227294338}]
["Krachtvoer","KV 1",105,null,null,"Gewenst ruw eiwit gehalte rantsoen (g/kg ds)",null,160]
["Krachtvoer","Melkbrok BM",185,null,null,"Gewenst P gehalte rantsoen (g/kg ds)",null,3.6,null,{"$f":"'April kengetallen'!A24","v":"Voerefficientie kg meetmelk/kg voer (ds)"},null,null,{"$f":"'April kengetallen'!C24","v":1.4450532104419311}]
["Krachtvoer",null,null,null,null,"Gewenste hoeveelheid krachtvoer (kg/100 kg melk)",null,15,null,{"$f":"'April kengetallen'!A25","v":"kg krachtvoer per 100 kg (excl bijprod)"},null,null,{"$f":"'April kengetallen'!C25","v":13.917430552837391}]
["kg krachtvoer gevoerd/100 kg melk",null,{"$f":"'April kengetallen'!C25","v":13.917430552837391},null,null,null,null,null,null,{"$f":"'April kengetallen'!A20","v":"VEM dekking"},null,null,{"$f":"'April kengetallen'!C20","v":1.03}]

{"sheet":"Mei vee+melk","index":13,"n_rows":29,"n_cols":5,"rows_kept":29,"cut":false,"hidden":false,"merged":[]}
[]
["Melkgevende koeien",null,70,null,70]
["Droge koeien*",null,3,null,3]
["*Het aantal droge koeien dat bij de melkveestapel loopt en dus ook van het ruwvoer mee vreet."]
[]
[null,null,{"$f":"'[1]Mei voer'!B3","v":"Mei gerealiseerd"},null,{"$f":"'[1]Mei voer'!G3","v":"Mei prognose"}]
["Tankmelk geleverd",null,64193,null,58000]
["Aantal dagen",null,33,null,30]
["Vet%",null,3.9300000000000002E-2,null,4.5199999999999997E-2]
["Eiwit%",null,3.6400000000000002E-2,null,3.5000000000000003E-2]
["Ureum",null,15,null,22]
[]
["Separatie melk kg/dag",null,35,null,30]
[]
["Melk per dag",null,{"$f":"IF(SUM(C7)>0,SUM(C7)/(SUM(C8)),\"\")+C13","v":1980.2424242424242},null,{"$f":"IF(SUM(E7)>0,SUM(E7)/(SUM(E8)),\"\")+E13","v":1963.3333333333333}]
["Eiwit",null,{"$f":"C15*MAX(C10)","v":72.080824242424242},null,{"$f":"E15*MAX(E10)","v":68.716666666666669}]
["Vet",null,{"$f":"(C9*C15)","v":77.823527272727276},null,{"$f":"(E9*E15)","v":88.742666666666651}]
["N",null,{"$f":"C16/6.38","v":11.297934834235775},null,{"$f":"E16/6.38","v":10.770637408568444}]
[]
["kg melk/koe/dag",null,{"$f":"IF(C7>0,C15/C2,\"\")","v":28.28917748917749},null,{"$f":"IF(E7>0,E15/E2,\"\")","v":28.047619047619047}]
["FCPM/koe/dag",null,{"$f":"(0.337+0.116*MAX(C9)*100+0.06*MAX(C10)*100)*C15/C2","v":28.60827941125541},null,{"$f":"(0.337+0.116*MAX(E9)*100+0.06*MAX(E10)*100)*E15/E2","v":30.047975238095237}]
["Melkproductie incl droge",null,{"$f":"C15/(C2+C3)","v":27.126608551266084},null,{"$f":"E15/(E2+E3)","v":26.894977168949772}]
["Meetmelk 305 dgn",null,{"$f":"C21*305","v":8725.5252204329008},null,{"$f":"E21*305","v":9164.6324476190475}]
["gemiddeld Meetmelk 305 dgn",null,{"$f":"C23","v":8725.5252204329008},null,{"$f":"E23","v":9164.6324476190475}]
[]
["Behoefte"]
["VEM",null,{"$f":"IF('Mei voer'!B4=1,6013+440*C21+0.73*C21*C21,5013+440*C21+0.73*C21*C21)","v":19198.099506089278},null,{"$f":"IF('Mei voer'!G4=1,6013+440*E21+0.73*E21*E21,5013+440*E21+0.73*E21*E21)","v":19893.212100375611}]
["DVE",null,{"$f":"114+(1.396*(C15/C2)*C10*100*10)+0.000195*(((C15/C2)*C10*100*10)*((C15/C2)*C10*100*10))+20","v":1778.2630537848595},null,{"$f":"114+(1.396*(E15/E2)*E10*100*10)+0.000195*(((E15/E2)*E10*100*10)*((E15/E2)*E10*100*10))+20","v":1692.3222083333335}]
["P",null,{"$f":"19+1.43*C21","v":59.909839558095236},null,{"$f":"19+1.43*E21","v":61.96860459047619}]

{"sheet":"Mei voer","index":14,"n_rows":23,"n_cols":14,"rows_kept":23,"cut":false,"hidden":false,"merged":[[7,9,7,12],[21,5,21,6]]}
["Vul alle ","licht en ","donkerblauwe",null,null,"cellen in"]
[]
[null,"Mei gerealiseerd",null,null,null,null,"Mei prognose",null,null,"Prognose"]
["Weidegang (ja/nee)",1,null,null,null,"Weidegang (ja/nee)",1,null,null,"Drogestof opname uit weidegras kg/koe/dag",null,null,{"$f":"'Mei Voeropname'!E31","v":8.2073396569256722},{"$f":"IF(M4>10,'Mei Voeropname'!R12,\"\")","v":""}]
["Weidegras","Mei eigen invoer",null,null,null,"Weidegras","Mei eigen invoer",null,null,"Uren weidegang per koe/dag",null,null,{"$f":"IF(M4>0.1,IF(M4>2.5,(M4-3)+2,M4/1.5),\"\")","v":7.2073396569256722}]
["% restvoer",0.05,null,null,null,"% restvoer",0.05,null,null,"Gewenst ruw eiwit gehalte krachtvoer (g/kg)",null,null,{"$f":"(H20*'Mei Voeropname'!E2-'Mei Voeropname'!E6*'Mei Voeropname'!E2)/('Mei Voeropname'!E76/('Mei vee+melk'!E2+'Mei vee+melk'!E3))*0.9","v":194.28070973613225}]
[null,null,null,null,null,null,null,null,null,"Gewenst P gehalte krachtvoer (g/kg)",null,null,{"$f":"(H21*'Mei Voeropname'!E2-'Mei Voeropname'!E8*'Mei Voeropname'!E2)/('Mei Voeropname'!E76/('Mei vee+melk'!E3+'Mei vee+melk'!E2))*0.9","v":3.0701863816355166}]
["Wat is er afgelopen maand op stal gevoerd?","Naam","kg product gevoerd/dag",null,null,"Wat wilt u komende maand op stal voeren?","Naam","kg product te voeren/dag",null,"*Dit zijn de gewenste gehaltes in het krachtvoer om bij het ingevoerde stalrantsoen en gehaltes in het weidegras het gewenste ruw eiwit en P gehalte in het totale rantsoen te realiseren."]
["Kuilgras","Gkuil balen 2016 2e snede",350,null,null,{"$f":"IF(A9>0,A9,\"\")","v":"Kuilgras"},"Gkuil balen 2016 2e snede",350,null,"Totale droge stof opname/koe/dag",null,null,{"$f":"'Mei Voeropname'!E2","v":20.694308835007863}]
["Snijmais","Mkuil 1",1100,null,null,"Snijmais","Mkuil 1",1000,null,"VEM dekking",null,null,{"$f":"IF(G4=1,'Mei Voeropname'!O7,'Mei Voeropname'!E23/'Mei Voeropname'!E27)","v":1.03},{"$f":"IF(M10<1,'Mei Voeropname'!R13,\"\")","v":""}]
["OverigRuwvoer","Overig 1",0,null,null,"OverigRuwvoer","Overig 1",0,null,"Verwachte N excretie per ton meetmelk (kg)",null,null,{"$f":"'Mei Excretie'!E24","v":11.281737844790118}]
["Bijproducten","Bierbostel",175,null,null,"Bijproducten","Bierbostel",175,null,"Verwachte fosfaat excretie per ton meetmelk (kg)",null,null,{"$f":"'Mei Excretie'!E25*2.29","v":3.7717341190983875}]
["OverigRuwvoer","Overig 2",null,null,null,"OverigRuwvoer","Overig 2"]
["Bijproducten","BP 6",null,null,null,"Bijproducten","BP 6",null,null,"Kengetallen afgelopen maand"]
[null,null,null,null,null,"",null,null,null,"Totale droge stof opname/koe/dag",null,null,{"$f":"'Mei kengetallen'!C4","v":20.193413273817811}]
[null,null,null,null,null,"",null,null,null,"Ruw eiwit gehalte rantsoen (g/kg ds)",null,null,{"$f":"'Mei kengetallen'!C8","v":154.20115268135592}]
[null,null,null,null,null,"",null,null,null,"P gehalte rantsoen (g/kg ds)",null,null,{"$f":"'Mei kengetallen'!C10","v":3.6840199694848619}]
[null,null,null,null,null,"",null,null,null,{"$f":"'Mei kengetallen'!A16","v":"N excretie per ton meetmelk (kg)"},null,null,{"$f":"'Mei kengetallen'!C16","v":10.476308178976252}]
[null,null,null,null,null,null,null,null,null,"Fosfaat excretie per ton meetmelk (kg)",null,null,{"$f":"'Mei kengetallen'!C17*2.29","v":3.8910029970065403}]
["Krachtvoer","KV 1",55,null,null,"Gewenst ruw eiwit gehalte rantsoen (g/kg ds)",null,160]
["Krachtvoer","Melkbrok BM",225,null,null,"Gewenst P gehalte rantsoen (g/kg ds)",null,3.6,null,{"$f":"'Mei kengetallen'!A24","v":"Voerefficientie kg meetmelk/kg voer (ds)"},null,null,{"$f":"'Mei kengetallen'!C24","v":1.41671341161269}]
["Krachtvoer",null,null,null,null,"Gewenste hoeveelheid krachtvoer (kg/100 kg melk)",null,16,null,{"$f":"'Mei kengetallen'!A25","v":"kg krachtvoer per 100 kg (excl bijprod)"},null,null,{"$f":"'Mei kengetallen'!C25","v":13.9819663479177}]
["kg krachtvoer gevoerd/100 kg melk",null,{"$f":"'Mei kengetallen'!C25","v":13.9819663479177},null,null,null,null,null,null,{"$f":"'Mei kengetallen'!A20","v":"VEM dekking"},null,null,{"$f":"'Mei kengetallen'!C20","v":1.03}]

{"sheet":"Juni vee+melk","index":15,"n_rows":29,"n_cols":5,"rows_kept":29,"cut":false,"hidden":false,"merged":[]}
[]
["Melkgevende koeien",null,69,null,70]
["Droge koeien*",null,2,null,3]
["*Het aantal droge koeien dat bij de melkveestapel loopt en dus ook van het ruwvoer mee vreet."]
[]
[null,null,{"$f":"'[1]Juni voer'!B3","v":"Juni gerealiseerd"},null,{"$f":"'[1]Juni voer'!G3","v":"Juni prognose"}]
["Tankmelk geleverd",null,56934,null,57500]
["Aantal dagen",null,30,null,30]
["Vet%",null,3.7999999999999999E-2,null,4.5199999999999997E-2]
["Eiwit%",null,3.56E-2,null,3.5000000000000003E-2]
["Ureum",null,16,null,22]
[]
["Separatie melk kg/dag",null,25,null,30]
[]
["Melk per dag",null,{"$f":"IF(SUM(C7)>0,SUM(C7)/(SUM(C8)),\"\")+C13","v":1922.8},null,{"$f":"IF(SUM(E7)>0,SUM(E7)/(SUM(E8)),\"\")+E13","v":1946.6666666666667}]
["Eiwit",null,{"$f":"C15*MAX(C10)","v":68.451679999999996},null,{"$f":"E15*MAX(E10)","v":68.13333333333334}]
["Vet",null,{"$f":"(C9*C15)","v":73.066400000000002},null,{"$f":"(E9*E15)","v":87.989333333333335}]
["N",null,{"$f":"C16/6.38","v":10.729103448275861},null,{"$f":"E16/6.38","v":10.679205851619646}]
[]
["kg melk/koe/dag",null,{"$f":"IF(C7>0,C15/C2,\"\")","v":27.866666666666667},null,{"$f":"IF(E7>0,E15/E2,\"\")","v":27.80952380952381}]
["FCPM/koe/dag",null,{"$f":"(0.337+0.116*MAX(C9)*100+0.06*MAX(C10)*100)*C15/C2","v":27.627013333333334},null,{"$f":"(0.337+0.116*MAX(E9)*100+0.06*MAX(E10)*100)*E15/E2","v":29.792899047619052}]
["Melkproductie incl droge",null,{"$f":"C15/(C2+C3)","v":27.081690140845069},null,{"$f":"E15/(E2+E3)","v":26.666666666666668}]
["Meetmelk 305 dgn",null,{"$f":"C21*305","v":8426.239066666667},null,{"$f":"E21*305","v":9086.8342095238113}]
["gemiddeld Meetmelk 305 dgn",null,{"$f":"C23","v":8426.239066666667},null,{"$f":"E23","v":9086.8342095238113}]
[]
["Behoefte"]
["VEM",null,{"$f":"IF('Juni voer'!B4=1,6013+440*C21+0.73*C21*C21,5013+440*C21+0.73*C21*C21)","v":18726.059728642398},null,{"$f":"IF('Juni voer'!G4=1,6013+440*E21+0.73*E21*E21,5013+440*E21+0.73*E21*E21)","v":19769.835869525366}]
["DVE",null,{"$f":"114+(1.396*(C15/C2)*C10*100*10)+0.000195*(((C15/C2)*C10*100*10)*((C15/C2)*C10*100*10))+20","v":1710.8195674879998},null,{"$f":"114+(1.396*(E15/E2)*E10*100*10)+0.000195*(((E15/E2)*E10*100*10)*((E15/E2)*E10*100*10))+20","v":1677.5119999999999}]
["P",null,{"$f":"19+1.43*C21","v":58.506629066666669},null,{"$f":"19+1.43*E21","v":61.603845638095244}]

{"sheet":"Juni voer","index":16,"n_rows":23,"n_cols":14,"rows_kept":23,"cut":false,"hidden":false,"merged":[[7,9,7,12],[21,5,21,6]]}
["Vul alle ","licht en ","donkerblauwe",null,null,"cellen in"]
[]
[null,"Juni gerealiseerd",null,null,null,null,"Juni prognose",null,null,"Prognose"]
["Weidegang (ja/nee)",1,null,null,null,"Weidegang (ja/nee)",1,null,null,"Drogestof opname uit weidegras kg/koe/dag",null,null,{"$f":"'Juni Voeropname'!E31","v":9.9104647992734289},{"$f":"IF(M4>10,'Juni Voeropname'!R12,\"\")","v":""}]
["Weidegras","Juni standaard",null,null,null,"Weidegras","Juni standaard",null,null,"Uren weidegang per koe/dag",null,null,{"$f":"IF(M4>0.1,IF(M4>2.5,(M4-3)+2,M4/1.5),\"\")","v":8.9104647992734289}]
["% restvoer",0.03,null,null,null,"% restvoer",0.03,null,null,"Gewenst ruw eiwit gehalte krachtvoer (g/kg)",null,null,{"$f":"(H20*'Juni Voeropname'!E2-'Juni Voeropname'!E6*'Juni Voeropname'!E2)/('Juni Voeropname'!E76/('Juni vee+melk'!E2+'Juni vee+melk'!E3))*0.9","v":211.80641928422762}]
[null,null,null,null,null,null,null,null,null,"Gewenst P gehalte krachtvoer (g/kg)",null,null,{"$f":"(H21*'Juni Voeropname'!E2-'Juni Voeropname'!E8*'Juni Voeropname'!E2)/('Juni Voeropname'!E76/('Juni vee+melk'!E3+'Juni vee+melk'!E2))*0.9","v":2.8132800123968824}]
["Wat is er afgelopen maand op stal gevoerd?","Naam","kg product gevoerd/dag",null,null,"Wat wilt u komende maand op stal voeren?","Naam","kg product te voeren/dag",null,"*Dit zijn de gewenste gehaltes in het krachtvoer om bij het ingevoerde stalrantsoen en gehaltes in het weidegras het gewenste ruw eiwit en P gehalte in het totale rantsoen te realiseren."]
["Kuilgras","Gkuil balen 2016 2e snede",250,null,null,{"$f":"IF(A9>0,A9,\"\")","v":"Kuilgras"},"Gkuil balen 2016 2e snede",250,null,"Totale droge stof opname/koe/dag",null,null,{"$f":"'Juni Voeropname'!E2","v":21.465286717081646}]
["Snijmais","Mkuil 1",1000,null,null,"Snijmais","Mkuil 1",1000,null,"VEM dekking",null,null,{"$f":"IF(G4=1,'Juni Voeropname'!O7,'Juni Voeropname'!E23/'Juni Voeropname'!E27)","v":1.03},{"$f":"IF(M10<1,'Juni Voeropname'!R13,\"\")","v":""}]
["OverigRuwvoer","Overig 1",0,null,null,"OverigRuwvoer","Overig 1",0,null,"Verwachte N excretie per ton meetmelk (kg)",null,null,{"$f":"'Juni Excretie'!E24","v":12.013808650690521}]
["Bijproducten","Bierbostel",200,null,null,"Bijproducten","Bierbostel",200,null,"Verwachte fosfaat excretie per ton meetmelk (kg)",null,null,{"$f":"'Juni Excretie'!E25*2.29","v":4.0291774933590565}]
["OverigRuwvoer","Overig 2",null,null,null,"OverigRuwvoer","Overig 2"]
["Bijproducten","BP 6",null,null,null,"Bijproducten","BP 6",null,null,"Kengetallen afgelopen maand"]
[null,null,null,null,null,"",null,null,null,"Totale droge stof opname/koe/dag",null,null,{"$f":"'Juni kengetallen'!C4","v":20.562956601269363}]
[null,null,null,null,null,"",null,null,null,"Ruw eiwit gehalte rantsoen (g/kg ds)",null,null,{"$f":"'Juni kengetallen'!C8","v":152.0573982533823}]
[null,null,null,null,null,"",null,null,null,"P gehalte rantsoen (g/kg ds)",null,null,{"$f":"'Juni kengetallen'!C10","v":3.7385224756257287}]
[null,null,null,null,null,"",null,null,null,{"$f":"'Juni kengetallen'!A16","v":"N excretie per ton meetmelk (kg)"},null,null,{"$f":"'Juni kengetallen'!C16","v":11.031011472777244}]
[null,null,null,null,null,null,null,null,null,"Fosfaat excretie per ton meetmelk (kg)",null,null,{"$f":"'Juni kengetallen'!C17*2.29","v":4.238300087507203}]
["Krachtvoer","KV 1",75,null,null,"Gewenst ruw eiwit gehalte rantsoen (g/kg ds)",null,160]
["Krachtvoer","Melkbrok BM",220,null,null,"Gewenst P gehalte rantsoen (g/kg ds)",null,3.6,null,{"$f":"'Juni kengetallen'!A24","v":"Voerefficientie kg meetmelk/kg voer (ds)"},null,null,{"$f":"'Juni kengetallen'!C24","v":1.3435331245910378}]
["Krachtvoer",null,null,null,null,"Gewenste hoeveelheid krachtvoer (kg/100 kg melk)",null,16,null,{"$f":"'Juni kengetallen'!A25","v":"kg krachtvoer per 100 kg (excl bijprod)"},null,null,{"$f":"'Juni kengetallen'!C25","v":15.47529683088163}]
["kg krachtvoer gevoerd/100 kg melk",null,{"$f":"'Juni kengetallen'!C25","v":15.47529683088163},null,null,null,null,null,null,{"$f":"'Juni kengetallen'!A20","v":"VEM dekking"},null,null,{"$f":"'Juni kengetallen'!C20","v":1.03}]

{"sheet":"Juli vee+melk","index":17,"n_rows":29,"n_cols":5,"rows_kept":29,"cut":false,"hidden":false,"merged":[]}
[]
["Melkgevende koeien",null,69,null,70]
["Droge koeien*",null,2,null,3]
["*Het aantal droge koeien dat bij de melkveestapel loopt en dus ook van het ruwvoer mee vreet."]
[]
[null,null,{"$f":"'[1]Juli voer'!B3","v":"Juli gerealiseerd"},null,{"$f":"'[1]Juli voer'!G3","v":"Juli prognose"}]
["Tankmelk geleverd",null,54593,null,55000]
["Aantal dagen",null,30,null,30]
["Vet%",null,4.07E-2,null,4.5199999999999997E-2]
["Eiwit%",null,3.4500000000000003E-2,null,3.5000000000000003E-2]
["Ureum",null,19,null,22]
[]
["Separatie melk kg/dag",null,30,null,30]
[]
["Melk per dag",null,{"$f":"IF(SUM(C7)>0,SUM(C7)/(SUM(C8)),\"\")+C13","v":1849.7666666666667},null,{"$f":"IF(SUM(E7)>0,SUM(E7)/(SUM(E8)),\"\")+E13","v":1863.3333333333333}]
["Eiwit",null,{"$f":"C15*MAX(C10)","v":63.816950000000006},null,{"$f":"E15*MAX(E10)","v":65.216666666666669}]
["Vet",null,{"$f":"(C9*C15)","v":75.285503333333338},null,{"$f":"(E9*E15)","v":84.222666666666655}]
["N",null,{"$f":"C16/6.38","v":10.002656739811913},null,{"$f":"E16/6.38","v":10.222048066875654}]
[]
["kg melk/koe/dag",null,{"$f":"IF(C7>0,C15/C2,\"\")","v":26.808212560386472},null,{"$f":"IF(E7>0,E15/E2,\"\")","v":26.619047619047617}]
["FCPM/koe/dag",null,{"$f":"(0.337+0.116*MAX(C9)*100+0.06*MAX(C10)*100)*C15/C2","v":27.240360946859909},null,{"$f":"(0.337+0.116*MAX(E9)*100+0.06*MAX(E10)*100)*E15/E2","v":28.517518095238096}]
["Melkproductie incl droge",null,{"$f":"C15/(C2+C3)","v":26.053051643192489},null,{"$f":"E15/(E2+E3)","v":25.525114155251142}]
["Meetmelk 305 dgn",null,{"$f":"C21*305","v":8308.3100887922719},null,{"$f":"E21*305","v":8697.8430190476192}]
["gemiddeld Meetmelk 305 dgn",null,{"$f":"C23","v":8308.3100887922719},null,{"$f":"E23","v":8697.8430190476192}]
[]
["Behoefte"]
["VEM",null,{"$f":"IF('Juli voer'!B4=1,6013+440*C21+0.73*C21*C21,5013+440*C21+0.73*C21*C21)","v":18540.446019714462},null,{"$f":"IF('Juli voer'!G4=1,6013+440*E21+0.73*E21*E21,5013+440*E21+0.73*E21*E21)","v":19154.37961387269}]
["DVE",null,{"$f":"114+(1.396*(C15/C2)*C10*100*10)+0.000195*(((C15/C2)*C10*100*10)*((C15/C2)*C10*100*10))+20","v":1591.9419234874999},null,{"$f":"114+(1.396*(E15/E2)*E10*100*10)+0.000195*(((E15/E2)*E10*100*10)*((E15/E2)*E10*100*10))+20","v":1603.8672083333331}]
["P",null,{"$f":"19+1.43*C21","v":57.953716154009669},null,{"$f":"19+1.43*E21","v":59.780050876190472}]

{"sheet":"Juli voer","index":18,"n_rows":23,"n_cols":14,"rows_kept":23,"cut":false,"hidden":false,"merged":[[7,9,7,12],[21,5,21,6]]}
["Vul alle ","licht en ","donkerblauwe",null,null,"cellen in"]
[]
[null,"Juli gerealiseerd",null,null,null,null,"Juli prognose",null,null,"Prognose"]
["Weidegang (ja/nee)",1,null,null,null,"Weidegang (ja/nee)",1,null,null,"Drogestof opname uit weidegras kg/koe/dag",null,null,{"$f":"'Juli Voeropname'!E31","v":9.9564273973624768},{"$f":"IF(M4>10,'Juli Voeropname'!R12,\"\")","v":""}]
["Weidegras","Juli standaard",null,null,null,"Weidegras","Juli standaard",null,null,"Uren weidegang per koe/dag",null,null,{"$f":"IF(M4>0.1,IF(M4>2.5,(M4-3)+2,M4/1.5),\"\")","v":8.9564273973624768}]
["% restvoer",0.03,null,null,null,"% restvoer",0.03,null,null,"Gewenst ruw eiwit gehalte krachtvoer (g/kg)",null,null,{"$f":"(H20*'Juli Voeropname'!E2-'Juli Voeropname'!E6*'Juli Voeropname'!E2)/('Juli Voeropname'!E76/('Juli vee+melk'!E2+'Juli vee+melk'!E3))*0.9","v":210.48063897534922}]
[null,null,null,null,null,null,null,null,null,"Gewenst P gehalte krachtvoer (g/kg)",null,null,{"$f":"(H21*'Juli Voeropname'!E2-'Juli Voeropname'!E8*'Juli Voeropname'!E2)/('Juli Voeropname'!E76/('Juli vee+melk'!E3+'Juli vee+melk'!E2))*0.9","v":2.7916424731563576}]
["Wat is er afgelopen maand op stal gevoerd?","Naam","kg product gevoerd/dag",null,null,"Wat wilt u komende maand op stal voeren?","Naam","kg product te voeren/dag",null,"*Dit zijn de gewenste gehaltes in het krachtvoer om bij het ingevoerde stalrantsoen en gehaltes in het weidegras het gewenste ruw eiwit en P gehalte in het totale rantsoen te realiseren."]
["Kuilgras","Gkuil balen 2016 2e snede",180,null,null,{"$f":"IF(A9>0,A9,\"\")","v":"Kuilgras"},"Gkuil balen 2016 2e snede",180,null,"Totale droge stof opname/koe/dag",null,null,{"$f":"'Juli Voeropname'!E2","v":20.664676712430968}]
["Snijmais","Mkuil 1",1050,null,null,"Snijmais","Mkuil 1",1050,null,"VEM dekking",null,null,{"$f":"IF(G4=1,'Juli Voeropname'!O7,'Juli Voeropname'!E23/'Juli Voeropname'!E27)","v":1.03},{"$f":"IF(M10<1,'Juli Voeropname'!R13,\"\")","v":""}]
["OverigRuwvoer","Overig 1",0,null,null,"OverigRuwvoer","Overig 1",0,null,"Verwachte N excretie per ton meetmelk (kg)",null,null,{"$f":"'Juli Excretie'!E24","v":12.101282217318499}]
["Bijproducten","Bierbostel",175,null,null,"Bijproducten","Bierbostel",170,null,"Verwachte fosfaat excretie per ton meetmelk (kg)",null,null,{"$f":"'Juli Excretie'!E25*2.29","v":4.0583576114134905}]
["OverigRuwvoer","Overig 2",null,null,null,"OverigRuwvoer","Overig 2"]
["Bijproducten","BP 6",null,null,null,"Bijproducten","BP 6",null,null,"Kengetallen afgelopen maand"]
[null,null,null,null,null,"",null,null,null,"Totale droge stof opname/koe/dag",null,null,{"$f":"'Juli kengetallen'!C4","v":20.229125733309392}]
[null,null,null,null,null,"",null,null,null,"Ruw eiwit gehalte rantsoen (g/kg ds)",null,null,{"$f":"'Juli kengetallen'!C8","v":153.77372442830011}]
[null,null,null,null,null,"",null,null,null,"P gehalte rantsoen (g/kg ds)",null,null,{"$f":"'Juli kengetallen'!C10","v":3.7485596877889029}]
[null,null,null,null,null,"",null,null,null,{"$f":"'Juli kengetallen'!A16","v":"N excretie per ton meetmelk (kg)"},null,null,{"$f":"'Juli kengetallen'!C16","v":11.435907282517627}]
[null,null,null,null,null,null,null,null,null,"Fosfaat excretie per ton meetmelk (kg)",null,null,{"$f":"'Juli kengetallen'!C17*2.29","v":4.2884369152299353}]
["Krachtvoer","KV 1",102,null,null,"Gewenst ruw eiwit gehalte rantsoen (g/kg ds)",null,160]
["Krachtvoer","Melkbrok BM",255,null,null,"Gewenst P gehalte rantsoen (g/kg ds)",null,3.6,null,{"$f":"'Juli kengetallen'!A24","v":"Voerefficientie kg meetmelk/kg voer (ds)"},null,null,{"$f":"'Juli kengetallen'!C24","v":1.3465911135252759}]
["Krachtvoer",null,null,null,null,"Gewenste hoeveelheid krachtvoer (kg/100 kg melk)",null,16,null,{"$f":"'Juli kengetallen'!A25","v":"kg krachtvoer per 100 kg (excl bijprod)"},null,null,{"$f":"'Juli kengetallen'!C25","v":18.993555384862386}]
["kg krachtvoer gevoerd/100 kg melk",null,{"$f":"'Juli kengetallen'!C25","v":18.993555384862386},null,null,null,null,null,null,{"$f":"'Juli kengetallen'!A20","v":"VEM dekking"},null,null,{"$f":"'Juli kengetallen'!C20","v":1.03}]

{"sheet":"Aug vee+melk","index":19,"n_rows":29,"n_cols":5,"rows_kept":29,"cut":false,"hidden":false,"merged":[]}
[]
["Melkgevende koeien",null,68,null,69]
["Droge koeien*",null,3,null,3]
["*Het aantal droge koeien dat bij de melkveestapel loopt en dus ook van het ruwvoer mee vreet."]
[]
[null,null,{"$f":"'[1]Aug voer'!B3","v":"Augustus gerealiseerd"},null,{"$f":"'[1]Aug voer'!G3","v":"Augustus prognose"}]
["Tankmelk geleverd",null,51558,null,55000]
["Aantal dagen",null,30,null,30]
["Vet%",null,4.1500000000000002E-2,null,4.5199999999999997E-2]
["Eiwit%",null,3.5200000000000002E-2,null,3.5000000000000003E-2]
["Ureum",null,19,null,22]
[]
["Separatie melk kg/dag",null,30,null,30]
[]
["Melk per dag",null,{"$f":"IF(SUM(C7)>0,SUM(C7)/(SUM(C8)),\"\")+C13","v":1748.6},null,{"$f":"IF(SUM(E7)>0,SUM(E7)/(SUM(E8)),\"\")+E13","v":1863.3333333333333}]
["Eiwit",null,{"$f":"C15*MAX(C10)","v":61.550719999999998},null,{"$f":"E15*MAX(E10)","v":65.216666666666669}]
["Vet",null,{"$f":"(C9*C15)","v":72.566900000000004},null,{"$f":"(E9*E15)","v":84.222666666666655}]
["N",null,{"$f":"C16/6.38","v":9.6474482758620681},null,{"$f":"E16/6.38","v":10.222048066875654}]
[]
["kg melk/koe/dag",null,{"$f":"IF(C7>0,C15/C2,\"\")","v":25.714705882352941},null,{"$f":"IF(E7>0,E15/E2,\"\")","v":27.004830917874393}]
["FCPM/koe/dag",null,{"$f":"(0.337+0.116*MAX(C9)*100+0.06*MAX(C10)*100)*C15/C2","v":26.475861176470591},null,{"$f":"(0.337+0.116*MAX(E9)*100+0.06*MAX(E10)*100)*E15/E2","v":28.9308154589372}]
["Melkproductie incl droge",null,{"$f":"C15/(C2+C3)","v":24.628169014084506},null,{"$f":"E15/(E2+E3)","v":25.87962962962963}]
["Meetmelk 305 dgn",null,{"$f":"C21*305","v":8075.1376588235307},null,{"$f":"E21*305","v":8823.8987149758468}]
["gemiddeld Meetmelk 305 dgn",null,{"$f":"C23","v":8075.1376588235307},null,{"$f":"E23","v":8823.8987149758468}]
[]
["Behoefte"]
["VEM",null,{"$f":"IF('Aug voer'!B4=1,6013+440*C21+0.73*C21*C21,5013+440*C21+0.73*C21*C21)","v":18174.08791192315},null,{"$f":"IF('Aug voer'!G4=1,6013+440*E21+0.73*E21*E21,5013+440*E21+0.73*E21*E21)","v":19353.563022609298}]
["DVE",null,{"$f":"114+(1.396*(C15/C2)*C10*100*10)+0.000195*(((C15/C2)*C10*100*10)*((C15/C2)*C10*100*10))+20","v":1557.3655966697852},null,{"$f":"114+(1.396*(E15/E2)*E10*100*10)+0.000195*(((E15/E2)*E10*100*10)*((E15/E2)*E10*100*10))+20","v":1627.6582344395433}]
["P",null,{"$f":"19+1.43*C21","v":56.860481482352945},null,{"$f":"19+1.43*E21","v":60.371066106280196}]

{"sheet":"Aug voer","index":20,"n_rows":23,"n_cols":14,"rows_kept":23,"cut":false,"hidden":false,"merged":[[7,9,7,12],[21,5,21,6]]}
["Vul alle ","licht en ","donkerblauwe",null,null,"cellen in"]
[]
[null,"Augustus gerealiseerd",null,null,null,null,"Augustus prognose",null,null,"Prognose"]
["Weidegang (ja/nee)",1,null,null,null,"Weidegang (ja/nee)",1,null,null,"Drogestof opname uit weidegras kg/koe/dag",null,null,{"$f":"'Aug Voeropname'!E31","v":8.8198417463270768},{"$f":"IF(M4>10,'Aug Voeropname'!R12,\"\")","v":""}]
["Weidegras","Augustus standaard",null,null,null,"Weidegras","Augustus standaard",null,null,"Uren weidegang per koe/dag",null,null,{"$f":"IF(M4>0.1,IF(M4>2.5,(M4-3)+2,M4/1.5),\"\")","v":7.8198417463270768}]
["% restvoer",0.04,null,null,null,"% restvoer",0.04,null,null,"Gewenst ruw eiwit gehalte krachtvoer (g/kg)",null,null,{"$f":"(H20*'Aug Voeropname'!E2-'Aug Voeropname'!E6*'Aug Voeropname'!E2)/('Aug Voeropname'!E76/('Aug vee+melk'!E2+'Aug vee+melk'!E3))*0.9","v":168.63198496446816}]
[null,null,null,null,null,null,null,null,null,"Gewenst P gehalte krachtvoer (g/kg)",null,null,{"$f":"(H21*'Aug Voeropname'!E2-'Aug Voeropname'!E8*'Aug Voeropname'!E2)/('Aug Voeropname'!E76/('Aug vee+melk'!E3+'Aug vee+melk'!E2))*0.9","v":2.1374000318159316}]
["Wat is er afgelopen maand op stal gevoerd?","Naam","kg product gevoerd/dag",null,null,"Wat wilt u komende maand op stal voeren?","Naam","kg product te voeren/dag",null,"*Dit zijn de gewenste gehaltes in het krachtvoer om bij het ingevoerde stalrantsoen en gehaltes in het weidegras het gewenste ruw eiwit en P gehalte in het totale rantsoen te realiseren."]
["Kuilgras","Gkuil balen 2016 2e snede",200,null,null,{"$f":"IF(A9>0,A9,\"\")","v":"Kuilgras"},"Gkuil balen 2016 2e snede",200,null,"Totale droge stof opname/koe/dag",null,null,{"$f":"'Aug Voeropname'!E2","v":21.198291746327076}]
["Snijmais","Mkuil 1",1050,null,null,"Snijmais","Mkuil 1",1050,null,"VEM dekking",null,null,{"$f":"IF(G4=1,'Aug Voeropname'!O7,'Aug Voeropname'!E23/'Aug Voeropname'!E27)","v":1.03},{"$f":"IF(M10<1,'Aug Voeropname'!R13,\"\")","v":""}]
["Kuilgras","2017 1e 2e snede",180,null,null,"Kuilgras","2017 1e 2e snede",180,null,"Verwachte N excretie per ton meetmelk (kg)",null,null,{"$f":"'Aug Excretie'!E24","v":12.263409515249375}]
["Bijproducten","Bierbostel",175,null,null,"Bijproducten","Bierbostel",175,null,"Verwachte fosfaat excretie per ton meetmelk (kg)",null,null,{"$f":"'Aug Excretie'!E25*2.29","v":4.1208683837216524}]
["OverigRuwvoer","Overig 2",null,null,null,"OverigRuwvoer","Overig 2"]
["Bijproducten","BP 6",null,null,null,"Bijproducten","BP 6",null,null,"Kengetallen afgelopen maand"]
[null,null,null,null,null,"",null,null,null,"Totale droge stof opname/koe/dag",null,null,{"$f":"'Aug kengetallen'!C4","v":20.110117276774957}]
[null,null,null,null,null,"",null,null,null,"Ruw eiwit gehalte rantsoen (g/kg ds)",null,null,{"$f":"'Aug kengetallen'!C8","v":160.07890434233684}]
[null,null,null,null,null,"",null,null,null,"P gehalte rantsoen (g/kg ds)",null,null,{"$f":"'Aug kengetallen'!C10","v":3.8609379403293511}]
[null,null,null,null,null,"",null,null,null,{"$f":"'Aug kengetallen'!A16","v":"N excretie per ton meetmelk (kg)"},null,null,{"$f":"'Aug kengetallen'!C16","v":12.51151691842562}]
[null,null,null,null,null,null,null,null,null,"Fosfaat excretie per ton meetmelk (kg)",null,null,{"$f":"'Aug kengetallen'!C17*2.29","v":4.6800714574374611}]
["Krachtvoer","KV 1",100,null,null,"Gewenst ruw eiwit gehalte rantsoen (g/kg ds)",null,160]
["Krachtvoer","Melkbrok BM",250,null,null,"Gewenst P gehalte rantsoen (g/kg ds)",null,3.6,null,{"$f":"'Aug kengetallen'!A24","v":"Voerefficientie kg meetmelk/kg voer (ds)"},null,null,{"$f":"'Aug kengetallen'!C24","v":1.3165443449227117}]
["Krachtvoer",null,null,null,null,"Gewenste hoeveelheid krachtvoer (kg/100 kg melk)",null,17,null,{"$f":"'Aug kengetallen'!A25","v":"kg krachtvoer per 100 kg (excl bijprod)"},null,null,{"$f":"'Aug kengetallen'!C25","v":19.440571882525443}]
["kg krachtvoer gevoerd/100 kg melk",null,{"$f":"'Aug kengetallen'!C25","v":19.440571882525443},null,null,null,null,null,null,{"$f":"'Aug kengetallen'!A20","v":"VEM dekking"},null,null,{"$f":"'Aug kengetallen'!C20","v":1.03}]

{"sheet":"Sep vee+melk","index":21,"n_rows":29,"n_cols":5,"rows_kept":29,"cut":false,"hidden":false,"merged":[]}
[]
["Melkgevende koeien",null,70,null,70]
["Droge koeien*",null,2,null,3]
["*Het aantal droge koeien dat bij de melkveestapel loopt en dus ook van het ruwvoer mee vreet."]
[]
[null,null,{"$f":"'[1]Sep voer'!B3","v":"September gerealiseerd"},null,{"$f":"'[1]Sep voer'!G3","v":"September prognose"}]
["Tankmelk geleverd",null,53612,null,55000]
["Aantal dagen",null,30,null,30]
["Vet%",null,4.3900000000000002E-2,null,4.5199999999999997E-2]
["Eiwit%",null,3.61E-2,null,3.5000000000000003E-2]
["Ureum",null,23,null,22]
[]
["Separatie melk kg/dag",null,20,null,30]
[]
["Melk per dag",null,{"$f":"IF(SUM(C7)>0,SUM(C7)/(SUM(C8)),\"\")+C13","v":1807.0666666666666},null,{"$f":"IF(SUM(E7)>0,SUM(E7)/(SUM(E8)),\"\")+E13","v":1863.3333333333333}]
["Eiwit",null,{"$f":"C15*MAX(C10)","v":65.235106666666667},null,{"$f":"E15*MAX(E10)","v":65.216666666666669}]
["Vet",null,{"$f":"(C9*C15)","v":79.330226666666661},null,{"$f":"(E9*E15)","v":84.222666666666655}]
["N",null,{"$f":"C16/6.38","v":10.224938349007315},null,{"$f":"E16/6.38","v":10.222048066875654}]
[]
["kg melk/koe/dag",null,{"$f":"IF(C7>0,C15/C2,\"\")","v":25.815238095238094},null,{"$f":"IF(E7>0,E15/E2,\"\")","v":26.619047619047617}]
["FCPM/koe/dag",null,{"$f":"(0.337+0.116*MAX(C9)*100+0.06*MAX(C10)*100)*C15/C2","v":27.437467657142857},null,{"$f":"(0.337+0.116*MAX(E9)*100+0.06*MAX(E10)*100)*E15/E2","v":28.517518095238096}]
["Melkproductie incl droge",null,{"$f":"C15/(C2+C3)","v":25.098148148148148},null,{"$f":"E15/(E2+E3)","v":25.525114155251142}]
["Meetmelk 305 dgn",null,{"$f":"C21*305","v":8368.4276354285721},null,{"$f":"E21*305","v":8697.8430190476192}]
["gemiddeld Meetmelk 305 dgn",null,{"$f":"C23","v":8368.4276354285721},null,{"$f":"E23","v":8697.8430190476192}]
[]
["Behoefte"]
["VEM",null,{"$f":"IF('Sep voer'!B4=1,6013+440*C21+0.73*C21*C21,5013+440*C21+0.73*C21*C21)","v":18635.040450091692},null,{"$f":"IF('Sep voer'!G4=1,6013+440*E21+0.73*E21*E21,5013+440*E21+0.73*E21*E21)","v":19154.37961387269}]
["DVE",null,{"$f":"114+(1.396*(C15/C2)*C10*100*10)+0.000195*(((C15/C2)*C10*100*10)*((C15/C2)*C10*100*10))+20","v":1604.3306849224252},null,{"$f":"114+(1.396*(E15/E2)*E10*100*10)+0.000195*(((E15/E2)*E10*100*10)*((E15/E2)*E10*100*10))+20","v":1603.8672083333331}]
["P",null,{"$f":"19+1.43*C21","v":58.235578749714286},null,{"$f":"19+1.43*E21","v":59.780050876190472}]

{"sheet":"Sep voer","index":22,"n_rows":23,"n_cols":14,"rows_kept":23,"cut":false,"hidden":false,"merged":[[7,9,7,12],[21,5,21,6]]}
["Vul alle ","licht en ","donkerblauwe",null,null,"cellen in"]
[]
[null,"September gerealiseerd",null,null,null,null,"September prognose",null,null,"Prognose"]
["Weidegang (ja/nee)",1,null,null,null,"Weidegang (ja/nee)",1,null,null,"Drogestof opname uit weidegras kg/koe/dag",null,null,{"$f":"'Sep Voeropname'!E31","v":6.7794735529643813},{"$f":"IF(M4>10,'Sep Voeropname'!R12,\"\")","v":""}]
["Weidegras","September standaard",null,null,null,"Weidegras","September standaard",null,null,"Uren weidegang per koe/dag",null,null,{"$f":"IF(M4>0.1,IF(M4>2.5,(M4-3)+2,M4/1.5),\"\")","v":5.7794735529643813}]
["% restvoer",0.04,null,null,null,"% restvoer",0.05,null,null,"Gewenst ruw eiwit gehalte krachtvoer (g/kg)",null,null,{"$f":"(H20*'Sep Voeropname'!E2-'Sep Voeropname'!E6*'Sep Voeropname'!E2)/('Sep Voeropname'!E76/('Sep vee+melk'!E2+'Sep vee+melk'!E3))*0.9","v":113.77067901366721}]
[null,null,null,null,null,null,null,null,null,"Gewenst P gehalte krachtvoer (g/kg)",null,null,{"$f":"(H21*'Sep Voeropname'!E2-'Sep Voeropname'!E8*'Sep Voeropname'!E2)/('Sep Voeropname'!E76/('Sep vee+melk'!E3+'Sep vee+melk'!E2))*0.9","v":2.4246982841588567}]
["Wat is er afgelopen maand op stal gevoerd?","Naam","kg product gevoerd/dag",null,null,"Wat wilt u komende maand op stal voeren?","Naam","kg product te voeren/dag",null,"*Dit zijn de gewenste gehaltes in het krachtvoer om bij het ingevoerde stalrantsoen en gehaltes in het weidegras het gewenste ruw eiwit en P gehalte in het totale rantsoen te realiseren."]
["Kuilgras","2017 1e 2e snede",700,null,null,{"$f":"IF(A9>0,A9,\"\")","v":"Kuilgras"},"2017 1e 2e snede",700,null,"Totale droge stof opname/koe/dag",null,null,{"$f":"'Sep Voeropname'!E2","v":20.696874237895887}]
["Snijmais","Mkuil 1",1050,null,null,"Snijmais","Mkuil 1",1050,null,"VEM dekking",null,null,{"$f":"IF(G4=1,'Sep Voeropname'!O7,'Sep Voeropname'!E23/'Sep Voeropname'!E27)","v":1.03},{"$f":"IF(M10<1,'Sep Voeropname'!R13,\"\")","v":""}]
["Kuilgras","Gkuil balen 2016 2e snede",60,null,null,"Kuilgras","Gkuil balen 2016 2e snede",60,null,"Verwachte N excretie per ton meetmelk (kg)",null,null,{"$f":"'Sep Excretie'!E24","v":12.055302433026513}]
["Bijproducten","Bierbostel",175,null,null,"Bijproducten","Bierbostel",175,null,"Verwachte fosfaat excretie per ton meetmelk (kg)",null,null,{"$f":"'Sep Excretie'!E25*2.29","v":4.0667679314325627}]
["OverigRuwvoer","Overig 2",null,null,null,"OverigRuwvoer","Overig 2"]
["Bijproducten","BP 6",null,null,null,"Bijproducten","BP 6",null,null,"Kengetallen afgelopen maand"]
[null,null,null,null,null,"",null,null,null,"Totale droge stof opname/koe/dag",null,null,{"$f":"'Sep kengetallen'!C4","v":20.331782634341788}]
[null,null,null,null,null,"",null,null,null,"Ruw eiwit gehalte rantsoen (g/kg ds)",null,null,{"$f":"'Sep kengetallen'!C8","v":166.60582860085077}]
[null,null,null,null,null,"",null,null,null,"P gehalte rantsoen (g/kg ds)",null,null,{"$f":"'Sep kengetallen'!C10","v":3.831090514391855}]
[null,null,null,null,null,"",null,null,null,{"$f":"'Sep kengetallen'!A16","v":"N excretie per ton meetmelk (kg)"},null,null,{"$f":"'Sep kengetallen'!C16","v":12.741282568164705}]
[null,null,null,null,null,null,null,null,null,"Fosfaat excretie per ton meetmelk (kg)",null,null,{"$f":"'Sep kengetallen'!C17*2.29","v":4.5015258686517639}]
["Krachtvoer","KV 1",80,null,null,"Gewenst ruw eiwit gehalte rantsoen (g/kg ds)",null,160]
["Krachtvoer","Pens stabielbrok EBZ",286,null,null,"Gewenst P gehalte rantsoen (g/kg ds)",null,3.6,null,{"$f":"'Sep kengetallen'!A24","v":"Voerefficientie kg meetmelk/kg voer (ds)"},null,null,{"$f":"'Sep kengetallen'!C24","v":1.3494865723578549}]
["Krachtvoer",null,null,null,null,"Gewenste hoeveelheid krachtvoer (kg/100 kg melk)",null,18,null,{"$f":"'Sep kengetallen'!A25","v":"kg krachtvoer per 100 kg (excl bijprod)"},null,null,{"$f":"'Sep kengetallen'!C25","v":19.056319241656627}]
["kg krachtvoer gevoerd/100 kg melk",null,{"$f":"'Sep kengetallen'!C25","v":19.056319241656627},null,null,null,null,null,null,{"$f":"'Sep kengetallen'!A20","v":"VEM dekking"},null,null,{"$f":"'Sep kengetallen'!C20","v":1.03}]

{"sheet":"Okt vee+melk","index":23,"n_rows":29,"n_cols":5,"rows_kept":29,"cut":false,"hidden":false,"merged":[]}
[]
["Melkgevende koeien",null,70,null,70]
["Droge koeien*",null,3,null,3]
["*Het aantal droge koeien dat bij de melkveestapel loopt en dus ook van het ruwvoer mee vreet."]
[]
[null,null,{"$f":"'[1]Okt voer'!B3","v":"September gerealiseerd"},null,{"$f":"'[1]Okt voer'!G3","v":"September prognose"}]
["Tankmelk geleverd",null,59076,null,55000]
["Aantal dagen",null,33,null,30]
["Vet%",null,4.1799999999999997E-2,null,4.5199999999999997E-2]
["Eiwit%",null,3.6600000000000001E-2,null,3.5000000000000003E-2]
["Ureum",null,21,null,22]
[]
["Separatie melk kg/dag",null,35,null,30]
[]
["Melk per dag",null,{"$f":"IF(SUM(C7)>0,SUM(C7)/(SUM(C8)),\"\")+C13","v":1825.1818181818182},null,{"$f":"IF(SUM(E7)>0,SUM(E7)/(SUM(E8)),\"\")+E13","v":1863.3333333333333}]
["Eiwit",null,{"$f":"C15*MAX(C10)","v":66.801654545454554},null,{"$f":"E15*MAX(E10)","v":65.216666666666669}]
["Vet",null,{"$f":"(C9*C15)","v":76.292599999999993},null,{"$f":"(E9*E15)","v":84.222666666666655}]
["N",null,{"$f":"C16/6.38","v":10.470478768880024},null,{"$f":"E16/6.38","v":10.222048066875654}]
[]
["kg melk/koe/dag",null,{"$f":"IF(C7>0,C15/C2,\"\")","v":26.074025974025975},null,{"$f":"IF(E7>0,E15/E2,\"\")","v":26.619047619047617}]
["FCPM/koe/dag",null,{"$f":"(0.337+0.116*MAX(C9)*100+0.06*MAX(C10)*100)*C15/C2","v":27.155576571428572},null,{"$f":"(0.337+0.116*MAX(E9)*100+0.06*MAX(E10)*100)*E15/E2","v":28.517518095238096}]
["Melkproductie incl droge",null,{"$f":"C15/(C2+C3)","v":25.002490660024907},null,{"$f":"E15/(E2+E3)","v":25.525114155251142}]
["Meetmelk 305 dgn",null,{"$f":"C21*305","v":8282.4508542857147},null,{"$f":"E21*305","v":8697.8430190476192}]
["gemiddeld Meetmelk 305 dgn",null,{"$f":"C23","v":8282.4508542857147},null,{"$f":"E23","v":8697.8430190476192}]
[]
["Behoefte"]
["VEM",null,{"$f":"IF('Okt voer'!B4=1,6013+440*C21+0.73*C21*C21,5013+440*C21+0.73*C21*C21)","v":18499.774188845076},null,{"$f":"IF('Okt voer'!G4=1,6013+440*E21+0.73*E21*E21,5013+440*E21+0.73*E21*E21)","v":19154.37961387269}]
["DVE",null,{"$f":"114+(1.396*(C15/C2)*C10*100*10)+0.000195*(((C15/C2)*C10*100*10)*((C15/C2)*C10*100*10))+20","v":1643.8035891701666},null,{"$f":"114+(1.396*(E15/E2)*E10*100*10)+0.000195*(((E15/E2)*E10*100*10)*((E15/E2)*E10*100*10))+20","v":1603.8672083333331}]
["P",null,{"$f":"19+1.43*C21","v":57.832474497142854},null,{"$f":"19+1.43*E21","v":59.780050876190472}]

{"sheet":"Okt voer","index":24,"n_rows":23,"n_cols":14,"rows_kept":23,"cut":false,"hidden":false,"merged":[[7,9,7,12],[21,5,21,6]]}
["Vul alle ","licht en ","donkerblauwe",null,null,"cellen in"]
[]
[null,"Oktober gerealiseerd",null,null,null,null,"Oktober prognose",null,null,"Prognose"]
["Weidegang (ja/nee)",1,null,null,null,"Weidegang (ja/nee)",1,null,null,"Drogestof opname uit weidegras kg/koe/dag",null,null,{"$f":"'Okt Voeropname'!E31","v":4.1936412666332297},{"$f":"IF(M4>10,'Okt Voeropname'!R12,\"\")","v":""}]
["Weidegras","Oktober eigen invoer",null,null,null,"Weidegras","Oktober standaard",null,null,"Uren weidegang per koe/dag",null,null,{"$f":"IF(M4>0.1,IF(M4>2.5,(M4-3)+2,M4/1.5),\"\")","v":3.1936412666332297}]
["% restvoer",0.05,null,null,null,"% restvoer",0.05,null,null,"Gewenst ruw eiwit gehalte krachtvoer (g/kg)",null,null,{"$f":"(H20*'Okt Voeropname'!E2-'Okt Voeropname'!E6*'Okt Voeropname'!E2)/('Okt Voeropname'!E76/('Okt vee+melk'!E2+'Okt vee+melk'!E3))*0.9","v":135.72127814497713}]
[null,null,null,null,null,null,null,null,null,"Gewenst P gehalte krachtvoer (g/kg)",null,null,{"$f":"(H21*'Okt Voeropname'!E2-'Okt Voeropname'!E8*'Okt Voeropname'!E2)/('Okt Voeropname'!E76/('Okt vee+melk'!E3+'Okt vee+melk'!E2))*0.9","v":2.8989036077180064}]
["Wat is er afgelopen maand op stal gevoerd?","Naam","kg product gevoerd/dag",null,null,"Wat wilt u komende maand op stal voeren?","Naam","kg product te voeren/dag",null,"*Dit zijn de gewenste gehaltes in het krachtvoer om bij het ingevoerde stalrantsoen en gehaltes in het weidegras het gewenste ruw eiwit en P gehalte in het totale rantsoen te realiseren."]
["Kuilgras","2017 1e 2e snede",1200,null,null,{"$f":"IF(A9>0,A9,\"\")","v":"Kuilgras"},"2017 1e 2e snede",1200,null,"Totale droge stof opname/koe/dag",null,null,{"$f":"'Okt Voeropname'!E2","v":20.538812499509941}]
["Snijmais","Mkuil 1",1050,null,null,"Snijmais","Mkuil 1",1100,null,"VEM dekking",null,null,{"$f":"IF(G4=1,'Okt Voeropname'!O7,'Okt Voeropname'!E23/'Okt Voeropname'!E27)","v":1.03},{"$f":"IF(M10<1,'Okt Voeropname'!R13,\"\")","v":""}]
["Kuilgras","2017 1e 2e snede",0,null,null,"Kuilgras","2017 1e 2e snede",0,null,"Verwachte N excretie per ton meetmelk (kg)",null,null,{"$f":"'Okt Excretie'!E24","v":11.951484519688835}]
["Bijproducten","Bierbostel",130,null,null,"Bijproducten","Bierbostel",130,null,"Verwachte fosfaat excretie per ton meetmelk (kg)",null,null,{"$f":"'Okt Excretie'!E25*2.29","v":4.0285727210332869}]
["OverigRuwvoer","Overig 2",null,null,null,"OverigRuwvoer","Overig 2"]
["Bijproducten","BP 6",null,null,null,"Bijproducten","BP 6",null,null,"Kengetallen afgelopen maand"]
[null,null,null,null,null,"",null,null,null,"Totale droge stof opname/koe/dag",null,null,{"$f":"'Okt kengetallen'!C4","v":20.034013172413061}]
[null,null,null,null,null,"",null,null,null,"Ruw eiwit gehalte rantsoen (g/kg ds)",null,null,{"$f":"'Okt kengetallen'!C8","v":164.09908228715241}]
[null,null,null,null,null,"",null,null,null,"P gehalte rantsoen (g/kg ds)",null,null,{"$f":"'Okt kengetallen'!C10","v":3.745822491523338}]
[null,null,null,null,null,"",null,null,null,{"$f":"'Okt kengetallen'!A16","v":"N excretie per ton meetmelk (kg)"},null,null,{"$f":"'Okt kengetallen'!C16","v":12.308372092624422}]
[null,null,null,null,null,null,null,null,null,"Fosfaat excretie per ton meetmelk (kg)",null,null,{"$f":"'Okt kengetallen'!C17*2.29","v":4.3152577881426435}]
["Krachtvoer","KV 1",60,null,null,"Gewenst ruw eiwit gehalte rantsoen (g/kg ds)",null,160]
["Krachtvoer","Pens stabielbrok EBZ",310,null,null,"Gewenst P gehalte rantsoen (g/kg ds)",null,3.6,null,{"$f":"'Okt kengetallen'!A24","v":"Voerefficientie kg meetmelk/kg voer (ds)"},null,null,{"$f":"'Okt kengetallen'!C24","v":1.3554736306563848}]
["Krachtvoer",null,null,null,null,"Gewenste hoeveelheid krachtvoer (kg/100 kg melk)",null,18,null,{"$f":"'Okt kengetallen'!A25","v":"kg krachtvoer per 100 kg (excl bijprod)"},null,null,{"$f":"'Okt kengetallen'!C25","v":19.464562911455872}]
["kg krachtvoer gevoerd/100 kg melk",null,{"$f":"'Okt kengetallen'!C25","v":19.464562911455872},null,null,null,null,null,null,{"$f":"'Okt kengetallen'!A20","v":"VEM dekking"},null,null,{"$f":"'Okt kengetallen'!C20","v":1.03}]

{"sheet":"Nov vee+melk","index":25,"n_rows":29,"n_cols":5,"rows_kept":29,"cut":false,"hidden":false,"merged":[]}
[]
["Melkgevende koeien",null,69,null,70]
["Droge koeien*",null,4,null,3]
["*Het aantal droge koeien dat bij de melkveestapel loopt en dus ook van het ruwvoer mee vreet."]
[]
[null,null,{"$f":"'[1]Nov voer'!B3","v":"November gerealiseerd"},null,{"$f":"'[1]Nov voer'!G3","v":"November prognose"}]
["Tankmelk geleverd",null,55014,null,55000]
["Aantal dagen",null,30,null,30]
["Vet%",null,4.3200000000000002E-2,null,4.5199999999999997E-2]
["Eiwit%",null,3.7999999999999999E-2,null,3.5000000000000003E-2]
["Ureum",null,17,null,22]
[]
["Separatie melk kg/dag",null,30,null,30]
[]
["Melk per dag",null,{"$f":"IF(SUM(C7)>0,SUM(C7)/(SUM(C8)),\"\")+C13","v":1863.8},null,{"$f":"IF(SUM(E7)>0,SUM(E7)/(SUM(E8)),\"\")+E13","v":1863.3333333333333}]
["Eiwit",null,{"$f":"C15*MAX(C10)","v":70.824399999999997},null,{"$f":"E15*MAX(E10)","v":65.216666666666669}]
["Vet",null,{"$f":"(C9*C15)","v":80.516159999999999},null,{"$f":"(E9*E15)","v":84.222666666666655}]
["N",null,{"$f":"C16/6.38","v":11.101003134796239},null,{"$f":"E16/6.38","v":10.222048066875654}]
[]
["kg melk/koe/dag",null,{"$f":"IF(C7>0,C15/C2,\"\")","v":27.01159420289855},null,{"$f":"IF(E7>0,E15/E2,\"\")","v":26.619047619047617}]
["FCPM/koe/dag",null,{"$f":"(0.337+0.116*MAX(C9)*100+0.06*MAX(C10)*100)*C15/C2","v":28.797600811594201},null,{"$f":"(0.337+0.116*MAX(E9)*100+0.06*MAX(E10)*100)*E15/E2","v":28.517518095238096}]
["Melkproductie incl droge",null,{"$f":"C15/(C2+C3)","v":25.531506849315068},null,{"$f":"E15/(E2+E3)","v":25.525114155251142}]
["Meetmelk 305 dgn",null,{"$f":"C21*305","v":8783.2682475362308},null,{"$f":"E21*305","v":8697.8430190476192}]
["gemiddeld Meetmelk 305 dgn",null,{"$f":"C23","v":8783.2682475362308},null,{"$f":"E23","v":8697.8430190476192}]
[]
["Behoefte"]
["VEM",null,{"$f":"IF('Nov voer'!B4=1,6013+440*C21+0.73*C21*C21,5013+440*C21+0.73*C21*C21)","v":18289.33468022932},null,{"$f":"IF('Nov voer'!G4=1,6013+440*E21+0.73*E21*E21,5013+440*E21+0.73*E21*E21)","v":18154.37961387269}]
["DVE",null,{"$f":"114+(1.396*(C15/C2)*C10*100*10)+0.000195*(((C15/C2)*C10*100*10)*((C15/C2)*C10*100*10))+20","v":1772.3592006921233},null,{"$f":"114+(1.396*(E15/E2)*E10*100*10)+0.000195*(((E15/E2)*E10*100*10)*((E15/E2)*E10*100*10))+20","v":1603.8672083333331}]
["P",null,{"$f":"19+1.43*C21","v":60.180569160579708},null,{"$f":"19+1.43*E21","v":59.780050876190472}]

{"sheet":"Nov voer","index":26,"n_rows":23,"n_cols":14,"rows_kept":23,"cut":false,"hidden":false,"merged":[[7,9,7,12],[21,5,21,6]]}
["Vul alle ","licht en ","donkerblauwe",null,null,"cellen in"]
[]
[null,"November gerealiseerd",null,null,null,null,"November prognose",null,null,"Prognose"]
["Weidegang (ja/nee)",2,null,null,null,"Weidegang (ja/nee)",2,null,null,"Drogestof opname uit weidegras kg/koe/dag",null,null,{"$f":"'Nov Voeropname'!E31","v":0},{"$f":"IF(M4>10,'Nov Voeropname'!R12,\"\")","v":""}]
["Weidegras","Eigen invoer",null,null,null,"Weidegras","Eigen invoer",null,null,"Uren weidegang per koe/dag",null,null,{"$f":"IF(M4>0.1,IF(M4>2.5,(M4-3)+2,M4/1.5),\"\")","v":""}]
["% restvoer",0.05,null,null,null,"% restvoer",0.05,null,null,"Gewenst ruw eiwit gehalte krachtvoer (g/kg)",null,null,{"$f":"(H20*'Nov Voeropname'!E2-'Nov Voeropname'!E6*'Nov Voeropname'!E2)/('Nov Voeropname'!E76/('Nov vee+melk'!E2+'Nov vee+melk'!E3))*0.9","v":167.79007901013719}]
[null,null,null,null,null,null,null,null,null,"Gewenst P gehalte krachtvoer (g/kg)",null,null,{"$f":"(H21*'Nov Voeropname'!E2-'Nov Voeropname'!E8*'Nov Voeropname'!E2)/('Nov Voeropname'!E76/('Nov vee+melk'!E3+'Nov vee+melk'!E2))*0.9","v":4.4613476446034577}]
["Wat is er afgelopen maand op stal gevoerd?","Naam","kg product gevoerd/dag",null,null,"Wat wilt u komende maand op stal voeren?","Naam","kg product te voeren/dag",null,"*Dit zijn de gewenste gehaltes in het krachtvoer om bij het ingevoerde stalrantsoen en gehaltes in het weidegras het gewenste ruw eiwit en P gehalte in het totale rantsoen te realiseren."]
["Kuilgras","2017 1e 2e snede",1750,null,null,{"$f":"IF(A9>0,A9,\"\")","v":"Kuilgras"},"2017 1e 2e snede",1800,null,"Totale droge stof opname/koe/dag",null,null,{"$f":"'Nov Voeropname'!E2","v":21.320308219178084}]
["Snijmais","silo 2 links",800,null,null,"Snijmais","silo 2 links",800,null,"VEM dekking",null,null,{"$f":"IF(G4=1,'Nov Voeropname'!O7,'Nov Voeropname'!E23/'Nov Voeropname'!E27)","v":1.1283092522009777},{"$f":"IF(M10<1,'Nov Voeropname'!R13,\"\")","v":""}]
["Kuilgras","2017 1e 2e snede",0,null,null,"Kuilgras","2017 1e 2e snede",0,null,"Verwachte N excretie per ton meetmelk (kg)",null,null,{"$f":"'Nov Excretie'!E24","v":12.601862766104677}]
["Bijproducten","Bierbostel",250,null,null,"Bijproducten","Bierbostel",250,null,"Verwachte fosfaat excretie per ton meetmelk (kg)",null,null,{"$f":"'Nov Excretie'!E25*2.29","v":4.2791971609213935}]
["Bijproducten","soja raap",10,null,null,"Bijproducten","soja raap",20]
["Bijproducten","sodagrain",140,null,null,"Bijproducten","sodagrain",140,null,"Kengetallen afgelopen maand"]
[null,null,null,null,null,"",null,null,null,"Totale droge stof opname/koe/dag",null,null,{"$f":"'Nov kengetallen'!C4","v":20.98068493150685}]
[null,null,null,null,null,"",null,null,null,"Ruw eiwit gehalte rantsoen (g/kg ds)",null,null,{"$f":"'Nov kengetallen'!C8","v":157.18654633420169}]
[null,null,null,null,null,"",null,null,null,"P gehalte rantsoen (g/kg ds)",null,null,{"$f":"'Nov kengetallen'!C10","v":3.3991936484307153}]
[null,null,null,null,null,"",null,null,null,{"$f":"'Nov kengetallen'!A16","v":"N excretie per ton meetmelk (kg)"},null,null,{"$f":"'Nov kengetallen'!C16","v":11.392457371628618}]
[null,null,null,null,null,null,null,null,null,"Fosfaat excretie per ton meetmelk (kg)",null,null,{"$f":"'Nov kengetallen'!C17*2.29","v":3.7350142423940289}]
["Krachtvoer","Protitopbrok",75,null,null,"Gewenst ruw eiwit gehalte rantsoen (g/kg ds)",null,160]
["Krachtvoer","Pens stabielbrok EBZ",286,null,null,"Gewenst P gehalte rantsoen (g/kg ds)",null,3.6,null,{"$f":"'Nov kengetallen'!A24","v":"Voerefficientie kg meetmelk/kg voer (ds)"},null,null,{"$f":"'Nov kengetallen'!C24","v":1.372576772665254}]
["Krachtvoer",null,null,null,null,"Gewenste hoeveelheid krachtvoer (kg/100 kg melk)",null,18,null,{"$f":"'Nov kengetallen'!A25","v":"kg krachtvoer per 100 kg (excl bijprod)"},null,null,{"$f":"'Nov kengetallen'!C25","v":17.259388681682733}]
["kg krachtvoer gevoerd/100 kg melk",null,{"$f":"'Nov kengetallen'!C25","v":17.259388681682733},null,null,null,null,null,null,{"$f":"'Nov kengetallen'!A20","v":"VEM dekking"},null,null,{"$f":"'Nov kengetallen'!C20","v":1.096520093818995}]

{"sheet":"Dec vee+melk","index":27,"n_rows":29,"n_cols":5,"rows_kept":29,"cut":false,"hidden":false,"merged":[]}
[]
["Melkgevende koeien",null,70,null,70]
["Droge koeien*",null,3,null,3]
["*Het aantal droge koeien dat bij de melkveestapel loopt en dus ook van het ruwvoer mee vreet."]
[]
[null,null,{"$f":"'[1]Dec voer'!B3","v":"December gerealiseerd"},null,{"$f":"'[1]Dec voer'!G3","v":"December prognose"}]
["Tankmelk geleverd",null,60883,null,59000]
["Aantal dagen",null,30,null,30]
["Vet%",null,4.36E-2,null,4.5199999999999997E-2]
["Eiwit%",null,3.7199999999999997E-2,null,3.5000000000000003E-2]
["Ureum",null,19,null,20]
[]
["Separatie melk kg/dag",null,25,null,30]
[]
["Melk per dag",null,{"$f":"IF(SUM(C7)>0,SUM(C7)/(SUM(C8)),\"\")+C13","v":2054.4333333333334},null,{"$f":"IF(SUM(E7)>0,SUM(E7)/(SUM(E8)),\"\")+E13","v":1996.6666666666667}]
["Eiwit",null,{"$f":"C15*MAX(C10)","v":76.42492},null,{"$f":"E15*MAX(E10)","v":69.88333333333334}]
["Vet",null,{"$f":"(C9*C15)","v":89.573293333333339},null,{"$f":"(E9*E15)","v":90.249333333333325}]
["N",null,{"$f":"C16/6.38","v":11.978827586206897},null,{"$f":"E16/6.38","v":10.95350052246604}]
[]
["kg melk/koe/dag",null,{"$f":"IF(C7>0,C15/C2,\"\")","v":29.349047619047621},null,{"$f":"IF(E7>0,E15/E2,\"\")","v":28.523809523809526}]
["FCPM/koe/dag",null,{"$f":"(0.337+0.116*MAX(C9)*100+0.06*MAX(C10)*100)*C15/C2","v":31.284910800000002},null,{"$f":"(0.337+0.116*MAX(E9)*100+0.06*MAX(E10)*100)*E15/E2","v":30.558127619047621}]
["Melkproductie incl droge",null,{"$f":"C15/(C2+C3)","v":28.142922374429226},null,{"$f":"E15/(E2+E3)","v":27.351598173515981}]
["Meetmelk 305 dgn",null,{"$f":"C21*305","v":9541.8977940000004},null,{"$f":"E21*305","v":9320.2289238095236}]
["gemiddeld Meetmelk 305 dgn",null,{"$f":"C23","v":9541.8977940000004},null,{"$f":"E23","v":9320.2289238095236}]
[]
["Behoefte"]
["VEM",null,{"$f":"IF('Dec voer'!B4=1,6013+440*C21+0.73*C21*C21,5013+440*C21+0.73*C21*C21)","v":19492.84507194769},null,{"$f":"IF('Dec voer'!G4=1,6013+440*E21+0.73*E21*E21,5013+440*E21+0.73*E21*E21)","v":19140.249541795813}]
["DVE",null,{"$f":"114+(1.396*(C15/C2)*C10*100*10)+0.000195*(((C15/C2)*C10*100*10)*((C15/C2)*C10*100*10))+20","v":1890.570004044132},null,{"$f":"114+(1.396*(E15/E2)*E10*100*10)+0.000195*(((E15/E2)*E10*100*10)*((E15/E2)*E10*100*10))+20","v":1722.0238750000001}]
["P",null,{"$f":"19+1.43*C21","v":63.737422444000003},null,{"$f":"19+1.43*E21","v":62.698122495238096}]

{"sheet":"Dec voer","index":28,"n_rows":23,"n_cols":14,"rows_kept":23,"cut":false,"hidden":false,"merged":[[7,9,7,12],[21,5,21,6]]}
["Vul alle ","licht en ","donkerblauwe",null,null,"cellen in"]
[]
[null,"December gerealiseerd",null,null,null,null,"December prognose",null,null,"Prognose"]
["Weidegang (ja/nee)",2,null,null,null,"Weidegang (ja/nee)",2,null,null,"Drogestof opname uit weidegras kg/koe/dag",null,null,{"$f":"'Dec Voeropname'!E31","v":0},{"$f":"IF(M4>10,'Dec Voeropname'!R12,\"\")","v":""}]
["Weidegras","Eigen invoer",null,null,null,"Weidegras","Eigen invoer",null,null,"Uren weidegang per koe/dag",null,null,{"$f":"IF(M4>0.1,IF(M4>2.5,(M4-3)+2,M4/1.5),\"\")","v":""}]
["% restvoer",0.06,null,null,null,"% restvoer",0.05,null,null,"Gewenst ruw eiwit gehalte krachtvoer (g/kg)",null,null,{"$f":"(H20*'Dec Voeropname'!E2-'Dec Voeropname'!E6*'Dec Voeropname'!E2)/('Dec Voeropname'!E76/('Dec vee+melk'!E2+'Dec vee+melk'!E3))*0.9","v":167.72396355036182}]
[null,null,null,null,null,null,null,null,null,"Gewenst P gehalte krachtvoer (g/kg)",null,null,{"$f":"(H21*'Dec Voeropname'!E2-'Dec Voeropname'!E8*'Dec Voeropname'!E2)/('Dec Voeropname'!E76/('Dec vee+melk'!E3+'Dec vee+melk'!E2))*0.9","v":4.4072787979966606}]
["Wat is er afgelopen maand op stal gevoerd?","Naam","kg product gevoerd/dag",null,null,"Wat wilt u komende maand op stal voeren?","Naam","kg product te voeren/dag",null,"*Dit zijn de gewenste gehaltes in het krachtvoer om bij het ingevoerde stalrantsoen en gehaltes in het weidegras het gewenste ruw eiwit en P gehalte in het totale rantsoen te realiseren."]
["Kuilgras","2017 1e 2e snede",1800,null,null,{"$f":"IF(A9>0,A9,\"\")","v":"Kuilgras"},"2017 1e 2e snede",1800,null,"Totale droge stof opname/koe/dag",null,null,{"$f":"'Dec Voeropname'!E2","v":21.720308219178083}]
["Snijmais","silo 2 links",820,null,null,"Snijmais","silo 2 links",800,null,"VEM dekking",null,null,{"$f":"IF(G4=1,'Dec Voeropname'!O7,'Dec Voeropname'!E23/'Dec Voeropname'!E27)","v":1.0912868395939996},{"$f":"IF(M10<1,'Dec Voeropname'!R13,\"\")","v":""}]
["Kuilgras","2017 1e 2e snede",0,null,null,"Kuilgras",null,0,null,"Verwachte N excretie per ton meetmelk (kg)",null,null,{"$f":"'Dec Excretie'!E24","v":11.777552131228875}]
["Bijproducten","Bierbostel",250,null,null,"Bijproducten","Bierbostel",250,null,"Verwachte fosfaat excretie per ton meetmelk (kg)",null,null,{"$f":"'Dec Excretie'!E25*2.29","v":3.9820215960370202}]
["Bijproducten","soja raap",18,null,null,"Bijproducten","soja raap",20]
["Bijproducten","sodagrain",150,null,null,"Bijproducten","sodagrain",150,null,"Kengetallen afgelopen maand"]
[null,null,null,null,null,"",null,null,null,"Totale droge stof opname/koe/dag",null,null,{"$f":"'Dec kengetallen'!C4","v":22.160435616438352}]
[null,null,null,null,null,"",null,null,null,"Ruw eiwit gehalte rantsoen (g/kg ds)",null,null,{"$f":"'Dec kengetallen'!C8","v":158.82153088084047}]
[null,null,null,null,null,"",null,null,null,"P gehalte rantsoen (g/kg ds)",null,null,{"$f":"'Dec kengetallen'!C10","v":3.4347269272561416}]
[null,null,null,null,null,"",null,null,null,{"$f":"'Dec kengetallen'!A16","v":"N excretie per ton meetmelk (kg)"},null,null,{"$f":"'Dec kengetallen'!C16","v":11.147981219012532}]
[null,null,null,null,null,null,null,null,null,"Fosfaat excretie per ton meetmelk (kg)",null,null,{"$f":"'Dec kengetallen'!C17*2.29","v":3.6172039709981281}]
["Krachtvoer","Protitopbrok",115,null,null,"Gewenst ruw eiwit gehalte rantsoen (g/kg ds)",null,160]
["Krachtvoer","Pens stabielbrok EBZ",315,null,null,"Gewenst P gehalte rantsoen (g/kg ds)",null,3.6,null,{"$f":"'Dec kengetallen'!A24","v":"Voerefficientie kg meetmelk/kg voer (ds)"},null,null,{"$f":"'Dec kengetallen'!C24","v":1.4117462012702142}]
["Krachtvoer",null,null,null,null,"Gewenste hoeveelheid krachtvoer (kg/100 kg melk)",null,18,null,{"$f":"'Dec kengetallen'!A25","v":"kg krachtvoer per 100 kg (excl bijprod)"},null,null,{"$f":"'Dec kengetallen'!C25","v":18.457095023220312}]
["kg krachtvoer gevoerd/100 kg melk",null,{"$f":"'Dec kengetallen'!C25","v":18.457095023220312},null,null,null,null,null,null,{"$f":"'Dec kengetallen'!A20","v":"VEM dekking"},null,null,{"$f":"'Dec kengetallen'!C20","v":1.0883523197932483}]

{"sheet":"Dec Voeropname","index":29,"n_rows":162,"n_cols":18,"rows_kept":162,"cut":false,"hidden":true,"merged":[]}
["Gem rantsoen gehaltes (d dgn)",null,{"$f":"'Dec voer'!B3","v":"December gerealiseerd"},null,{"$f":"'Dec voer'!G3","v":"December prognose"}]
["DS opname/koe",null,{"$f":"C34","v":22.160435616438352},null,{"$f":"E34","v":21.720308219178083}]
["VEM",null,{"$f":"C12","v":957.34052888777853},null,{"$f":"AVERAGE(E12:E12)","v":961.65773619474237}]
["DVE",null,{"$f":"AVERAGE(C13)","v":74.77064097572881},null,{"$error":"#N/A"},null,null,null,null,null,null,null,1,null,null,null,null,"Voedermiddelen"]
["OEB",null,{"$f":"AVERAGE(C14)","v":520.68055068493152},null,{"$error":"#N/A"},null,null,null,null,null,null,null,2,null,null,null,null,"Kuilgras"]
["RE",null,{"$f":"AVERAGE(C15)","v":158.82153088084047},null,121.98243074705982,null,null,null,null,null,null,null,null,null,null,null,null,"Snijmais"]
["N",null,{"$f":"AVERAGE(C16)","v":25.411444940934473},null,19.51718891952957,null,null,null,null,null,null,null,"Vem toeslag weidegang",null,1.03,null,null,"OverigRuwvoer"]
["P",null,3.4347269272561416,null,2.6010131923126045,null,null,null,null,null,null,null,null,null,null,null,null,"Bijproducten"]
[null,null,null,null,null,null,null,null,null,null,null,null,null,null,null,null,null,"Krachtvoer"]
[]
["Rantsoen gehaltes (incl. weidegras)"]
["VEM",null,{"$f":"C35/C34","v":957.34052888777853},null,{"$f":"E35/E34","v":961.65773619474237},null,null,null,null,null,null,null,null,null,null,null,null,"Let op bij beperkt weiden is deze opname niet realistisch!"]
["DVE",null,{"$f":"C36/C34","v":74.77064097572881},null,{"$f":"E36/E34","v":{"$error":"#N/A"}},null,null,null,null,null,null,null,null,null,null,null,null,"Let op VEM dekking te laag!"]
["OEB",null,{"$f":"C37","v":520.68055068493152},null,{"$f":"E37","v":{"$error":"#N/A"}}]
["RE",null,{"$f":"C38/C34","v":158.82153088084047},null,{"$f":"E38/E34","v":121.98243074705982}]
["N",null,{"$f":"C39/C34","v":25.411444940934473},null,{"$f":"E39/E34","v":19.51718891952957}]
["P",null,{"$f":"C40/C34","v":3.4347269272561416},null,{"$f":"E40/E34","v":2.6010131923126045}]
[]
[]
[]
[]
["kg ds",null,{"$f":"C55/SUM('Dec vee+melk'!C2:C3)","v":22.160435616438352},null,{"$f":"E55/SUM('Dec vee+melk'!E2:E3)","v":21.720308219178083}]
["Vemopname ex weidegras",null,{"$f":"C22*C45","v":21215.083153424657},null,{"$f":"E22*E45","v":20887.502431506851}]
[]
[]
[]
["VEM behoefte",null,{"$f":"IF('Dec voer'!B4=1,'Dec vee+melk'!C27*'Dec Voeropname'!O7,'Dec vee+melk'!C27)","v":19492.84507194769},null,{"$f":"IF('Dec voer'!G4=1,'Dec vee+melk'!E27*'Dec Voeropname'!O7,'Dec vee+melk'!E27)","v":19140.249541795813}]
["Behoefte-opname",null,{"$f":"C27-'Dec Voeropname'!C23","v":-1722.2380814769676},null,{"$f":"E27-'Dec Voeropname'!E23","v":-1747.2528897110387}]
[null,null,{"$f":"C28/VLOOKUP('Dec voer'!B5,Weidegras!$A$5:$J$119,4,FALSE)","v":{"$error":"#DIV/0!"}},null,{"$f":"E28/VLOOKUP('Dec voer'!G5,Weidegras!$A$5:$J$119,4,FALSE)","v":{"$error":"#DIV/0!"}}]
[null,null,{"$f":"IF(C29>0,C29,0)","v":{"$error":"#DIV/0!"}},null,{"$f":"IF(E29>0,E29,0)","v":{"$error":"#DIV/0!"}}]
["Weidegrasopname/koe",null,{"$f":"IF('Dec voer'!B4=1,C30,0)","v":0},null,{"$f":"IF('Dec voer'!G4=1,E30,0)","v":0}]
[]
["Rantsoenopname incl weidegras"]
["droge stof",null,{"$f":"C22+C31","v":22.160435616438352},null,{"$f":"E22+E31","v":21.720308219178083}]
["VEM",null,{"$f":"C45*C22+C31*VLOOKUP('Dec voer'!B5,Weidegras!$A$6:$J$180,4,FALSE)","v":21215.083153424657},null,{"$f":"E45*$E$22+$E$31*VLOOKUP('Dec voer'!$G$5,Weidegras!$A$6:$J$180,4,FALSE)","v":20887.502431506851}]
["DVE",null,{"$f":"C46*C22+$C$31*VLOOKUP('Dec voer'!B5,Weidegras!$A$5:$J$150,5,FALSE)","v":1656.9499753424657},null,{"$f":"E46*$E$22+$E$31*VLOOKUP('Dec voer'!$G$5,Weidegras!$A$6:$J$180,5,FALSE)","v":{"$error":"#N/A"}}]
["OEB",null,{"$f":"C22*C47+$C$31*VLOOKUP('Dec voer'!B5,Weidegras!$A$6:$J$151,6,FALSE)","v":520.68055068493152},null,{"$f":"E47*$E$22+$E$31*VLOOKUP('Dec voer'!$G$5,Weidegras!$A$6:$J$180,6,FALSE)","v":{"$error":"#N/A"}}]
["RE",null,{"$f":"C48*C22+C31*VLOOKUP('Dec voer'!$B$5,Weidegras!$A$6:$J$181,7,FALSE)","v":3519.5543095890407},null,{"$f":"E48*$E$22+$E$31*VLOOKUP('Dec voer'!$G$5,Weidegras!$A$6:$J$180,7,FALSE)","v":2649.4959931506846}]
["N",null,{"$f":"C38/6.25","v":563.12868953424652},null,{"$f":"E38/6.25","v":423.91935890410952}]
["P",null,{"$f":"C50*C22+C31*VLOOKUP('Dec voer'!$B$5,Weidegras!$A$6:$J$183,10,FALSE)","v":76.115044931506858},null,{"$f":"E50*E22+$E$31*VLOOKUP('Dec voer'!$G$5,Weidegras!$A$6:$J$180,10,FALSE)","v":56.49480821917809}]
[]
[]
["Stalrantsoen gehaltes"]
["droge stof"]
["VEM",null,{"$f":"C56/C$55","v":957.34052888777853},null,{"$f":"E56/E$55","v":961.65773619474237}]
["DVE",null,{"$f":"C57/C$55*1000","v":74.77064097572881},null,{"$f":"E57/E$55*1000","v":{"$error":"#N/A"}}]
["OEB",null,{"$f":"C58/C$55","v":23.495952863791935},null,{"$f":"E58/E$55","v":{"$error":"#N/A"}}]
["RE",null,{"$f":"C59/C$55","v":158.82153088084047},null,121.98243074705982]
["N",null,{"$f":"C60/C$55","v":25.411444940934473},null,19.517188919529573]
["P",null,{"$f":"C61/C$55","v":3.4347269272561411},null,2.6010131923126045]
[]
[]
[]
["Stalrantsoen opname"]
["droge stof (kg)",null,{"$f":"C80","v":1617.7117999999998},null,1585.5825]
["VEM",null,{"$f":"C96","v":1548701.0702},null,1524787.6775]
["DVE",null,{"$f":"C112","v":120.9573482},null,{"$f":"E112","v":{"$error":"#N/A"}}]
["OEB",null,{"$f":"C128","v":38009.680200000003},null,{"$f":"E128","v":{"$error":"#N/A"}}]
["RE",null,{"$f":"C144","v":256927.46459999998},null,{"$f":"E144","v":193413.20749999999}]
["N",null,{"$f":"C146","v":41108.394335999998},null,{"$f":"E146","v":30946.1132}]
["P",null,{"$f":"C162","v":5556.3982800000003},null,{"$f":"E162","v":4124.1210000000001}]
[]
[]
[]
["Drogestof opname"]
[{"$f":"'Dec voer'!A9","v":"Kuilgras"},{"$f":"'Dec voer'!B9","v":"2017 1e 2e snede"},{"$f":"IF('Dec voer'!C9>0,VLOOKUP('Dec voer'!B9,Voedermiddelen!$A$4:$K$75,3,FALSE)*'Dec voer'!C9*(1-'Dec voer'!$B$6),\"\")","v":786.78},{"$f":"'Dec voer'!G9","v":"2017 1e 2e snede"},{"$f":"IF('Dec voer'!H9>0,VLOOKUP('Dec voer'!G9,Voedermiddelen!$A$4:$K$75,3,FALSE)*'Dec voer'!H9*(1-'Dec voer'!$G$6),\"\")","v":795.15}]
[{"$f":"'Dec voer'!A10","v":"Snijmais"},{"$f":"'Dec voer'!B10","v":"silo 2 links"},{"$f":"IF('Dec voer'!C10>0,VLOOKUP('Dec voer'!B10,Voedermiddelen!$A$4:$K$75,3,FALSE)*'Dec voer'!C10*(1-'Dec voer'!$B$6),\"\")","v":285.96679999999998},{"$f":"'Dec voer'!G10","v":"silo 2 links"},{"$f":"IF('Dec voer'!H10>0,VLOOKUP('Dec voer'!G10,Voedermiddelen!$A$4:$K$75,3,FALSE)*'Dec voer'!H10*(1-'Dec voer'!$G$6),\"\")","v":281.95999999999998}]
[{"$f":"'Dec voer'!A11","v":"Kuilgras"},{"$f":"'Dec voer'!B11","v":"2017 1e 2e snede"},{"$f":"IF('Dec voer'!C11>0,VLOOKUP('Dec voer'!B11,Voedermiddelen!$A$4:$K$75,3,FALSE)*'Dec voer'!C11*(1-'Dec voer'!$B$6),\"\")","v":""},{"$f":"'Dec voer'!G11","v":0},{"$f":"IF('Dec voer'!H11>0,VLOOKUP('Dec voer'!G11,Voedermiddelen!$A$4:$K$75,3,FALSE)*'Dec voer'!H11*(1-'Dec voer'!$G$6),\"\")","v":""}]
[{"$f":"'Dec voer'!A12","v":"Bijproducten"},{"$f":"'Dec voer'!B12","v":"Bierbostel"},{"$f":"IF('Dec voer'!C12>0,VLOOKUP('Dec voer'!B12,Voedermiddelen!$A$4:$K$75,3,FALSE)*'Dec voer'!C12*(1-'Dec voer'!$B$6),\"\")","v":51.464999999999996},{"$f":"'Dec voer'!G12","v":"Bierbostel"},{"$f":"IF('Dec voer'!H12>0,VLOOKUP('Dec voer'!G12,Voedermiddelen!$A$4:$K$75,3,FALSE)*'Dec voer'!H12*(1-'Dec voer'!$G$6),\"\")","v":52.012499999999996}]
[{"$f":"'Dec voer'!A13","v":"Bijproducten"},{"$f":"'Dec voer'!B13","v":"soja raap"},{"$f":"IF('Dec voer'!C13>0,VLOOKUP('Dec voer'!B13,Voedermiddelen!$A$4:$K$75,3,FALSE)*'Dec voer'!C13*(1-'Dec voer'!$B$6),\"\")","v":16.919999999999998},{"$f":"'Dec voer'!G13","v":"soja raap"},{"$f":"IF('Dec voer'!H13>0,VLOOKUP('Dec voer'!G13,Voedermiddelen!$A$4:$K$75,3,FALSE)*'Dec voer'!H13*(1-'Dec voer'!$G$6),\"\")","v":19}]
[{"$f":"'Dec voer'!A14","v":"Bijproducten"},{"$f":"'Dec voer'!B14","v":"sodagrain"},{"$f":"IF('Dec voer'!C14>0,VLOOKUP('Dec voer'!B14,Voedermiddelen!$A$4:$K$75,3,FALSE)*'Dec voer'!C14*(1-'Dec voer'!$B$6),\"\")","v":112.8},{"$f":"'Dec voer'!G14","v":"sodagrain"},{"$f":"IF('Dec voer'!H14>0,VLOOKUP('Dec voer'!G14,Voedermiddelen!$A$4:$K$75,3,FALSE)*'Dec voer'!H14*(1-'Dec voer'!$G$6),\"\")","v":114}]
[{"$f":"'Dec voer'!A15","v":0},{"$f":"'Dec voer'!B15","v":0},{"$f":"IF('Dec voer'!C15>0,VLOOKUP('Dec voer'!B15,Voedermiddelen!$A$4:$K$75,3,FALSE)*'Dec voer'!C15*(1-'Dec voer'!$B$6),\"\")","v":""},{"$f":"'Dec voer'!G15","v":0},{"$f":"IF('Dec voer'!H15>0,VLOOKUP('Dec voer'!G15,Voedermiddelen!$A$4:$K$75,3,FALSE)*'Dec voer'!H15*(1-'Dec voer'!$G$6),\"\")","v":""}]
[{"$f":"'Dec voer'!A16","v":0},{"$f":"'Dec voer'!B16","v":0},{"$f":"IF('Dec voer'!C16>0,VLOOKUP('Dec voer'!B16,Voedermiddelen!$A$4:$K$75,3,FALSE)*'Dec voer'!C16*(1-'Dec voer'!$B$6),\"\")","v":""},{"$f":"'Dec voer'!G16","v":0},{"$f":"IF('Dec voer'!H16>0,VLOOKUP('Dec voer'!G16,Voedermiddelen!$A$4:$K$75,3,FALSE)*'Dec voer'!H16*(1-'Dec voer'!$G$6),\"\")","v":""}]
[{"$f":"'Dec voer'!A17","v":0},{"$f":"'Dec voer'!B17","v":0},{"$f":"IF('Dec voer'!C17>0,VLOOKUP('Dec voer'!B17,Voedermiddelen!$A$4:$K$75,3,FALSE)*'Dec voer'!C17*(1-'Dec voer'!$B$6),\"\")","v":""},{"$f":"'Dec voer'!G17","v":0},{"$f":"IF('Dec voer'!H17>0,VLOOKUP('Dec voer'!G17,Voedermiddelen!$A$4:$K$75,3,FALSE)*'Dec voer'!H17*(1-'Dec voer'!$G$6),\"\")","v":""}]
[null,{"$f":"'Dec voer'!B18","v":0},{"$f":"IF('Dec voer'!C18>0,VLOOKUP('Dec voer'!B18,Voedermiddelen!$A$4:$K$75,3,FALSE)*'Dec voer'!C18*(1-'Dec voer'!$B$6),\"\")","v":""},{"$f":"'Dec voer'!G18","v":0},{"$f":"IF('Dec voer'!H18>0,VLOOKUP('Dec voer'!G18,Voedermiddelen!$A$4:$K$75,3,FALSE)*'Dec voer'!H18*(1-'Dec voer'!$G$6),\"\")","v":""}]
[null,{"$f":"'Dec voer'!B20","v":"Protitopbrok"},{"$f":"IF('Dec voer'!C20>0,VLOOKUP('Dec voer'!B20,Voedermiddelen!$A$4:$K$75,3,FALSE)*'Dec voer'!C20*(1-'Dec voer'!$B$6),\"\")","v":97.289999999999992},null,{"$f":"'Dec voer'!H22*'Dec vee+melk'!E15/100*0.9","v":323.45999999999998}]
[null,{"$f":"'Dec voer'!B21","v":"Pens stabielbrok EBZ"},{"$f":"IF('Dec voer'!C21>0,VLOOKUP('Dec voer'!B21,Voedermiddelen!$A$4:$K$75,3,FALSE)*'Dec voer'!C21*(1-'Dec voer'!$B$6),\"\")","v":266.49}]
[null,{"$f":"'Dec voer'!B22","v":0},{"$f":"IF('Dec voer'!C22>0,VLOOKUP('Dec voer'!B22,Voedermiddelen!$A$4:$K$75,3,FALSE)*'Dec voer'!C22*(1-'Dec voer'!$B$6),\"\")","v":""}]
[]
["Totaal",null,{"$f":"SUM(C66:C77)","v":1617.7117999999998},null,{"$f":"SUM(E66:E78)","v":1585.5825}]
[]
["VEM",{"$f":"B66","v":"2017 1e 2e snede"},{"$f":"IF('Dec voer'!C9>0,VLOOKUP('Dec voer'!B9,Voedermiddelen!$A$4:$K$75,4,FALSE)*C66,\"\")","v":736426.08},{"$f":"D66","v":"2017 1e 2e snede"},{"$f":"IF('Dec voer'!H9>0,VLOOKUP('Dec voer'!G9,Voedermiddelen!$A$4:$K$75,4,FALSE)*E66,\"\")","v":744260.4}]
[null,{"$f":"B67","v":"silo 2 links"},{"$f":"IF('Dec voer'!C10>0,VLOOKUP('Dec voer'!B10,Voedermiddelen!$A$4:$K$75,4,FALSE)*C67,\"\")","v":275671.9952},"silo 2 links",{"$f":"IF('Dec voer'!H10>0,VLOOKUP('Dec voer'!G10,Voedermiddelen!$A$4:$K$75,4,FALSE)*E67,\"\")","v":271809.44}]
[null,"2017 1e 2e snede",{"$f":"IF('Dec voer'!C11>0,VLOOKUP('Dec voer'!B11,Voedermiddelen!$A$4:$K$75,4,FALSE)*C68,\"\")","v":""},0,{"$f":"IF('Dec voer'!H11>0,VLOOKUP('Dec voer'!G11,Voedermiddelen!$A$4:$K$75,4,FALSE)*E68,\"\")","v":""}]
[null,"Bierbostel",{"$f":"IF('Dec voer'!C12>0,VLOOKUP('Dec voer'!B12,Voedermiddelen!$A$4:$K$75,4,FALSE)*C69,\"\")","v":48737.354999999996},"Bierbostel",{"$f":"IF('Dec voer'!H12>0,VLOOKUP('Dec voer'!G12,Voedermiddelen!$A$4:$K$75,4,FALSE)*E69,\"\")","v":49255.837499999994}]
[null,"soja raap",{"$f":"IF('Dec voer'!C13>0,VLOOKUP('Dec voer'!B13,Voedermiddelen!$A$4:$K$75,4,FALSE)*C70,\"\")","v":15938.639999999998},"soja raap",{"$f":"IF('Dec voer'!H13>0,VLOOKUP('Dec voer'!G13,Voedermiddelen!$A$4:$K$75,4,FALSE)*E70,\"\")","v":17898}]
[null,"sodagrain",{"$f":"IF('Dec voer'!C14>0,VLOOKUP('Dec voer'!B14,Voedermiddelen!$A$4:$K$75,4,FALSE)*C71,\"\")","v":116860.8},"sodagrain",{"$f":"IF('Dec voer'!H14>0,VLOOKUP('Dec voer'!G14,Voedermiddelen!$A$4:$K$75,4,FALSE)*E71,\"\")","v":118104}]
[null,0,{"$f":"IF('Dec voer'!C15>0,VLOOKUP('Dec voer'!B15,Voedermiddelen!$A$4:$K$75,4,FALSE)*C72,\"\")","v":""},0,{"$f":"IF('Dec voer'!H15>0,VLOOKUP('Dec voer'!G15,Voedermiddelen!$A$4:$K$75,4,FALSE)*E72,\"\")","v":""}]
[null,0,{"$f":"IF('Dec voer'!C16>0,VLOOKUP('Dec voer'!B16,Voedermiddelen!$A$4:$K$75,4,FALSE)*C73,\"\")","v":""},0,{"$f":"IF('Dec voer'!H16>0,VLOOKUP('Dec voer'!G16,Voedermiddelen!$A$4:$K$75,4,FALSE)*E73,\"\")","v":""}]
[null,0,{"$f":"IF('Dec voer'!C17>0,VLOOKUP('Dec voer'!B17,Voedermiddelen!$A$4:$K$75,4,FALSE)*C74,\"\")","v":""},0,{"$f":"IF('Dec voer'!H17>0,VLOOKUP('Dec voer'!G17,Voedermiddelen!$A$4:$K$75,4,FALSE)*E74,\"\")","v":""}]
[null,0,{"$f":"IF('Dec voer'!C18>0,VLOOKUP('Dec voer'!B18,Voedermiddelen!$A$4:$K$75,4,FALSE)*C75,\"\")","v":""},0,{"$f":"IF('Dec voer'!H18>0,VLOOKUP('Dec voer'!G18,Voedermiddelen!$A$4:$K$75,4,FALSE)*E75,\"\")","v":""}]
[null,"Protitopbrok",{"$f":"IF('Dec voer'!C20>0,VLOOKUP('Dec voer'!B20,Voedermiddelen!$A$4:$K$75,4,FALSE)*C76,\"\")","v":99235.799999999988},0,{"$f":"E76*1000","v":323460}]
[null,"Pens stabielbrok EBZ",{"$f":"IF('Dec voer'!C21>0,VLOOKUP('Dec voer'!B21,Voedermiddelen!$A$4:$K$75,4,FALSE)*C77,\"\")","v":255830.40000000002},0]
[null,0,{"$f":"IF('Dec voer'!C22>0,VLOOKUP('Dec voer'!B22,Voedermiddelen!$A$4:$K$75,4,FALSE)*C78,\"\")","v":""},0]
[]
["Totaal",null,{"$f":"SUM(C82:C93)","v":1548701.0702},null,{"$f":"SUM(E82:E94)","v":1524787.6775}]
[]
["DVE",{"$f":"B82","v":"2017 1e 2e snede"},{"$f":"IF('Dec voer'!C9>0,VLOOKUP('Dec voer'!B9,Voedermiddelen!$A$4:$K$75,5,FALSE)*C66,\"\")","v":47206.799999999996},{"$f":"D82","v":"2017 1e 2e snede"},{"$f":"IF('Dec voer'!H9>0,VLOOKUP('Dec voer'!G9,[2]Voedermiddelen!$A$4:$K$75,5,FALSE)*E66,\"\")","v":{"$error":"#N/A"}}]
[null,{"$f":"B83","v":"silo 2 links"},{"$f":"IF('Dec voer'!C10>0,VLOOKUP('Dec voer'!B10,Voedermiddelen!$A$4:$K$75,5,FALSE)*C67,\"\")","v":14012.373199999998},"silo 2 links",{"$f":"IF('Dec voer'!H10>0,VLOOKUP('Dec voer'!G10,[2]Voedermiddelen!$A$4:$K$75,5,FALSE)*E67,\"\")","v":{"$error":"#N/A"}}]
[null,"2017 1e 2e snede",{"$f":"IF('Dec voer'!C11>0,VLOOKUP('Dec voer'!B11,Voedermiddelen!$A$4:$K$75,5,FALSE)*C68,\"\")","v":""},0,{"$f":"IF('Dec voer'!H11>0,VLOOKUP('Dec voer'!G11,[2]Voedermiddelen!$A$4:$K$75,5,FALSE)*E68,\"\")","v":""}]
[null,"Bierbostel",{"$f":"IF('Dec voer'!C12>0,VLOOKUP('Dec voer'!B12,Voedermiddelen!$A$4:$K$75,5,FALSE)*C69,\"\")","v":7050.7049999999999},"Bierbostel",{"$f":"IF('Dec voer'!H12>0,VLOOKUP('Dec voer'!G12,[2]Voedermiddelen!$A$4:$K$75,5,FALSE)*E69,\"\")","v":7125.7124999999996}]
[null,"soja raap",{"$f":"IF('Dec voer'!C13>0,VLOOKUP('Dec voer'!B13,Voedermiddelen!$A$4:$K$75,5,FALSE)*C70,\"\")","v":1691.9999999999998},"soja raap",{"$f":"IF('Dec voer'!H13>0,VLOOKUP('Dec voer'!G13,[2]Voedermiddelen!$A$4:$K$75,5,FALSE)*E70,\"\")","v":{"$error":"#N/A"}}]
[null,"sodagrain",{"$f":"IF('Dec voer'!C14>0,VLOOKUP('Dec voer'!B14,Voedermiddelen!$A$4:$K$75,5,FALSE)*C71,\"\")","v":7896},"sodagrain",{"$f":"IF('Dec voer'!H14>0,VLOOKUP('Dec voer'!G14,[2]Voedermiddelen!$A$4:$K$75,5,FALSE)*E71,\"\")","v":{"$error":"#N/A"}}]
[null,0,{"$f":"IF('Dec voer'!C15>0,VLOOKUP('Dec voer'!B15,Voedermiddelen!$A$4:$K$75,5,FALSE)*C72,\"\")","v":""},0,{"$f":"IF('Dec voer'!H15>0,VLOOKUP('Dec voer'!G15,[2]Voedermiddelen!$A$4:$K$75,5,FALSE)*E72,\"\")","v":""}]
[null,0,{"$f":"IF('Dec voer'!C16>0,VLOOKUP('Dec voer'!B16,Voedermiddelen!$A$4:$K$75,5,FALSE)*C73,\"\")","v":""},0,{"$f":"IF('Dec voer'!H16>0,VLOOKUP('Dec voer'!G16,[2]Voedermiddelen!$A$4:$K$75,5,FALSE)*E73,\"\")","v":""}]
[null,0,{"$f":"IF('Dec voer'!C17>0,VLOOKUP('Dec voer'!B17,Voedermiddelen!$A$4:$K$75,5,FALSE)*C74,\"\")","v":""},0,{"$f":"IF('Dec voer'!H17>0,VLOOKUP('Dec voer'!G17,[2]Voedermiddelen!$A$4:$K$75,5,FALSE)*E74,\"\")","v":""}]
[null,0,{"$f":"IF('Dec voer'!C18>0,VLOOKUP('Dec voer'!B18,Voedermiddelen!$A$4:$K$75,5,FALSE)*C75,\"\")","v":""},0,{"$f":"IF('Dec voer'!H18>0,VLOOKUP('Dec voer'!G18,[2]Voedermiddelen!$A$4:$K$75,5,FALSE)*E75,\"\")","v":""}]
[null,"Protitopbrok",{"$f":"IF('Dec voer'!C20>0,VLOOKUP('Dec voer'!B20,Voedermiddelen!$A$4:$K$75,5,FALSE)*C76,\"\")","v":12453.119999999999},0]
[null,"Pens stabielbrok EBZ",{"$f":"IF('Dec voer'!C21>0,VLOOKUP('Dec voer'!B21,Voedermiddelen!$A$4:$K$75,5,FALSE)*C77,\"\")","v":30646.350000000002},0]
[null,0,{"$f":"IF('Dec voer'!C22>0,VLOOKUP('Dec voer'!B22,Voedermiddelen!$A$4:$K$75,5,FALSE)*C78,\"\")","v":""},0]
[]
["Totaal",null,{"$f":"SUM(C98:C109)/1000","v":120.9573482},null,{"$f":"SUM(E98:E110)/1000","v":{"$error":"#N/A"}}]
[]
["OEB",{"$f":"B98","v":"2017 1e 2e snede"},{"$f":"IF('Dec voer'!C9>0,VLOOKUP('Dec voer'!B9,Voedermiddelen!$A$4:$K$75,6,FALSE)*C66,\"\")","v":44846.46},{"$f":"D98","v":"2017 1e 2e snede"},{"$f":"IF('Dec voer'!H9>0,VLOOKUP('Dec voer'!G9,[2]Voedermiddelen!$A$4:$K$75,6,FALSE)*E66,\"\")","v":{"$error":"#N/A"}}]
[null,{"$f":"B99","v":"silo 2 links"},{"$f":"IF('Dec voer'!C10>0,VLOOKUP('Dec voer'!B10,Voedermiddelen!$A$4:$K$75,6,FALSE)*C67,\"\")","v":-10294.8048},"silo 2 links",{"$f":"IF('Dec voer'!H10>0,VLOOKUP('Dec voer'!G10,[2]Voedermiddelen!$A$4:$K$75,6,FALSE)*E67,\"\")","v":{"$error":"#N/A"}}]
[null,"2017 1e 2e snede",{"$f":"IF('Dec voer'!C11>0,VLOOKUP('Dec voer'!B11,Voedermiddelen!$A$4:$K$75,6,FALSE)*C68,\"\")","v":""},0,{"$f":"IF('Dec voer'!H11>0,VLOOKUP('Dec voer'!G11,[2]Voedermiddelen!$A$4:$K$75,6,FALSE)*E68,\"\")","v":""}]
[null,"Bierbostel",{"$f":"IF('Dec voer'!C12>0,VLOOKUP('Dec voer'!B12,Voedermiddelen!$A$4:$K$75,6,FALSE)*C69,\"\")","v":2830.5749999999998},"Bierbostel",{"$f":"IF('Dec voer'!H12>0,VLOOKUP('Dec voer'!G12,[2]Voedermiddelen!$A$4:$K$75,6,FALSE)*E69,\"\")","v":2860.6874999999995}]
[null,"soja raap",{"$f":"IF('Dec voer'!C13>0,VLOOKUP('Dec voer'!B13,Voedermiddelen!$A$4:$K$75,6,FALSE)*C70,\"\")","v":676.8},"soja raap",{"$f":"IF('Dec voer'!H13>0,VLOOKUP('Dec voer'!G13,[2]Voedermiddelen!$A$4:$K$75,6,FALSE)*E70,\"\")","v":{"$error":"#N/A"}}]
[null,"sodagrain",{"$f":"IF('Dec voer'!C14>0,VLOOKUP('Dec voer'!B14,Voedermiddelen!$A$4:$K$75,6,FALSE)*C71,\"\")","v":-4850.3999999999996},"sodagrain",{"$f":"IF('Dec voer'!H14>0,VLOOKUP('Dec voer'!G14,[2]Voedermiddelen!$A$4:$K$75,6,FALSE)*E71,\"\")","v":{"$error":"#N/A"}}]
[null,0,{"$f":"IF('Dec voer'!C15>0,VLOOKUP('Dec voer'!B15,Voedermiddelen!$A$4:$K$75,6,FALSE)*C72,\"\")","v":""},0,{"$f":"IF('Dec voer'!H15>0,VLOOKUP('Dec voer'!G15,[2]Voedermiddelen!$A$4:$K$75,6,FALSE)*E72,\"\")","v":""}]
[null,0,{"$f":"IF('Dec voer'!C16>0,VLOOKUP('Dec voer'!B16,Voedermiddelen!$A$4:$K$75,6,FALSE)*C73,\"\")","v":""},0,{"$f":"IF('Dec voer'!H16>0,VLOOKUP('Dec voer'!G16,[2]Voedermiddelen!$A$4:$K$75,6,FALSE)*E73,\"\")","v":""}]
[null,0,{"$f":"IF('Dec voer'!C17>0,VLOOKUP('Dec voer'!B17,Voedermiddelen!$A$4:$K$75,6,FALSE)*C74,\"\")","v":""},0,{"$f":"IF('Dec voer'!H17>0,VLOOKUP('Dec voer'!G17,[2]Voedermiddelen!$A$4:$K$75,6,FALSE)*E74,\"\")","v":""}]
[null,0,{"$f":"IF('Dec voer'!C18>0,VLOOKUP('Dec voer'!B18,Voedermiddelen!$A$4:$K$75,6,FALSE)*C75,\"\")","v":""},0,{"$f":"IF('Dec voer'!H18>0,VLOOKUP('Dec voer'!G18,[2]Voedermiddelen!$A$4:$K$75,6,FALSE)*E75,\"\")","v":""}]
[null,"Protitopbrok",{"$f":"IF('Dec voer'!C20>0,VLOOKUP('Dec voer'!B20,Voedermiddelen!$A$4:$K$75,6,FALSE)*C76,\"\")","v":1070.1899999999998},0]
[null,"Pens stabielbrok EBZ",{"$f":"IF('Dec voer'!C21>0,VLOOKUP('Dec voer'!B21,Voedermiddelen!$A$4:$K$75,6,FALSE)*C77,\"\")","v":3730.86},0]
[null,0,{"$f":"IF('Dec voer'!C22>0,VLOOKUP('Dec voer'!B22,Voedermiddelen!$A$4:$K$75,6,FALSE)*C78,\"\")","v":""},0]
[]
["Totaal",null,{"$f":"SUM(C114:C125)","v":38009.680200000003},null,{"$f":"SUM(E114:E126)","v":{"$error":"#N/A"}}]
[]
["RE",{"$f":"B114","v":"2017 1e 2e snede"},{"$f":"IF('Dec voer'!C9>0,VLOOKUP('Dec voer'!B9,Voedermiddelen!$A$4:$K$75,7,FALSE)*C66,\"\")","v":141620.4},{"$f":"D114","v":"2017 1e 2e snede"},{"$f":"IF('Dec voer'!H9>0,VLOOKUP('Dec voer'!G9,Voedermiddelen!$A$4:$K$75,7,FALSE)*E66,\"\")","v":143127}]
[null,{"$f":"B115","v":"silo 2 links"},{"$f":"IF('Dec voer'!C10>0,VLOOKUP('Dec voer'!B10,Voedermiddelen!$A$4:$K$75,7,FALSE)*C67,\"\")","v":20589.6096},"silo 2 links",{"$f":"IF('Dec voer'!H10>0,VLOOKUP('Dec voer'!G10,Voedermiddelen!$A$4:$K$75,7,FALSE)*E67,\"\")","v":20301.12}]
[null,"2017 1e 2e snede",{"$f":"IF('Dec voer'!C11>0,VLOOKUP('Dec voer'!B11,Voedermiddelen!$A$4:$K$75,7,FALSE)*C68,\"\")","v":""},0,{"$f":"IF('Dec voer'!H11>0,VLOOKUP('Dec voer'!G11,Voedermiddelen!$A$4:$K$75,7,FALSE)*E68,\"\")","v":""}]
[null,"Bierbostel",{"$f":"IF('Dec voer'!C12>0,VLOOKUP('Dec voer'!B12,Voedermiddelen!$A$4:$K$75,7,FALSE)*C69,\"\")","v":12711.855},"Bierbostel",{"$f":"IF('Dec voer'!H12>0,VLOOKUP('Dec voer'!G12,Voedermiddelen!$A$4:$K$75,7,FALSE)*E69,\"\")","v":12847.0875}]
[null,"soja raap",{"$f":"IF('Dec voer'!C13>0,VLOOKUP('Dec voer'!B13,Voedermiddelen!$A$4:$K$75,7,FALSE)*C70,\"\")","v":6328.079999999999},"soja raap",{"$f":"IF('Dec voer'!H13>0,VLOOKUP('Dec voer'!G13,Voedermiddelen!$A$4:$K$75,7,FALSE)*E70,\"\")","v":7106}]
[null,"sodagrain",{"$f":"IF('Dec voer'!C14>0,VLOOKUP('Dec voer'!B14,Voedermiddelen!$A$4:$K$75,7,FALSE)*C71,\"\")","v":9926.4},"sodagrain",{"$f":"IF('Dec voer'!H14>0,VLOOKUP('Dec voer'!G14,Voedermiddelen!$A$4:$K$75,7,FALSE)*E71,\"\")","v":10032}]
[null,0,{"$f":"IF('Dec voer'!C15>0,VLOOKUP('Dec voer'!B15,Voedermiddelen!$A$4:$K$75,7,FALSE)*C72,\"\")","v":""},0,{"$f":"IF('Dec voer'!H15>0,VLOOKUP('Dec voer'!G15,Voedermiddelen!$A$4:$K$75,7,FALSE)*E72,\"\")","v":""}]
[null,0,{"$f":"IF('Dec voer'!C16>0,VLOOKUP('Dec voer'!B16,Voedermiddelen!$A$4:$K$75,7,FALSE)*C73,\"\")","v":""},0,{"$f":"IF('Dec voer'!H16>0,VLOOKUP('Dec voer'!G16,Voedermiddelen!$A$4:$K$75,7,FALSE)*E73,\"\")","v":""}]
[null,0,{"$f":"IF('Dec voer'!C17>0,VLOOKUP('Dec voer'!B17,Voedermiddelen!$A$4:$K$75,7,FALSE)*C74,\"\")","v":""},0,{"$f":"IF('Dec voer'!H17>0,VLOOKUP('Dec voer'!G17,Voedermiddelen!$A$4:$K$75,7,FALSE)*E74,\"\")","v":""}]
[null,0,{"$f":"IF('Dec voer'!C18>0,VLOOKUP('Dec voer'!B18,Voedermiddelen!$A$4:$K$75,7,FALSE)*C75,\"\")","v":""},0,{"$f":"IF('Dec voer'!H18>0,VLOOKUP('Dec voer'!G18,Voedermiddelen!$A$4:$K$75,7,FALSE)*E75,\"\")","v":""}]
[null,"Protitopbrok",{"$f":"IF('Dec voer'!C20>0,VLOOKUP('Dec voer'!B20,Voedermiddelen!$A$4:$K$75,7,FALSE)*C76,\"\")","v":18582.39},0]
[null,"Pens stabielbrok EBZ",{"$f":"IF('Dec voer'!C21>0,VLOOKUP('Dec voer'!B21,Voedermiddelen!$A$4:$K$75,7,FALSE)*C77,\"\")","v":47168.73},0]
[null,{"$f":"B126","v":0},{"$f":"IF('Dec voer'!C22>0,VLOOKUP('Dec voer'!B22,Voedermiddelen!$A$4:$K$75,7,FALSE)*C78,\"\")","v":""},0]
[]
["Totaal",null,{"$f":"SUM(C130:C142)","v":256927.46459999998},null,{"$f":"SUM(E130:E142)","v":193413.20749999999}]
[]
["N opname",null,{"$f":"C144/6.25","v":41108.394335999998},null,{"$f":"E144/6.25","v":30946.1132},null,{"$f":"(E76/0.9*'Dec voer'!M6/6.25)","v":9644.7988000000041}]
[]
["P",{"$f":"B130","v":"2017 1e 2e snede"},{"$f":"IF('Dec voer'!C9>0,VLOOKUP('Dec voer'!B9,Voedermiddelen!$A$4:$K$75,10,FALSE)*C66,\"\")","v":2832.4079999999999},{"$f":"D130","v":"2017 1e 2e snede"},{"$f":"IF('Dec voer'!H9>0,VLOOKUP('Dec voer'!G9,Voedermiddelen!$A$4:$K$75,10,FALSE)*E66,\"\")","v":2862.54}]
[null,{"$f":"B131","v":"silo 2 links"},{"$f":"IF('Dec voer'!C10>0,VLOOKUP('Dec voer'!B10,Voedermiddelen!$A$4:$K$75,10,FALSE)*C67,\"\")","v":600.53027999999995},"silo 2 links",{"$f":"IF('Dec voer'!H10>0,VLOOKUP('Dec voer'!G10,Voedermiddelen!$A$4:$K$75,10,FALSE)*E67,\"\")","v":592.11599999999999}]
[null,"2017 1e 2e snede",{"$f":"IF('Dec voer'!C11>0,VLOOKUP('Dec voer'!B11,Voedermiddelen!$A$4:$K$75,10,FALSE)*C68,\"\")","v":""},0,{"$f":"IF('Dec voer'!H11>0,VLOOKUP('Dec voer'!G11,Voedermiddelen!$A$4:$K$75,10,FALSE)*E68,\"\")","v":""}]
[null,"Bierbostel",{"$f":"IF('Dec voer'!C12>0,VLOOKUP('Dec voer'!B12,Voedermiddelen!$A$4:$K$75,10,FALSE)*C69,\"\")","v":267.61799999999999},"Bierbostel",{"$f":"IF('Dec voer'!H12>0,VLOOKUP('Dec voer'!G12,Voedermiddelen!$A$4:$K$75,10,FALSE)*E69,\"\")","v":270.46499999999997}]
[null,"soja raap",{"$f":"IF('Dec voer'!C13>0,VLOOKUP('Dec voer'!B13,Voedermiddelen!$A$4:$K$75,10,FALSE)*C70,\"\")","v":121.82399999999998},"soja raap",{"$f":"IF('Dec voer'!H13>0,VLOOKUP('Dec voer'!G13,Voedermiddelen!$A$4:$K$75,10,FALSE)*E70,\"\")","v":136.80000000000001}]
[null,"sodagrain",{"$f":"IF('Dec voer'!C14>0,VLOOKUP('Dec voer'!B14,Voedermiddelen!$A$4:$K$75,10,FALSE)*C71,\"\")","v":259.44},"sodagrain",{"$f":"IF('Dec voer'!H14>0,VLOOKUP('Dec voer'!G14,Voedermiddelen!$A$4:$K$75,10,FALSE)*E71,\"\")","v":262.2}]
[null,0,{"$f":"IF('Dec voer'!C15>0,VLOOKUP('Dec voer'!B15,Voedermiddelen!$A$4:$K$75,10,FALSE)*C72,\"\")","v":""},0,{"$f":"IF('Dec voer'!H15>0,VLOOKUP('Dec voer'!G15,Voedermiddelen!$A$4:$K$75,10,FALSE)*E72,\"\")","v":""}]
[null,0,{"$f":"IF('Dec voer'!C16>0,VLOOKUP('Dec voer'!B16,Voedermiddelen!$A$4:$K$75,10,FALSE)*C73,\"\")","v":""},0,{"$f":"IF('Dec voer'!H16>0,VLOOKUP('Dec voer'!G16,Voedermiddelen!$A$4:$K$75,10,FALSE)*E73,\"\")","v":""}]
[null,0,{"$f":"IF('Dec voer'!C17>0,VLOOKUP('Dec voer'!B17,Voedermiddelen!$A$4:$K$75,10,FALSE)*C74,\"\")","v":""},0,{"$f":"IF('Dec voer'!H17>0,VLOOKUP('Dec voer'!G17,Voedermiddelen!$A$4:$K$75,10,FALSE)*E74,\"\")","v":""}]
[null,0,{"$f":"IF('Dec voer'!C18>0,VLOOKUP('Dec voer'!B18,Voedermiddelen!$A$4:$K$75,10,FALSE)*C75,\"\")","v":""},0,{"$f":"IF('Dec voer'!H18>0,VLOOKUP('Dec voer'!G18,Voedermiddelen!$A$4:$K$75,10,FALSE)*E75,\"\")","v":""}]
[null,{"$f":"B140","v":"Protitopbrok"},{"$f":"IF('Dec voer'!C20>0,VLOOKUP('Dec voer'!B20,Voedermiddelen!$A$4:$K$75,10,FALSE)*C76,\"\")","v":408.61799999999999},0]
[null,{"$f":"B141","v":"Pens stabielbrok EBZ"},{"$f":"IF('Dec voer'!C21>0,VLOOKUP('Dec voer'!B21,Voedermiddelen!$A$4:$K$75,10,FALSE)*C77,\"\")","v":1065.96},0]
[null,{"$f":"B142","v":0},{"$f":"IF('Dec voer'!C22>0,VLOOKUP('Dec voer'!B22,Voedermiddelen!$A$4:$K$75,10,FALSE)*C78,\"\")","v":""},0]
[]
["Totaal",null,{"$f":"SUM(C148:C160)","v":5556.3982800000003},null,{"$f":"SUM(E148:E160)","v":4124.1210000000001},null,{"$f":"(E76/0.9*'Dec voer'!M7)","v":1583.9759999999997}]

{"sheet":"Dec Excretie","index":30,"n_rows":25,"n_cols":5,"rows_kept":25,"cut":false,"hidden":true,"merged":[]}
["Veestapel"]
[null,null,{"$f":"'Dec vee+melk'!C6","v":"December gerealiseerd"},null,{"$f":"'Dec vee+melk'!E6","v":"December prognose"}]
[]
[]
["Excretie (kg/dier/dag)"]
[null,null,"N",null,"N"]
["Opname",null,{"$f":"'Dec Voeropname'!C2*'Dec Voeropname'!C7*0.001","v":0.56312868953424655},null,{"$f":"'Dec Voeropname'!E2*'Dec Voeropname'!E7*0.001+'Dec Voeropname'!G146*0.001/'Dec vee+melk'!E2","v":0.56170219890410955}]
["Gem opname 7 dgn",null,{"$f":"AVERAGE(C7:F7)","v":0.562415444219178},null,{"$f":"AVERAGE(E7)","v":0.56170219890410955}]
["Productie",null,{"$f":"'Dec vee+melk'!C22*'Dec vee+melk'!C10/6.38","v":0.16409352857817666},null,{"$f":"'Dec vee+melk'!E22*'Dec vee+melk'!E10/6.38","v":0.1500479523625485}]
["Vastlegging",null,{"$f":"1.4/365","v":3.8356164383561643E-3},null,{"$f":"1.4/365","v":3.8356164383561643E-3}]
["Onder de staart",null,{"$f":"C7-C9-C10","v":0.39519954451771372},null,{"$f":"E7-E9-E10","v":0.40781863010320485}]
["Vervluchtiging",null,{"$f":"C11*0.1175","v":4.643594648083136E-2},null,{"$f":"E11*0.1175","v":4.7918689037126566E-2}]
["Gemeten netto excretie",null,{"$f":"C11-C12","v":0.34876359803688234},null,{"$f":"E11-E12","v":0.35989994106607825}]
[]
[null,null,"P",null,"P"]
["Opname",null,{"$f":"'Dec Voeropname'!C2*'Dec Voeropname'!C8/1000","v":7.6115044931506864E-2},null,{"$f":"'Dec Voeropname'!E2*'Dec Voeropname'!E8/1000+'Dec Voeropname'!G162*0.001/'Dec vee+melk'!E2","v":7.9123036790606657E-2}]
["Gem opname 7 dgn",null,{"$f":"AVERAGE(C16:F16)","v":7.7619040861056754E-2},null,{"$f":"AVERAGE(E16)","v":7.9123036790606657E-2}]
["Productie",null,{"$f":"'Dec vee+melk'!C22*0.9/1000","v":2.5328630136986306E-2},null,{"$f":"'Dec vee+melk'!E22*0.9/1000","v":2.4616438356164384E-2}]
["Vastlegging",null,{"$f":"0.5/365","v":1.3698630136986301E-3},null,{"$f":"0.5/365","v":1.3698630136986301E-3}]
["Onder de staart",null,{"$f":"C16-C18-C19","v":4.9416551780821931E-2},null,{"$f":"E16-E18-E19","v":5.3136735420743646E-2}]
["Vervluchtiging"]
["Gemeten netto excretie",null,{"$f":"C20","v":4.9416551780821931E-2},null,{"$f":"E20","v":5.3136735420743646E-2}]
[]
["N excretie per ton meetmelk (kg)",null,{"$f":"C13/'Dec vee+melk'!C21*1000","v":11.147981219012532},null,{"$f":"E13/'Dec vee+melk'!E21*1000","v":11.777552131228875}]
["P excretie per ton meetmelk (kg)",null,{"$f":"C22/'Dec vee+melk'!C21*1000","v":1.5795650528376104},null,{"$f":"E22/'Dec vee+melk'!E21*1000","v":1.7388740594048122}]

{"sheet":"Dec kengetallen","index":31,"n_rows":106,"n_cols":6,"rows_kept":106,"cut":false,"hidden":true,"merged":[]}
["Rantsoen"]
["Datum",null,{"$f":"'Dec voer'!B3","v":"December gerealiseerd"},null,{"$f":"'Dec voer'!G3","v":"December prognose"}]
[]
[{"$f":"'Dec Voeropname'!A2","v":"DS opname/koe"},null,{"$f":"'Dec Voeropname'!C2","v":22.160435616438352},null,{"$f":"'Dec Voeropname'!E2","v":21.720308219178083}]
[{"$f":"'Dec Voeropname'!A3","v":"VEM"},null,{"$f":"'Dec Voeropname'!C3","v":957.34052888777853},null,{"$f":"'Dec Voeropname'!E3","v":961.65773619474237}]
[{"$f":"'Dec Voeropname'!A4","v":"DVE"},null,{"$f":"'Dec Voeropname'!C4","v":74.77064097572881},null,{"$f":"'Dec Voeropname'!E4","v":{"$error":"#N/A"}}]
[{"$f":"'Dec Voeropname'!A5","v":"OEB"},null,{"$f":"'Dec Voeropname'!C5","v":520.68055068493152},null,{"$f":"'Dec Voeropname'!E5","v":{"$error":"#N/A"}}]
[{"$f":"'Dec Voeropname'!A6","v":"RE"},null,{"$f":"'Dec Voeropname'!C6","v":158.82153088084047},null,{"$f":"'Dec Voeropname'!E6","v":121.98243074705982}]
[{"$f":"'Dec Voeropname'!A7","v":"N"},null,{"$f":"'Dec Voeropname'!C7","v":25.411444940934473},null,{"$f":"'Dec Voeropname'!E7","v":19.51718891952957}]
[{"$f":"'Dec Voeropname'!A8","v":"P"},null,{"$f":"'Dec Voeropname'!C8","v":3.4347269272561416},null,{"$f":"'Dec Voeropname'!E8","v":2.6010131923126045}]
[]
["Streefwaarde RE",null,{"$f":"'Dec voer'!H20","v":160}]
["Streefwaarde P",null,{"$f":"'Dec voer'!H21","v":3.6}]
[]
[]
[{"$f":"'Dec Excretie'!A24","v":"N excretie per ton meetmelk (kg)"},null,{"$f":"'Dec Excretie'!C24","v":11.147981219012532},null,{"$f":"'Dec Excretie'!E24","v":11.777552131228875}]
[{"$f":"'Dec Excretie'!A25","v":"P excretie per ton meetmelk (kg)"},null,{"$f":"'Dec Excretie'!C25","v":1.5795650528376104},null,{"$f":"'Dec Excretie'!E25","v":1.7388740594048122}]
[]
[]
["VEM dekking",null,{"$f":"'Dec Voeropname'!C35/'Dec vee+melk'!C27","v":1.0883523197932483},null,{"$f":"'Dec Voeropname'!E35/'Dec vee+melk'!E27","v":1.0912868395939996}]
["DVE dekking",null,{"$f":"'Dec Voeropname'!C36/'Dec vee+melk'!C28","v":0.8764287869785683},null,{"$f":"'Dec Voeropname'!E36/'Dec vee+melk'!E28","v":{"$error":"#N/A"}}]
[]
[]
["Voerefficientie kg meetmelk/kg voer (ds)",null,{"$f":"'Dec vee+melk'!C21/'Dec Voeropname'!C2","v":1.4117462012702142},null,{"$f":"'Dec vee+melk'!E21/'Dec Voeropname'!E2","v":1.4068919883957323}]
["kg krachtvoer per 100 kg (excl bijprod)",null,{"$f":"SUM('Dec Voeropname'!C76:C77)/('Dec vee+melk'!C21*'Dec vee+melk'!C2)*100/0.9","v":18.457095023220312},null,{"$f":"SUM('Dec Voeropname'!E76:E78)/('Dec vee+melk'!E21*'Dec vee+melk'!E2)*100","v":15.121532315274614}]
[]
[]
[{"$f":"A12","v":"Streefwaarde RE"},null,{"$f":"$C$12","v":160},null,{"$f":"$C$12","v":160}]
[{"$f":"A13","v":"Streefwaarde P"},null,{"$f":"$C$13","v":3.6},null,{"$f":"$C$13","v":3.6}]
[]
[]
[]
[]
[{"$f":"A2","v":"Datum"},null,{"$f":"C2","v":"December gerealiseerd"},{"$f":"E2","v":"December prognose"},{"$f":"#REF!","v":{"$error":"#REF!"}},{"$f":"#REF!","v":{"$error":"#REF!"}}]
["00:00:00"]
["DS opname/koe",null,{"$f":"C4","v":22.160435616438352},{"$f":"E4","v":21.720308219178083},{"$f":"#REF!","v":{"$error":"#REF!"}},{"$f":"#REF!","v":{"$error":"#REF!"}}]
["VEM",null,957.34052888777853,961.65773619474237,{"$f":"#REF!","v":{"$error":"#REF!"}},{"$f":"#REF!","v":{"$error":"#REF!"}}]
["DVE",null,74.77064097572881,{"$error":"#N/A"},{"$f":"#REF!","v":{"$error":"#REF!"}},{"$f":"#REF!","v":{"$error":"#REF!"}}]
["OEB",null,520.68055068493152,{"$error":"#N/A"},{"$f":"#REF!","v":{"$error":"#REF!"}},{"$f":"#REF!","v":{"$error":"#REF!"}}]
["RE",null,158.82153088084047,121.98243074705982,{"$f":"#REF!","v":{"$error":"#REF!"}},{"$f":"#REF!","v":{"$error":"#REF!"}}]
["N",null,25.411444940934473,19.51718891952957,{"$f":"#REF!","v":{"$error":"#REF!"}},{"$f":"#REF!","v":{"$error":"#REF!"}}]
["P",null,3.4347269272561416,2.6010131923126045,{"$f":"#REF!","v":{"$error":"#REF!"}},{"$f":"#REF!","v":{"$error":"#REF!"}}]
[{"$f":"A15","v":"00:00:00"}]
["N excretie per ton meetmelk (kg)",null,{"$f":"C16","v":11.147981219012532},{"$f":"E16","v":11.777552131228875},{"$f":"#REF!","v":{"$error":"#REF!"}},{"$f":"#REF!","v":{"$error":"#REF!"}}]
["P excretie per ton meetmelk (kg)",null,1.5795650528376104,{"$f":"E17","v":1.7388740594048122},{"$f":"#REF!","v":{"$error":"#REF!"}},{"$f":"#REF!","v":{"$error":"#REF!"}}]
["00:00:00",null,{"$f":"1000/C45/2.29","v":276.45662451378456},{"$f":"1000/D45/2.29","v":251.12872340903877},{"$f":"1000/E45/2.29","v":{"$error":"#REF!"}},{"$f":"1000/F45/2.29","v":{"$error":"#REF!"}}]
[]
[]
["Rantsoen"]
[]
["Kuilgras",null,{"$f":"IF('Dec Voeropname'!$A66='Dec kengetallen'!$A51,'Dec Voeropname'!C66,\"\")","v":786.78},null,{"$f":"IF('Dec Voeropname'!$A66='Dec kengetallen'!$A51,'Dec Voeropname'!E66,\"\")","v":795.15}]
["Kuilgras",null,{"$f":"IF('Dec Voeropname'!$A67='Dec kengetallen'!$A52,'Dec Voeropname'!C67,\"\")","v":""},null,{"$f":"IF('Dec Voeropname'!$A67='Dec kengetallen'!$A52,'Dec Voeropname'!E67,\"\")","v":""}]
["Kuilgras",null,{"$f":"IF('Dec Voeropname'!$A68='Dec kengetallen'!$A53,'Dec Voeropname'!C68,\"\")","v":""},null,{"$f":"IF('Dec Voeropname'!$A68='Dec kengetallen'!$A53,'Dec Voeropname'!E68,\"\")","v":""}]
["Kuilgras",null,{"$f":"IF('Dec Voeropname'!$A69='Dec kengetallen'!$A54,'Dec Voeropname'!C69,\"\")","v":""},null,{"$f":"IF('Dec Voeropname'!$A69='Dec kengetallen'!$A54,'Dec Voeropname'!E69,\"\")","v":""}]
["Kuilgras",null,{"$f":"IF('Dec Voeropname'!$A70='Dec kengetallen'!$A55,'Dec Voeropname'!C70,\"\")","v":""},null,{"$f":"IF('Dec Voeropname'!$A70='Dec kengetallen'!$A55,'Dec Voeropname'!E70,\"\")","v":""}]
["Kuilgras",null,{"$f":"IF('Dec Voeropname'!$A71='Dec kengetallen'!$A56,'Dec Voeropname'!C71,\"\")","v":""},null,{"$f":"IF('Dec Voeropname'!$A71='Dec kengetallen'!$A56,'Dec Voeropname'!E71,\"\")","v":""}]
["Kuilgras",null,{"$f":"IF('Dec Voeropname'!$A72='Dec kengetallen'!$A57,'Dec Voeropname'!C72,\"\")","v":""},null,{"$f":"IF('Dec Voeropname'!$A72='Dec kengetallen'!$A57,'Dec Voeropname'!E72,\"\")","v":""}]
["Kuilgras",null,{"$f":"IF('Dec Voeropname'!$A73='Dec kengetallen'!$A58,'Dec Voeropname'!C73,\"\")","v":""},null,{"$f":"IF('Dec Voeropname'!$A73='Dec kengetallen'!$A58,'Dec Voeropname'!E73,\"\")","v":""}]
["Kuilgras",null,{"$f":"IF('Dec Voeropname'!$A74='Dec kengetallen'!$A59,'Dec Voeropname'!C74,\"\")","v":""},null,{"$f":"IF('Dec Voeropname'!$A74='Dec kengetallen'!$A59,'Dec Voeropname'!E74,\"\")","v":""}]
["Totaal kuilgras",null,{"$f":"SUM(C51:C59)","v":786.78},null,{"$f":"SUM(E51:E59)","v":795.15}]
[]
["Snijmais",null,{"$f":"IF('Dec Voeropname'!$A66='Dec kengetallen'!$A62,'Dec Voeropname'!C66,\"\")","v":""},null,{"$f":"IF('Dec Voeropname'!$A66='Dec kengetallen'!$A62,'Dec Voeropname'!E66,\"\")","v":""}]
["Snijmais",null,{"$f":"IF('Dec Voeropname'!$A67='Dec kengetallen'!$A63,'Dec Voeropname'!C67,\"\")","v":285.96679999999998},null,{"$f":"IF('Dec Voeropname'!$A67='Dec kengetallen'!$A63,'Dec Voeropname'!E67,\"\")","v":281.95999999999998}]
["Snijmais",null,{"$f":"IF('Dec Voeropname'!$A68='Dec kengetallen'!$A64,'Dec Voeropname'!C68,\"\")","v":""},null,{"$f":"IF('Dec Voeropname'!$A68='Dec kengetallen'!$A64,'Dec Voeropname'!E68,\"\")","v":""}]
["Snijmais",null,{"$f":"IF('Dec Voeropname'!$A69='Dec kengetallen'!$A65,'Dec Voeropname'!C69,\"\")","v":""},null,{"$f":"IF('Dec Voeropname'!$A69='Dec kengetallen'!$A65,'Dec Voeropname'!E69,\"\")","v":""}]
["Snijmais",null,{"$f":"IF('Dec Voeropname'!$A70='Dec kengetallen'!$A66,'Dec Voeropname'!C70,\"\")","v":""},null,{"$f":"IF('Dec Voeropname'!$A70='Dec kengetallen'!$A66,'Dec Voeropname'!E70,\"\")","v":""}]
["Snijmais",null,{"$f":"IF('Dec Voeropname'!$A71='Dec kengetallen'!$A67,'Dec Voeropname'!C71,\"\")","v":""},null,{"$f":"IF('Dec Voeropname'!$A71='Dec kengetallen'!$A67,'Dec Voeropname'!E71,\"\")","v":""}]
["Snijmais",null,{"$f":"IF('Dec Voeropname'!$A72='Dec kengetallen'!$A68,'Dec Voeropname'!C72,\"\")","v":""},null,{"$f":"IF('Dec Voeropname'!$A72='Dec kengetallen'!$A68,'Dec Voeropname'!E72,\"\")","v":""}]
["Snijmais",null,{"$f":"IF('Dec Voeropname'!$A73='Dec kengetallen'!$A69,'Dec Voeropname'!C73,\"\")","v":""},null,{"$f":"IF('Dec Voeropname'!$A73='Dec kengetallen'!$A69,'Dec Voeropname'!E73,\"\")","v":""}]
["Snijmais",null,{"$f":"IF('Dec Voeropname'!$A74='Dec kengetallen'!$A70,'Dec Voeropname'!C74,\"\")","v":""},null,{"$f":"IF('Dec Voeropname'!$A74='Dec kengetallen'!$A70,'Dec Voeropname'!E74,\"\")","v":""}]
["Totaal snijmais",null,{"$f":"SUM(C62:C70)","v":285.96679999999998},null,{"$f":"SUM(E62:E70)","v":281.95999999999998}]
[]
["OverigRuwvoer",null,{"$f":"IF('Dec Voeropname'!$A66='Dec kengetallen'!$A73,'Dec Voeropname'!C66,\"\")","v":""},null,{"$f":"IF('Dec Voeropname'!$A66='Dec kengetallen'!$A73,'Dec Voeropname'!E66,\"\")","v":""}]
["OverigRuwvoer",null,{"$f":"IF('Dec Voeropname'!$A67='Dec kengetallen'!$A74,'Dec Voeropname'!C67,\"\")","v":""},null,{"$f":"IF('Dec Voeropname'!$A67='Dec kengetallen'!$A74,'Dec Voeropname'!E67,\"\")","v":""}]
["OverigRuwvoer",null,{"$f":"IF('Dec Voeropname'!$A68='Dec kengetallen'!$A75,'Dec Voeropname'!C68,\"\")","v":""},null,{"$f":"IF('Dec Voeropname'!$A68='Dec kengetallen'!$A75,'Dec Voeropname'!E68,\"\")","v":""}]
["OverigRuwvoer",null,{"$f":"IF('Dec Voeropname'!$A69='Dec kengetallen'!$A76,'Dec Voeropname'!C69,\"\")","v":""},null,{"$f":"IF('Dec Voeropname'!$A69='Dec kengetallen'!$A76,'Dec Voeropname'!E69,\"\")","v":""}]
["OverigRuwvoer",null,{"$f":"IF('Dec Voeropname'!$A70='Dec kengetallen'!$A77,'Dec Voeropname'!C70,\"\")","v":""},null,{"$f":"IF('Dec Voeropname'!$A70='Dec kengetallen'!$A77,'Dec Voeropname'!E70,\"\")","v":""}]
["OverigRuwvoer",null,{"$f":"IF('Dec Voeropname'!$A71='Dec kengetallen'!$A78,'Dec Voeropname'!C71,\"\")","v":""},null,{"$f":"IF('Dec Voeropname'!$A71='Dec kengetallen'!$A78,'Dec Voeropname'!E71,\"\")","v":""}]
["OverigRuwvoer",null,{"$f":"IF('Dec Voeropname'!$A72='Dec kengetallen'!$A79,'Dec Voeropname'!C72,\"\")","v":""},null,{"$f":"IF('Dec Voeropname'!$A72='Dec kengetallen'!$A79,'Dec Voeropname'!E72,\"\")","v":""}]
["OverigRuwvoer",null,{"$f":"IF('Dec Voeropname'!$A73='Dec kengetallen'!$A80,'Dec Voeropname'!C73,\"\")","v":""},null,{"$f":"IF('Dec Voeropname'!$A73='Dec kengetallen'!$A80,'Dec Voeropname'!E73,\"\")","v":""}]
["OverigRuwvoer",null,{"$f":"IF('Dec Voeropname'!$A74='Dec kengetallen'!$A81,'Dec Voeropname'!C74,\"\")","v":""},null,{"$f":"IF('Dec Voeropname'!$A74='Dec kengetallen'!$A81,'Dec Voeropname'!E74,\"\")","v":""}]
["Totaal overig Ruwvoer",null,{"$f":"SUM(C73:C81)","v":0},null,{"$f":"SUM(E73:E81)","v":0}]
[]
["Bijproducten",null,{"$f":"IF('Dec Voeropname'!$A66='Dec kengetallen'!$A84,'Dec Voeropname'!C66,\"\")","v":""},null,{"$f":"IF('Dec Voeropname'!$A66='Dec kengetallen'!$A84,'Dec Voeropname'!E66,\"\")","v":""}]
["Bijproducten",null,{"$f":"IF('Dec Voeropname'!$A67='Dec kengetallen'!$A85,'Dec Voeropname'!C67,\"\")","v":""},null,{"$f":"IF('Dec Voeropname'!$A67='Dec kengetallen'!$A85,'Dec Voeropname'!E67,\"\")","v":""}]
["Bijproducten",null,{"$f":"IF('Dec Voeropname'!$A68='Dec kengetallen'!$A86,'Dec Voeropname'!C68,\"\")","v":""},null,{"$f":"IF('Dec Voeropname'!$A68='Dec kengetallen'!$A86,'Dec Voeropname'!E68,\"\")","v":""}]
["Bijproducten",null,{"$f":"IF('Dec Voeropname'!$A69='Dec kengetallen'!$A87,'Dec Voeropname'!C69,\"\")","v":51.464999999999996},null,{"$f":"IF('Dec Voeropname'!$A69='Dec kengetallen'!$A87,'Dec Voeropname'!E69,\"\")","v":52.012499999999996}]
["Bijproducten",null,{"$f":"IF('Dec Voeropname'!$A70='Dec kengetallen'!$A88,'Dec Voeropname'!C70,\"\")","v":16.919999999999998},null,{"$f":"IF('Dec Voeropname'!$A70='Dec kengetallen'!$A88,'Dec Voeropname'!E70,\"\")","v":19}]
["Bijproducten",null,{"$f":"IF('Dec Voeropname'!$A71='Dec kengetallen'!$A89,'Dec Voeropname'!C71,\"\")","v":112.8},null,{"$f":"IF('Dec Voeropname'!$A71='Dec kengetallen'!$A89,'Dec Voeropname'!E71,\"\")","v":114}]
["Bijproducten",null,{"$f":"IF('Dec Voeropname'!$A72='Dec kengetallen'!$A90,'Dec Voeropname'!C72,\"\")","v":""},null,{"$f":"IF('Dec Voeropname'!$A72='Dec kengetallen'!$A90,'Dec Voeropname'!E72,\"\")","v":""}]
["Bijproducten",null,{"$f":"IF('Dec Voeropname'!$A73='Dec kengetallen'!$A91,'Dec Voeropname'!C73,\"\")","v":""},null,{"$f":"IF('Dec Voeropname'!$A73='Dec kengetallen'!$A91,'Dec Voeropname'!E73,\"\")","v":""}]
["Bijproducten",null,{"$f":"IF('Dec Voeropname'!$A74='Dec kengetallen'!$A92,'Dec Voeropname'!C74,\"\")","v":""},null,{"$f":"IF('Dec Voeropname'!$A74='Dec kengetallen'!$A92,'Dec Voeropname'!E74,\"\")","v":""}]
["Totaal Bijproducten",null,{"$f":"SUM(C84:C92)","v":181.185},null,{"$f":"SUM(E84:E92)","v":185.01249999999999}]
[]
["Krachtvoer",null,{"$f":"SUM('Dec Voeropname'!C76:C77)","v":363.78},null,{"$f":"SUM('Dec Voeropname'!E76:E78)","v":323.45999999999998}]
[]
["Vers gras",null,{"$f":"'Dec Voeropname'!C31*('Dec vee+melk'!C2+'Dec vee+melk'!C3)","v":0},null,{"$f":"'Dec Voeropname'!E31*('Dec vee+melk'!E2+'Dec vee+melk'!E3)","v":0}]
[]
["Totaal",null,{"$f":"C95+C93+C82+C71+C60+C97","v":1617.7117999999998},null,{"$f":"E95+E93+E82+E71+E60+E97","v":1585.5825}]
[]
["Vers gras",null,{"$f":"C97/C99","v":0},null,{"$f":"E97/E99","v":0}]
["Aandeel kuilgras",null,{"$f":"C60/C$99","v":0.48635362615269301},null,{"$f":"E60/E$99","v":0.50148762363358579}]
["Aandeel snijmais",null,{"$f":"C71/C$99","v":0.17677240161071955},null,{"$f":"E71/E$99","v":0.17782739151069085}]
["Aandeel overig ruwvoer",null,{"$f":"C82/C$99","v":0},null,{"$f":"E82/E$99","v":0}]
["Aandeel bijproducten",null,{"$f":"C93/C$99","v":0.11200079025200906},null,{"$f":"E93/E$99","v":0.11668424695656013}]
["Aandeel krachtvoer",null,{"$f":"C95/C$99","v":0.22487318198457848},null,{"$f":"E95/E$99","v":0.20400073789916323}]

{"sheet":"Nov Voeropname","index":32,"n_rows":162,"n_cols":18,"rows_kept":162,"cut":false,"hidden":true,"merged":[]}
["Gem rantsoen gehaltes (d dgn)",null,{"$f":"'Nov voer'!B3","v":"November gerealiseerd"},null,{"$f":"'Nov voer'!G3","v":"November prognose"}]
["DS opname/koe",null,{"$f":"C34","v":20.98068493150685},null,{"$f":"E34","v":21.320308219178084}]
["VEM",null,{"$f":"C12","v":955.86121448951724},null,{"$f":"AVERAGE(E12:E12)","v":960.76258728172525}]
["DVE",null,{"$f":"AVERAGE(C13)","v":73.160867138072192},null,{"$error":"#N/A"},null,null,null,null,null,null,null,1,null,null,null,null,"Voedermiddelen"]
["OEB",null,{"$f":"AVERAGE(C14)","v":502.85321917808221},null,{"$error":"#N/A"},null,null,null,null,null,null,null,2,null,null,null,null,"Kuilgras"]
["RE",null,{"$f":"AVERAGE(C15)","v":157.18654633420169},null,123.84128419588372,null,null,null,null,null,null,null,null,null,null,null,null,"Snijmais"]
["N",null,{"$f":"AVERAGE(C16)","v":25.149847413472269},null,19.814605471341395,null,null,null,null,null,null,null,"Vem toeslag weidegang",null,1.03,null,null,"OverigRuwvoer"]
["P",null,3.3991936484307153,null,2.6385808115935512,null,null,null,null,null,null,null,null,null,null,null,null,"Bijproducten"]
[null,null,null,null,null,null,null,null,null,null,null,null,null,null,null,null,null,"Krachtvoer"]
[]
["Rantsoen gehaltes (incl. weidegras)"]
["VEM",null,{"$f":"C35/C34","v":955.86121448951724},null,{"$f":"E35/E34","v":960.76258728172525},null,null,null,null,null,null,null,null,null,null,null,null,"Let op bij beperkt weiden is deze opname niet realistisch!"]
["DVE",null,{"$f":"C36/C34","v":73.160867138072192},null,{"$f":"E36/E34","v":{"$error":"#N/A"}},null,null,null,null,null,null,null,null,null,null,null,null,"Let op VEM dekking te laag!"]
["OEB",null,{"$f":"C37","v":502.85321917808221},null,{"$f":"E37","v":{"$error":"#N/A"}}]
["RE",null,{"$f":"C38/C34","v":157.18654633420169},null,{"$f":"E38/E34","v":123.84128419588372}]
["N",null,{"$f":"C39/C34","v":25.149847413472269},null,{"$f":"E39/E34","v":19.814605471341395}]
["P",null,{"$f":"C40/C34","v":3.3991936484307153},null,{"$f":"E40/E34","v":2.6385808115935512}]
[]
[]
[]
[]
["kg ds",null,{"$f":"C55/SUM('Nov vee+melk'!C2:C3)","v":20.98068493150685},null,{"$f":"E55/SUM('Nov vee+melk'!E2:E3)","v":21.320308219178084}]
["Vemopname ex weidegras",null,{"$f":"C22*C45","v":20054.622979452051},null,{"$f":"E22*E45","v":20483.754486301368}]
[]
[]
[]
["VEM behoefte",null,{"$f":"IF('Nov voer'!B4=1,'Nov vee+melk'!C27*'Nov Voeropname'!O7,'Nov vee+melk'!C27)","v":18289.33468022932},null,{"$f":"IF('Nov voer'!G4=1,'Nov vee+melk'!E27*'Nov Voeropname'!O7,'Nov vee+melk'!E27)","v":18154.37961387269}]
["Behoefte-opname",null,{"$f":"C27-'Nov Voeropname'!C23","v":-1765.2882992227314},null,{"$f":"E27-'Nov Voeropname'!E23","v":-2329.3748724286779}]
[null,null,{"$f":"C28/VLOOKUP('Nov voer'!B5,Weidegras!$A$5:$J$119,4,FALSE)","v":{"$error":"#DIV/0!"}},null,{"$f":"E28/VLOOKUP('Nov voer'!G5,Weidegras!$A$5:$J$119,4,FALSE)","v":{"$error":"#DIV/0!"}}]
[null,null,{"$f":"IF(C29>0,C29,0)","v":{"$error":"#DIV/0!"}},null,{"$f":"IF(E29>0,E29,0)","v":{"$error":"#DIV/0!"}}]
["Weidegrasopname/koe",null,{"$f":"IF('Nov voer'!B4=1,C30,0)","v":0},null,{"$f":"IF('Nov voer'!G4=1,E30,0)","v":0}]
[]
["Rantsoenopname incl weidegras"]
["droge stof",null,{"$f":"C22+C31","v":20.98068493150685},null,{"$f":"E22+E31","v":21.320308219178084}]
["VEM",null,{"$f":"C45*C22+C31*VLOOKUP('Nov voer'!B5,Weidegras!$A$6:$J$180,4,FALSE)","v":20054.622979452051},null,{"$f":"E45*E22+E31*VLOOKUP('Nov voer'!G5,Weidegras!$A$6:$J$180,4,FALSE)","v":20483.754486301368}]
["DVE",null,{"$f":"C46*C22+$C$31*VLOOKUP('Nov voer'!B5,Weidegras!$A$5:$J$150,5,FALSE)","v":1534.965102739726},null,{"$f":"E46*E22+$C$31*VLOOKUP('Nov voer'!G5,Weidegras!$A$5:$J$150,5,FALSE)","v":{"$error":"#N/A"}}]
["OEB",null,{"$f":"C47*C22+$C$31*VLOOKUP('Nov voer'!B5,Weidegras!$A$5:$J$150,6,FALSE)","v":502.85321917808221},null,{"$f":"E22*E47+$C$31*VLOOKUP('Nov voer'!G5,Weidegras!$A$6:$J$151,6,FALSE)","v":{"$error":"#N/A"}}]
["RE",null,{"$f":"C48*C22+$C$31*VLOOKUP('Nov voer'!B5,Weidegras!$A$5:$J$150,7,FALSE)","v":3297.8814041095889},null,{"$f":"E48*E22+E31*VLOOKUP('Nov voer'!$B$5,Weidegras!$A$6:$J$181,7,FALSE)","v":2640.3343493150687}]
["N",null,{"$f":"C38/6.25","v":527.6610246575342},null,{"$f":"E38/6.25","v":422.45349589041098}]
["P",null,{"$f":"C50*C22+C31*VLOOKUP('Nov voer'!$B$5,Weidegras!$A$6:$J$183,10,FALSE)","v":71.317410958904105},null,{"$f":"E50*E22+E31*VLOOKUP('Nov voer'!$B$5,Weidegras!$A$6:$J$183,10,FALSE)","v":56.255356164383571}]
[]
[]
["Stalrantsoen gehaltes"]
["droge stof"]
["VEM",null,{"$f":"C56/C$55","v":955.86121448951724},null,{"$f":"E56/E$55","v":960.76258728172525}]
["DVE",null,{"$f":"C57/C$55*1000","v":73.160867138072192},null,{"$f":"E57/E$55*1000","v":{"$error":"#N/A"}}]
["OEB",null,{"$f":"C58/C$55","v":23.967435802009675},null,{"$f":"E58/E$55","v":{"$error":"#N/A"}}]
["RE",null,{"$f":"C59/C$55","v":157.18654633420169},null,123.84128419588372]
["N",null,{"$f":"C60/C$55","v":25.149847413472273},null,19.814605471341395]
["P",null,{"$f":"C61/C$55","v":3.3991936484307157},null,2.6385808115935512]
[]
[]
[]
["Stalrantsoen opname"]
["droge stof (kg)",null,{"$f":"C80","v":1531.5900000000001},null,1556.3825000000002]
["VEM",null,{"$f":"C96","v":1463987.4774999998},null,1495314.0774999999]
["DVE",null,{"$f":"C112","v":112.05245250000002},null,{"$f":"E112","v":{"$error":"#N/A"}}]
["OEB",null,{"$f":"C128","v":36708.285000000003},null,{"$f":"E128","v":{"$error":"#N/A"}}]
["RE",null,{"$f":"C144","v":240745.3425},null,{"$f":"E144","v":192744.4075}]
["N",null,{"$f":"C146","v":38519.254800000002},null,{"$f":"E146","v":30839.105200000002}]
["P",null,{"$f":"C162","v":5206.1710000000003},null,{"$f":"E162","v":4106.6410000000005}]
[]
[]
[]
["Drogestof opname"]
[{"$f":"'Nov voer'!A9","v":"Kuilgras"},{"$f":"'Nov voer'!B9","v":"2017 1e 2e snede"},{"$f":"IF('Nov voer'!C9>0,VLOOKUP('Nov voer'!B9,Voedermiddelen!$A$4:$K$75,3,FALSE)*'Nov voer'!C9*(1-'Nov voer'!$B$6),\"\")","v":773.0625},{"$f":"'Nov voer'!G9","v":"2017 1e 2e snede"},{"$f":"IF('Nov voer'!H9>0,VLOOKUP('Nov voer'!G9,Voedermiddelen!$A$4:$K$75,3,FALSE)*'Nov voer'!H9*(1-'Nov voer'!$G$6),\"\")","v":795.15}]
[{"$f":"'Nov voer'!A10","v":"Snijmais"},{"$f":"'Nov voer'!B10","v":"silo 2 links"},{"$f":"IF('Nov voer'!C10>0,VLOOKUP('Nov voer'!B10,Voedermiddelen!$A$4:$K$75,3,FALSE)*'Nov voer'!C10*(1-'Nov voer'!$B$6),\"\")","v":281.95999999999998},{"$f":"'Nov voer'!G10","v":"silo 2 links"},{"$f":"IF('Nov voer'!H10>0,VLOOKUP('Nov voer'!G10,Voedermiddelen!$A$4:$K$75,3,FALSE)*'Nov voer'!H10*(1-'Nov voer'!$G$6),\"\")","v":281.95999999999998}]
[{"$f":"'Nov voer'!A11","v":"Kuilgras"},{"$f":"'Nov voer'!B11","v":"2017 1e 2e snede"},{"$f":"IF('Nov voer'!C11>0,VLOOKUP('Nov voer'!B11,Voedermiddelen!$A$4:$K$75,3,FALSE)*'Nov voer'!C11*(1-'Nov voer'!$B$6),\"\")","v":""},{"$f":"'Nov voer'!G11","v":"2017 1e 2e snede"},{"$f":"IF('Nov voer'!H11>0,VLOOKUP('Nov voer'!G11,Voedermiddelen!$A$4:$K$75,3,FALSE)*'Nov voer'!H11*(1-'Nov voer'!$G$6),\"\")","v":""}]
[{"$f":"'Nov voer'!A12","v":"Bijproducten"},{"$f":"'Nov voer'!B12","v":"Bierbostel"},{"$f":"IF('Nov voer'!C12>0,VLOOKUP('Nov voer'!B12,Voedermiddelen!$A$4:$K$75,3,FALSE)*'Nov voer'!C12*(1-'Nov voer'!$B$6),\"\")","v":52.012499999999996},{"$f":"'Nov voer'!G12","v":"Bierbostel"},{"$f":"IF('Nov voer'!H12>0,VLOOKUP('Nov voer'!G12,Voedermiddelen!$A$4:$K$75,3,FALSE)*'Nov voer'!H12*(1-'Nov voer'!$G$6),\"\")","v":52.012499999999996}]
[{"$f":"'Nov voer'!A13","v":"Bijproducten"},{"$f":"'Nov voer'!B13","v":"soja raap"},{"$f":"IF('Nov voer'!C13>0,VLOOKUP('Nov voer'!B13,Voedermiddelen!$A$4:$K$75,3,FALSE)*'Nov voer'!C13*(1-'Nov voer'!$B$6),\"\")","v":9.5},{"$f":"'Nov voer'!G13","v":"soja raap"},{"$f":"IF('Nov voer'!H13>0,VLOOKUP('Nov voer'!G13,Voedermiddelen!$A$4:$K$75,3,FALSE)*'Nov voer'!H13*(1-'Nov voer'!$G$6),\"\")","v":19}]
[{"$f":"'Nov voer'!A14","v":"Bijproducten"},{"$f":"'Nov voer'!B14","v":"sodagrain"},{"$f":"IF('Nov voer'!C14>0,VLOOKUP('Nov voer'!B14,Voedermiddelen!$A$4:$K$75,3,FALSE)*'Nov voer'!C14*(1-'Nov voer'!$B$6),\"\")","v":106.39999999999999},{"$f":"'Nov voer'!G14","v":"sodagrain"},{"$f":"IF('Nov voer'!H14>0,VLOOKUP('Nov voer'!G14,Voedermiddelen!$A$4:$K$75,3,FALSE)*'Nov voer'!H14*(1-'Nov voer'!$G$6),\"\")","v":106.39999999999999}]
[{"$f":"'Nov voer'!A15","v":0},{"$f":"'Nov voer'!B15","v":0},{"$f":"IF('Nov voer'!C15>0,VLOOKUP('Nov voer'!B15,Voedermiddelen!$A$4:$K$75,3,FALSE)*'Nov voer'!C15*(1-'Nov voer'!$B$6),\"\")","v":""},{"$f":"'Nov voer'!G15","v":0},{"$f":"IF('Nov voer'!H15>0,VLOOKUP('Nov voer'!G15,Voedermiddelen!$A$4:$K$75,3,FALSE)*'Nov voer'!H15*(1-'Nov voer'!$G$6),\"\")","v":""}]
[{"$f":"'Nov voer'!A16","v":0},{"$f":"'Nov voer'!B16","v":0},{"$f":"IF('Nov voer'!C16>0,VLOOKUP('Nov voer'!B16,Voedermiddelen!$A$4:$K$75,3,FALSE)*'Nov voer'!C16*(1-'Nov voer'!$B$6),\"\")","v":""},{"$f":"'Nov voer'!G16","v":0},{"$f":"IF('Nov voer'!H16>0,VLOOKUP('Nov voer'!G16,Voedermiddelen!$A$4:$K$75,3,FALSE)*'Nov voer'!H16*(1-'Nov voer'!$G$6),\"\")","v":""}]
[{"$f":"'Nov voer'!A17","v":0},{"$f":"'Nov voer'!B17","v":0},{"$f":"IF('Nov voer'!C17>0,VLOOKUP('Nov voer'!B17,Voedermiddelen!$A$4:$K$75,3,FALSE)*'Nov voer'!C17*(1-'Nov voer'!$B$6),\"\")","v":""},{"$f":"'Nov voer'!G17","v":0},{"$f":"IF('Nov voer'!H17>0,VLOOKUP('Nov voer'!G17,Voedermiddelen!$A$4:$K$75,3,FALSE)*'Nov voer'!H17*(1-'Nov voer'!$G$6),\"\")","v":""}]
[null,{"$f":"'Nov voer'!B18","v":0},{"$f":"IF('Nov voer'!C18>0,VLOOKUP('Nov voer'!B18,Voedermiddelen!$A$4:$K$75,3,FALSE)*'Nov voer'!C18*(1-'Nov voer'!$B$6),\"\")","v":""},{"$f":"'Nov voer'!G18","v":0},{"$f":"IF('Nov voer'!H18>0,VLOOKUP('Nov voer'!G18,Voedermiddelen!$A$4:$K$75,3,FALSE)*'Nov voer'!H18*(1-'Nov voer'!$G$6),\"\")","v":""}]
[null,{"$f":"'Nov voer'!B20","v":"Protitopbrok"},{"$f":"IF('Nov voer'!C20>0,VLOOKUP('Nov voer'!B20,Voedermiddelen!$A$4:$K$75,3,FALSE)*'Nov voer'!C20*(1-'Nov voer'!$B$6),\"\")","v":64.125},null,{"$f":"'Nov voer'!H22*'Nov vee+melk'!E15/100*0.9","v":301.86}]
[null,{"$f":"'Nov voer'!B21","v":"Pens stabielbrok EBZ"},{"$f":"IF('Nov voer'!C21>0,VLOOKUP('Nov voer'!B21,Voedermiddelen!$A$4:$K$75,3,FALSE)*'Nov voer'!C21*(1-'Nov voer'!$B$6),\"\")","v":244.53000000000003}]
[null,{"$f":"'Nov voer'!B22","v":0},{"$f":"IF('Nov voer'!C22>0,VLOOKUP('Nov voer'!B22,Voedermiddelen!$A$4:$K$75,3,FALSE)*'Nov voer'!C22*(1-'Nov voer'!$B$6),\"\")","v":""}]
[]
["Totaal",null,{"$f":"SUM(C66:C77)","v":1531.5900000000001},null,{"$f":"SUM(E66:E78)","v":1556.3825000000002}]
[]
["VEM",{"$f":"B66","v":"2017 1e 2e snede"},{"$f":"IF('Nov voer'!C9>0,VLOOKUP('Nov voer'!B9,Voedermiddelen!$A$4:$K$75,4,FALSE)*C66,\"\")","v":723586.5},{"$f":"D66","v":"2017 1e 2e snede"},{"$f":"IF('Nov voer'!H9>0,VLOOKUP('Nov voer'!G9,Voedermiddelen!$A$4:$K$75,4,FALSE)*E66,\"\")","v":744260.4}]
[null,{"$f":"B67","v":"silo 2 links"},{"$f":"IF('Nov voer'!C10>0,VLOOKUP('Nov voer'!B10,Voedermiddelen!$A$4:$K$75,4,FALSE)*C67,\"\")","v":271809.44},"silo 2 links",{"$f":"IF('Nov voer'!H10>0,VLOOKUP('Nov voer'!G10,Voedermiddelen!$A$4:$K$75,4,FALSE)*E67,\"\")","v":271809.44}]
[null,"2017 1e 2e snede",{"$f":"IF('Nov voer'!C11>0,VLOOKUP('Nov voer'!B11,Voedermiddelen!$A$4:$K$75,4,FALSE)*C68,\"\")","v":""},"2017 1e 2e snede",{"$f":"IF('Nov voer'!H11>0,VLOOKUP('Nov voer'!G11,Voedermiddelen!$A$4:$K$75,4,FALSE)*E68,\"\")","v":""}]
[null,"Bierbostel",{"$f":"IF('Nov voer'!C12>0,VLOOKUP('Nov voer'!B12,Voedermiddelen!$A$4:$K$75,4,FALSE)*C69,\"\")","v":49255.837499999994},"Bierbostel",{"$f":"IF('Nov voer'!H12>0,VLOOKUP('Nov voer'!G12,Voedermiddelen!$A$4:$K$75,4,FALSE)*E69,\"\")","v":49255.837499999994}]
[null,"soja raap",{"$f":"IF('Nov voer'!C13>0,VLOOKUP('Nov voer'!B13,Voedermiddelen!$A$4:$K$75,4,FALSE)*C70,\"\")","v":8949},"soja raap",{"$f":"IF('Nov voer'!H13>0,VLOOKUP('Nov voer'!G13,Voedermiddelen!$A$4:$K$75,4,FALSE)*E70,\"\")","v":17898}]
[null,"sodagrain",{"$f":"IF('Nov voer'!C14>0,VLOOKUP('Nov voer'!B14,Voedermiddelen!$A$4:$K$75,4,FALSE)*C71,\"\")","v":110230.39999999999},"sodagrain",{"$f":"IF('Nov voer'!H14>0,VLOOKUP('Nov voer'!G14,Voedermiddelen!$A$4:$K$75,4,FALSE)*E71,\"\")","v":110230.39999999999}]
[null,0,{"$f":"IF('Nov voer'!C15>0,VLOOKUP('Nov voer'!B15,Voedermiddelen!$A$4:$K$75,4,FALSE)*C72,\"\")","v":""},0,{"$f":"IF('Nov voer'!H15>0,VLOOKUP('Nov voer'!G15,Voedermiddelen!$A$4:$K$75,4,FALSE)*E72,\"\")","v":""}]
[null,0,{"$f":"IF('Nov voer'!C16>0,VLOOKUP('Nov voer'!B16,Voedermiddelen!$A$4:$K$75,4,FALSE)*C73,\"\")","v":""},0,{"$f":"IF('Nov voer'!H16>0,VLOOKUP('Nov voer'!G16,Voedermiddelen!$A$4:$K$75,4,FALSE)*E73,\"\")","v":""}]
[null,0,{"$f":"IF('Nov voer'!C17>0,VLOOKUP('Nov voer'!B17,Voedermiddelen!$A$4:$K$75,4,FALSE)*C74,\"\")","v":""},0,{"$f":"IF('Nov voer'!H17>0,VLOOKUP('Nov voer'!G17,Voedermiddelen!$A$4:$K$75,4,FALSE)*E74,\"\")","v":""}]
[null,0,{"$f":"IF('Nov voer'!C18>0,VLOOKUP('Nov voer'!B18,Voedermiddelen!$A$4:$K$75,4,FALSE)*C75,\"\")","v":""},0,{"$f":"IF('Nov voer'!H18>0,VLOOKUP('Nov voer'!G18,Voedermiddelen!$A$4:$K$75,4,FALSE)*E75,\"\")","v":""}]
[null,"Protitopbrok",{"$f":"IF('Nov voer'!C20>0,VLOOKUP('Nov voer'!B20,Voedermiddelen!$A$4:$K$75,4,FALSE)*C76,\"\")","v":65407.5},0,{"$f":"E76*1000","v":301860}]
[null,"Pens stabielbrok EBZ",{"$f":"IF('Nov voer'!C21>0,VLOOKUP('Nov voer'!B21,Voedermiddelen!$A$4:$K$75,4,FALSE)*C77,\"\")","v":234748.80000000002},0]
[null,0,{"$f":"IF('Nov voer'!C22>0,VLOOKUP('Nov voer'!B22,Voedermiddelen!$A$4:$K$75,4,FALSE)*C78,\"\")","v":""},0]
[]
["Totaal",null,{"$f":"SUM(C82:C93)","v":1463987.4774999998},null,{"$f":"SUM(E82:E94)","v":1495314.0774999999}]
[]
["DVE",{"$f":"B82","v":"2017 1e 2e snede"},{"$f":"IF('Nov voer'!C9>0,VLOOKUP('Nov voer'!B9,Voedermiddelen!$A$4:$K$75,5,FALSE)*C66,\"\")","v":46383.75},{"$f":"D82","v":"2017 1e 2e snede"},{"$f":"IF('Nov voer'!H9>0,VLOOKUP('Nov voer'!G9,[2]Voedermiddelen!$A$4:$K$75,5,FALSE)*E66,\"\")","v":{"$error":"#N/A"}}]
[null,{"$f":"B83","v":"silo 2 links"},{"$f":"IF('Nov voer'!C10>0,VLOOKUP('Nov voer'!B10,Voedermiddelen!$A$4:$K$75,5,FALSE)*C67,\"\")","v":13816.039999999999},"silo 2 links",{"$f":"IF('Nov voer'!H10>0,VLOOKUP('Nov voer'!G10,[2]Voedermiddelen!$A$4:$K$75,5,FALSE)*E67,\"\")","v":{"$error":"#N/A"}}]
[null,"2017 1e 2e snede",{"$f":"IF('Nov voer'!C11>0,VLOOKUP('Nov voer'!B11,Voedermiddelen!$A$4:$K$75,5,FALSE)*C68,\"\")","v":""},"2017 1e 2e snede",{"$f":"IF('Nov voer'!H11>0,VLOOKUP('Nov voer'!G11,[2]Voedermiddelen!$A$4:$K$75,5,FALSE)*E68,\"\")","v":""}]
[null,"Bierbostel",{"$f":"IF('Nov voer'!C12>0,VLOOKUP('Nov voer'!B12,Voedermiddelen!$A$4:$K$75,5,FALSE)*C69,\"\")","v":7125.7124999999996},"Bierbostel",{"$f":"IF('Nov voer'!H12>0,VLOOKUP('Nov voer'!G12,[2]Voedermiddelen!$A$4:$K$75,5,FALSE)*E69,\"\")","v":7125.7124999999996}]
[null,"soja raap",{"$f":"IF('Nov voer'!C13>0,VLOOKUP('Nov voer'!B13,Voedermiddelen!$A$4:$K$75,5,FALSE)*C70,\"\")","v":950},"soja raap",{"$f":"IF('Nov voer'!H13>0,VLOOKUP('Nov voer'!G13,[2]Voedermiddelen!$A$4:$K$75,5,FALSE)*E70,\"\")","v":{"$error":"#N/A"}}]
[null,"sodagrain",{"$f":"IF('Nov voer'!C14>0,VLOOKUP('Nov voer'!B14,Voedermiddelen!$A$4:$K$75,5,FALSE)*C71,\"\")","v":7447.9999999999991},"sodagrain",{"$f":"IF('Nov voer'!H14>0,VLOOKUP('Nov voer'!G14,[2]Voedermiddelen!$A$4:$K$75,5,FALSE)*E71,\"\")","v":{"$error":"#N/A"}}]
[null,0,{"$f":"IF('Nov voer'!C15>0,VLOOKUP('Nov voer'!B15,Voedermiddelen!$A$4:$K$75,5,FALSE)*C72,\"\")","v":""},0,{"$f":"IF('Nov voer'!H15>0,VLOOKUP('Nov voer'!G15,[2]Voedermiddelen!$A$4:$K$75,5,FALSE)*E72,\"\")","v":""}]
[null,0,{"$f":"IF('Nov voer'!C16>0,VLOOKUP('Nov voer'!B16,Voedermiddelen!$A$4:$K$75,5,FALSE)*C73,\"\")","v":""},0,{"$f":"IF('Nov voer'!H16>0,VLOOKUP('Nov voer'!G16,[2]Voedermiddelen!$A$4:$K$75,5,FALSE)*E73,\"\")","v":""}]
[null,0,{"$f":"IF('Nov voer'!C17>0,VLOOKUP('Nov voer'!B17,Voedermiddelen!$A$4:$K$75,5,FALSE)*C74,\"\")","v":""},0,{"$f":"IF('Nov voer'!H17>0,VLOOKUP('Nov voer'!G17,[2]Voedermiddelen!$A$4:$K$75,5,FALSE)*E74,\"\")","v":""}]
[null,0,{"$f":"IF('Nov voer'!C18>0,VLOOKUP('Nov voer'!B18,Voedermiddelen!$A$4:$K$75,5,FALSE)*C75,\"\")","v":""},0,{"$f":"IF('Nov voer'!H18>0,VLOOKUP('Nov voer'!G18,[2]Voedermiddelen!$A$4:$K$75,5,FALSE)*E75,\"\")","v":""}]
[null,"Protitopbrok",{"$f":"IF('Nov voer'!C20>0,VLOOKUP('Nov voer'!B20,Voedermiddelen!$A$4:$K$75,5,FALSE)*C76,\"\")","v":8208},0]
[null,"Pens stabielbrok EBZ",{"$f":"IF('Nov voer'!C21>0,VLOOKUP('Nov voer'!B21,Voedermiddelen!$A$4:$K$75,5,FALSE)*C77,\"\")","v":28120.950000000004},0]
[null,0,{"$f":"IF('Nov voer'!C22>0,VLOOKUP('Nov voer'!B22,Voedermiddelen!$A$4:$K$75,5,FALSE)*C78,\"\")","v":""},0]
[]
["Totaal",null,{"$f":"SUM(C98:C110)/1000","v":112.05245250000002},null,{"$f":"SUM(E98:E110)/1000","v":{"$error":"#N/A"}}]
[]
["OEB",{"$f":"B98","v":"2017 1e 2e snede"},{"$f":"IF('Nov voer'!C9>0,VLOOKUP('Nov voer'!B9,Voedermiddelen!$A$4:$K$75,6,FALSE)*C66,\"\")","v":44064.5625},{"$f":"D98","v":"2017 1e 2e snede"},{"$f":"IF('Nov voer'!H9>0,VLOOKUP('Nov voer'!G9,[2]Voedermiddelen!$A$4:$K$75,6,FALSE)*E66,\"\")","v":{"$error":"#N/A"}}]
[null,{"$f":"B99","v":"silo 2 links"},{"$f":"IF('Nov voer'!C10>0,VLOOKUP('Nov voer'!B10,Voedermiddelen!$A$4:$K$75,6,FALSE)*C67,\"\")","v":-10150.56},"silo 2 links",{"$f":"IF('Nov voer'!H10>0,VLOOKUP('Nov voer'!G10,[2]Voedermiddelen!$A$4:$K$75,6,FALSE)*E67,\"\")","v":{"$error":"#N/A"}}]
[null,"2017 1e 2e snede",{"$f":"IF('Nov voer'!C11>0,VLOOKUP('Nov voer'!B11,Voedermiddelen!$A$4:$K$75,6,FALSE)*C68,\"\")","v":""},"2017 1e 2e snede",{"$f":"IF('Nov voer'!H11>0,VLOOKUP('Nov voer'!G11,[2]Voedermiddelen!$A$4:$K$75,6,FALSE)*E68,\"\")","v":""}]
[null,"Bierbostel",{"$f":"IF('Nov voer'!C12>0,VLOOKUP('Nov voer'!B12,Voedermiddelen!$A$4:$K$75,6,FALSE)*C69,\"\")","v":2860.6874999999995},"Bierbostel",{"$f":"IF('Nov voer'!H12>0,VLOOKUP('Nov voer'!G12,[2]Voedermiddelen!$A$4:$K$75,6,FALSE)*E69,\"\")","v":2860.6874999999995}]
[null,"soja raap",{"$f":"IF('Nov voer'!C13>0,VLOOKUP('Nov voer'!B13,Voedermiddelen!$A$4:$K$75,6,FALSE)*C70,\"\")","v":380},"soja raap",{"$f":"IF('Nov voer'!H13>0,VLOOKUP('Nov voer'!G13,[2]Voedermiddelen!$A$4:$K$75,6,FALSE)*E70,\"\")","v":{"$error":"#N/A"}}]
[null,"sodagrain",{"$f":"IF('Nov voer'!C14>0,VLOOKUP('Nov voer'!B14,Voedermiddelen!$A$4:$K$75,6,FALSE)*C71,\"\")","v":-4575.2},"sodagrain",{"$f":"IF('Nov voer'!H14>0,VLOOKUP('Nov voer'!G14,[2]Voedermiddelen!$A$4:$K$75,6,FALSE)*E71,\"\")","v":{"$error":"#N/A"}}]
[null,0,{"$f":"IF('Nov voer'!C15>0,VLOOKUP('Nov voer'!B15,Voedermiddelen!$A$4:$K$75,6,FALSE)*C72,\"\")","v":""},0,{"$f":"IF('Nov voer'!H15>0,VLOOKUP('Nov voer'!G15,[2]Voedermiddelen!$A$4:$K$75,6,FALSE)*E72,\"\")","v":""}]
[null,0,{"$f":"IF('Nov voer'!C16>0,VLOOKUP('Nov voer'!B16,Voedermiddelen!$A$4:$K$75,6,FALSE)*C73,\"\")","v":""},0,{"$f":"IF('Nov voer'!H16>0,VLOOKUP('Nov voer'!G16,[2]Voedermiddelen!$A$4:$K$75,6,FALSE)*E73,\"\")","v":""}]
[null,0,{"$f":"IF('Nov voer'!C17>0,VLOOKUP('Nov voer'!B17,Voedermiddelen!$A$4:$K$75,6,FALSE)*C74,\"\")","v":""},0,{"$f":"IF('Nov voer'!H17>0,VLOOKUP('Nov voer'!G17,[2]Voedermiddelen!$A$4:$K$75,6,FALSE)*E74,\"\")","v":""}]
[null,0,{"$f":"IF('Nov voer'!C18>0,VLOOKUP('Nov voer'!B18,Voedermiddelen!$A$4:$K$75,6,FALSE)*C75,\"\")","v":""},0,{"$f":"IF('Nov voer'!H18>0,VLOOKUP('Nov voer'!G18,[2]Voedermiddelen!$A$4:$K$75,6,FALSE)*E75,\"\")","v":""}]
[null,"Protitopbrok",{"$f":"IF('Nov voer'!C20>0,VLOOKUP('Nov voer'!B20,Voedermiddelen!$A$4:$K$75,6,FALSE)*C76,\"\")","v":705.375},0]
[null,"Pens stabielbrok EBZ",{"$f":"IF('Nov voer'!C21>0,VLOOKUP('Nov voer'!B21,Voedermiddelen!$A$4:$K$75,6,FALSE)*C77,\"\")","v":3423.4200000000005},0]
[null,0,{"$f":"IF('Nov voer'!C22>0,VLOOKUP('Nov voer'!B22,Voedermiddelen!$A$4:$K$75,6,FALSE)*C78,\"\")","v":""},0]
[]
["Totaal",null,{"$f":"SUM(C114:C126)","v":36708.285000000003},null,{"$f":"SUM(E114:E126)","v":{"$error":"#N/A"}}]
[]
["RE",{"$f":"B114","v":"2017 1e 2e snede"},{"$f":"IF('Nov voer'!C9>0,VLOOKUP('Nov voer'!B9,Voedermiddelen!$A$4:$K$75,7,FALSE)*C66,\"\")","v":139151.25},{"$f":"D114","v":"2017 1e 2e snede"},{"$f":"IF('Nov voer'!H9>0,VLOOKUP('Nov voer'!G9,Voedermiddelen!$A$4:$K$75,7,FALSE)*E66,\"\")","v":143127}]
[null,{"$f":"B115","v":"silo 2 links"},{"$f":"IF('Nov voer'!C10>0,VLOOKUP('Nov voer'!B10,Voedermiddelen!$A$4:$K$75,7,FALSE)*C67,\"\")","v":20301.12},"silo 2 links",{"$f":"IF('Nov voer'!H10>0,VLOOKUP('Nov voer'!G10,Voedermiddelen!$A$4:$K$75,7,FALSE)*E67,\"\")","v":20301.12}]
[null,"2017 1e 2e snede",{"$f":"IF('Nov voer'!C11>0,VLOOKUP('Nov voer'!B11,Voedermiddelen!$A$4:$K$75,7,FALSE)*C68,\"\")","v":""},"2017 1e 2e snede",{"$f":"IF('Nov voer'!H11>0,VLOOKUP('Nov voer'!G11,Voedermiddelen!$A$4:$K$75,7,FALSE)*E68,\"\")","v":""}]
[null,"Bierbostel",{"$f":"IF('Nov voer'!C12>0,VLOOKUP('Nov voer'!B12,Voedermiddelen!$A$4:$K$75,7,FALSE)*C69,\"\")","v":12847.0875},"Bierbostel",{"$f":"IF('Nov voer'!H12>0,VLOOKUP('Nov voer'!G12,Voedermiddelen!$A$4:$K$75,7,FALSE)*E69,\"\")","v":12847.0875}]
[null,"soja raap",{"$f":"IF('Nov voer'!C13>0,VLOOKUP('Nov voer'!B13,Voedermiddelen!$A$4:$K$75,7,FALSE)*C70,\"\")","v":3553},"soja raap",{"$f":"IF('Nov voer'!H13>0,VLOOKUP('Nov voer'!G13,Voedermiddelen!$A$4:$K$75,7,FALSE)*E70,\"\")","v":7106}]
[null,"sodagrain",{"$f":"IF('Nov voer'!C14>0,VLOOKUP('Nov voer'!B14,Voedermiddelen!$A$4:$K$75,7,FALSE)*C71,\"\")","v":9363.1999999999989},"sodagrain",{"$f":"IF('Nov voer'!H14>0,VLOOKUP('Nov voer'!G14,Voedermiddelen!$A$4:$K$75,7,FALSE)*E71,\"\")","v":9363.1999999999989}]
[null,0,{"$f":"IF('Nov voer'!C15>0,VLOOKUP('Nov voer'!B15,Voedermiddelen!$A$4:$K$75,7,FALSE)*C72,\"\")","v":""},0,{"$f":"IF('Nov voer'!H15>0,VLOOKUP('Nov voer'!G15,Voedermiddelen!$A$4:$K$75,7,FALSE)*E72,\"\")","v":""}]
[null,0,{"$f":"IF('Nov voer'!C16>0,VLOOKUP('Nov voer'!B16,Voedermiddelen!$A$4:$K$75,7,FALSE)*C73,\"\")","v":""},0,{"$f":"IF('Nov voer'!H16>0,VLOOKUP('Nov voer'!G16,Voedermiddelen!$A$4:$K$75,7,FALSE)*E73,\"\")","v":""}]
[null,0,{"$f":"IF('Nov voer'!C17>0,VLOOKUP('Nov voer'!B17,Voedermiddelen!$A$4:$K$75,7,FALSE)*C74,\"\")","v":""},0,{"$f":"IF('Nov voer'!H17>0,VLOOKUP('Nov voer'!G17,Voedermiddelen!$A$4:$K$75,7,FALSE)*E74,\"\")","v":""}]
[null,0,{"$f":"IF('Nov voer'!C18>0,VLOOKUP('Nov voer'!B18,Voedermiddelen!$A$4:$K$75,7,FALSE)*C75,\"\")","v":""},0,{"$f":"IF('Nov voer'!H18>0,VLOOKUP('Nov voer'!G18,Voedermiddelen!$A$4:$K$75,7,FALSE)*E75,\"\")","v":""}]
[null,"Protitopbrok",{"$f":"IF('Nov voer'!C20>0,VLOOKUP('Nov voer'!B20,Voedermiddelen!$A$4:$K$75,7,FALSE)*C76,\"\")","v":12247.875},0]
[null,"Pens stabielbrok EBZ",{"$f":"IF('Nov voer'!C21>0,VLOOKUP('Nov voer'!B21,Voedermiddelen!$A$4:$K$75,7,FALSE)*C77,\"\")","v":43281.810000000005},0]
[null,{"$f":"B126","v":0},{"$f":"IF('Nov voer'!C22>0,VLOOKUP('Nov voer'!B22,[2]Voedermiddelen!$A$4:$K$75,7,FALSE)*C77,\"\")","v":""},0]
[]
["Totaal",null,{"$f":"SUM(C130:C142)","v":240745.3425},null,{"$f":"SUM(E130:E142)","v":192744.4075}]
[]
["N opname",null,{"$f":"C144/6.25","v":38519.254800000002},null,{"$f":"E144/6.25","v":30839.105200000002},null,{"$f":"(E76/0.9*'Nov voer'!M6/6.25)","v":9004.2868000000035}]
[]
["P",{"$f":"B130","v":"2017 1e 2e snede"},{"$f":"IF('Nov voer'!C9>0,VLOOKUP('Nov voer'!B9,Voedermiddelen!$A$4:$K$75,10,FALSE)*C66,\"\")","v":2783.0250000000001},{"$f":"D130","v":"2017 1e 2e snede"},{"$f":"IF('Nov voer'!H9>0,VLOOKUP('Nov voer'!G9,Voedermiddelen!$A$4:$K$75,10,FALSE)*E66,\"\")","v":2862.54}]
[null,{"$f":"B131","v":"silo 2 links"},{"$f":"IF('Nov voer'!C10>0,VLOOKUP('Nov voer'!B10,Voedermiddelen!$A$4:$K$75,10,FALSE)*C67,\"\")","v":592.11599999999999},"silo 2 links",{"$f":"IF('Nov voer'!H10>0,VLOOKUP('Nov voer'!G10,Voedermiddelen!$A$4:$K$75,10,FALSE)*E67,\"\")","v":592.11599999999999}]
[null,"2017 1e 2e snede",{"$f":"IF('Nov voer'!C11>0,VLOOKUP('Nov voer'!B11,Voedermiddelen!$A$4:$K$75,10,FALSE)*C68,\"\")","v":""},"2017 1e 2e snede",{"$f":"IF('Nov voer'!H11>0,VLOOKUP('Nov voer'!G11,Voedermiddelen!$A$4:$K$75,10,FALSE)*E68,\"\")","v":""}]
[null,"Bierbostel",{"$f":"IF('Nov voer'!C12>0,VLOOKUP('Nov voer'!B12,Voedermiddelen!$A$4:$K$75,10,FALSE)*C69,\"\")","v":270.46499999999997},"Bierbostel",{"$f":"IF('Nov voer'!H12>0,VLOOKUP('Nov voer'!G12,Voedermiddelen!$A$4:$K$75,10,FALSE)*E69,\"\")","v":270.46499999999997}]
[null,"soja raap",{"$f":"IF('Nov voer'!C13>0,VLOOKUP('Nov voer'!B13,Voedermiddelen!$A$4:$K$75,10,FALSE)*C70,\"\")","v":68.400000000000006},"soja raap",{"$f":"IF('Nov voer'!H13>0,VLOOKUP('Nov voer'!G13,Voedermiddelen!$A$4:$K$75,10,FALSE)*E70,\"\")","v":136.80000000000001}]
[null,"sodagrain",{"$f":"IF('Nov voer'!C14>0,VLOOKUP('Nov voer'!B14,Voedermiddelen!$A$4:$K$75,10,FALSE)*C71,\"\")","v":244.71999999999997},"sodagrain",{"$f":"IF('Nov voer'!H14>0,VLOOKUP('Nov voer'!G14,Voedermiddelen!$A$4:$K$75,10,FALSE)*E71,\"\")","v":244.71999999999997}]
[null,0,{"$f":"IF('Nov voer'!C15>0,VLOOKUP('Nov voer'!B15,Voedermiddelen!$A$4:$K$75,10,FALSE)*C72,\"\")","v":""},0,{"$f":"IF('Nov voer'!H15>0,VLOOKUP('Nov voer'!G15,Voedermiddelen!$A$4:$K$75,10,FALSE)*E72,\"\")","v":""}]
[null,0,{"$f":"IF('Nov voer'!C16>0,VLOOKUP('Nov voer'!B16,Voedermiddelen!$A$4:$K$75,10,FALSE)*C73,\"\")","v":""},0,{"$f":"IF('Nov voer'!H16>0,VLOOKUP('Nov voer'!G16,Voedermiddelen!$A$4:$K$75,10,FALSE)*E73,\"\")","v":""}]
[null,0,{"$f":"IF('Nov voer'!C17>0,VLOOKUP('Nov voer'!B17,Voedermiddelen!$A$4:$K$75,10,FALSE)*C74,\"\")","v":""},0,{"$f":"IF('Nov voer'!H17>0,VLOOKUP('Nov voer'!G17,Voedermiddelen!$A$4:$K$75,10,FALSE)*E74,\"\")","v":""}]
[null,0,{"$f":"IF('Nov voer'!C18>0,VLOOKUP('Nov voer'!B18,Voedermiddelen!$A$4:$K$75,10,FALSE)*C75,\"\")","v":""},0,{"$f":"IF('Nov voer'!H18>0,VLOOKUP('Nov voer'!G18,Voedermiddelen!$A$4:$K$75,10,FALSE)*E75,\"\")","v":""}]
[null,{"$f":"B140","v":"Protitopbrok"},{"$f":"IF('Nov voer'!C20>0,VLOOKUP('Nov voer'!B20,Voedermiddelen!$A$4:$K$75,10,FALSE)*C76,\"\")","v":269.32499999999999},0]
[null,{"$f":"B141","v":"Pens stabielbrok EBZ"},{"$f":"IF('Nov voer'!C21>0,VLOOKUP('Nov voer'!B21,Voedermiddelen!$A$4:$K$75,10,FALSE)*C77,\"\")","v":978.12000000000012},0]
[null,{"$f":"B142","v":0},{"$f":"IF('Nov voer'!C22>0,VLOOKUP('Nov voer'!B22,Voedermiddelen!$A$4:$K$75,10,FALSE)*C78,\"\")","v":""},0]
[]
["Totaal",null,{"$f":"SUM(C148:C160)","v":5206.1710000000003},null,{"$f":"SUM(E148:E160)","v":4106.6410000000005},null,{"$f":"(E76/0.9*'Nov voer'!M7)","v":1496.3359999999998}]

{"sheet":"Nov Excretie","index":33,"n_rows":25,"n_cols":5,"rows_kept":25,"cut":false,"hidden":true,"merged":[]}
["Veestapel"]
[null,null,{"$f":"'Nov vee+melk'!C6","v":"November gerealiseerd"},null,{"$f":"'Nov vee+melk'!E6","v":"November prognose"}]
[]
[]
["Excretie (kg/dier/dag)"]
[null,null,"N",null,"N"]
["Opname",null,{"$f":"'Nov Voeropname'!C2*'Nov Voeropname'!C7*0.001","v":0.52766102465753417},null,{"$f":"'Nov Voeropname'!E2*'Nov Voeropname'!E7*0.001+'Nov Voeropname'!G146*0.001/'Nov vee+melk'!E2","v":0.55108616446183967}]
["Gem opname 7 dgn",null,{"$f":"AVERAGE(C7:F7)","v":0.53937359455968692},null,{"$f":"AVERAGE(E7)","v":0.55108616446183967}]
["Productie",null,{"$f":"'Nov vee+melk'!C22*'Nov vee+melk'!C10/6.38","v":0.15206853609309914},null,{"$f":"'Nov vee+melk'!E22*'Nov vee+melk'!E10/6.38","v":0.1400280557106254}]
["Vastlegging",null,{"$f":"1.4/365","v":3.8356164383561643E-3},null,{"$f":"1.4/365","v":3.8356164383561643E-3}]
["Onder de staart",null,{"$f":"C7-C9-C10","v":0.37175687212607889},null,{"$f":"E7-E9-E10","v":0.40722249231285812}]
["Vervluchtiging",null,{"$f":"C11*0.1175","v":4.3681432474814264E-2},null,{"$f":"E11*0.1175","v":4.7848642846760825E-2}]
["Gemeten netto excretie",null,{"$f":"C11-C12","v":0.32807543965126462},null,{"$f":"E11-E12","v":0.35937384946609729}]
[]
[null,null,"P",null,"P"]
["Opname",null,{"$f":"'Nov Voeropname'!C2*'Nov Voeropname'!C8/1000","v":7.1317410958904107E-2},null,{"$f":"'Nov Voeropname'!E2*'Nov Voeropname'!E8/1000+'Nov Voeropname'!G162*0.001/'Nov vee+melk'!E2","v":7.7631584735812137E-2}]
["Gem opname 7 dgn",null,{"$f":"AVERAGE(C16:F16)","v":7.4474497847358129E-2},null,{"$f":"AVERAGE(E16)","v":7.7631584735812137E-2}]
["Productie",null,{"$f":"'Nov vee+melk'!C22*0.9/1000","v":2.2978356164383564E-2},null,{"$f":"'Nov vee+melk'!E22*0.9/1000","v":2.2972602739726029E-2}]
["Vastlegging",null,{"$f":"0.5/365","v":1.3698630136986301E-3},null,{"$f":"0.5/365","v":1.3698630136986301E-3}]
["Onder de staart",null,{"$f":"C16-C18-C19","v":4.6969191780821908E-2},null,{"$f":"E16-E18-E19","v":5.328911898238748E-2}]
["Vervluchtiging"]
["Gemeten netto excretie",null,{"$f":"C20","v":4.6969191780821908E-2},null,{"$f":"E20","v":5.328911898238748E-2}]
[]
["N excretie per ton meetmelk (kg)",null,{"$f":"C13/'Nov vee+melk'!C21*1000","v":11.392457371628618},null,{"$f":"E13/'Nov vee+melk'!E21*1000","v":12.601862766104677}]
["P excretie per ton meetmelk (kg)",null,{"$f":"C22/'Nov vee+melk'!C21*1000","v":1.6310105861982658},null,{"$f":"E22/'Nov vee+melk'!E21*1000","v":1.8686450484372898}]

{"sheet":"Nov kengetallen","index":34,"n_rows":106,"n_cols":6,"rows_kept":106,"cut":false,"hidden":true,"merged":[]}
["Rantsoen"]
["Datum",null,{"$f":"'Nov voer'!B3","v":"November gerealiseerd"},null,{"$f":"'Nov voer'!G3","v":"November prognose"}]
[]
[{"$f":"'Nov Voeropname'!A2","v":"DS opname/koe"},null,{"$f":"'Nov Voeropname'!C2","v":20.98068493150685},null,{"$f":"'Nov Voeropname'!E2","v":21.320308219178084}]
[{"$f":"'Nov Voeropname'!A3","v":"VEM"},null,{"$f":"'Nov Voeropname'!C3","v":955.86121448951724},null,{"$f":"'Nov Voeropname'!E3","v":960.76258728172525}]
[{"$f":"'Nov Voeropname'!A4","v":"DVE"},null,{"$f":"'Nov Voeropname'!C4","v":73.160867138072192},null,{"$f":"'Nov Voeropname'!E4","v":{"$error":"#N/A"}}]
[{"$f":"'Nov Voeropname'!A5","v":"OEB"},null,{"$f":"'Nov Voeropname'!C5","v":502.85321917808221},null,{"$f":"'Nov Voeropname'!E5","v":{"$error":"#N/A"}}]
[{"$f":"'Nov Voeropname'!A6","v":"RE"},null,{"$f":"'Nov Voeropname'!C6","v":157.18654633420169},null,{"$f":"'Nov Voeropname'!E6","v":123.84128419588372}]
[{"$f":"'Nov Voeropname'!A7","v":"N"},null,{"$f":"'Nov Voeropname'!C7","v":25.149847413472269},null,{"$f":"'Nov Voeropname'!E7","v":19.814605471341395}]
[{"$f":"'Nov Voeropname'!A8","v":"P"},null,{"$f":"'Nov Voeropname'!C8","v":3.3991936484307153},null,{"$f":"'Nov Voeropname'!E8","v":2.6385808115935512}]
[]
["Streefwaarde RE",null,{"$f":"'Nov voer'!H20","v":160}]
["Streefwaarde P",null,{"$f":"'Nov voer'!H21","v":3.6}]
[]
[]
[{"$f":"'Nov Excretie'!A24","v":"N excretie per ton meetmelk (kg)"},null,{"$f":"'Nov Excretie'!C24","v":11.392457371628618},null,{"$f":"'Nov Excretie'!E24","v":12.601862766104677}]
[{"$f":"'Nov Excretie'!A25","v":"P excretie per ton meetmelk (kg)"},null,{"$f":"'Nov Excretie'!C25","v":1.6310105861982658},null,{"$f":"'Nov Excretie'!E25","v":1.8686450484372898}]
[]
[]
["VEM dekking",null,{"$f":"'Nov Voeropname'!C35/'Nov vee+melk'!C27","v":1.096520093818995},null,{"$f":"'Nov Voeropname'!E35/'Nov vee+melk'!E27","v":1.1283092522009777}]
["DVE dekking",null,{"$f":"'Nov Voeropname'!C36/'Nov vee+melk'!C28","v":0.86605757012478479},null,{"$f":"'Nov Voeropname'!E36/'Nov vee+melk'!E28","v":{"$error":"#N/A"}}]
[]
[]
["Voerefficientie kg meetmelk/kg voer (ds)",null,{"$f":"'Nov vee+melk'!C21/'Nov Voeropname'!C2","v":1.372576772665254},null,{"$f":"'Nov vee+melk'!E21/'Nov Voeropname'!E2","v":1.3375753203035763}]
["kg krachtvoer per 100 kg (excl bijprod)",null,{"$f":"SUM('Nov Voeropname'!C76:C77)/('Nov vee+melk'!C21*'Nov vee+melk'!C2)*100/0.9","v":17.259388681682733},null,{"$f":"SUM('Nov Voeropname'!E76:E78)/('Nov vee+melk'!E21*'Nov vee+melk'!E2)*100","v":15.121532315274614}]
[]
[]
[{"$f":"A12","v":"Streefwaarde RE"},null,{"$f":"$C$12","v":160},null,{"$f":"$C$12","v":160}]
[{"$f":"A13","v":"Streefwaarde P"},null,{"$f":"$C$13","v":3.6},null,{"$f":"$C$13","v":3.6}]
[]
[]
[]
[]
[{"$f":"A2","v":"Datum"},null,{"$f":"C2","v":"November gerealiseerd"},{"$f":"E2","v":"November prognose"},{"$f":"#REF!","v":{"$error":"#REF!"}},{"$f":"#REF!","v":{"$error":"#REF!"}}]
["00:00:00"]
["DS opname/koe",null,{"$f":"C4","v":20.98068493150685},{"$f":"E4","v":21.320308219178084},{"$f":"#REF!","v":{"$error":"#REF!"}},{"$f":"#REF!","v":{"$error":"#REF!"}}]
["VEM",null,955.86121448951724,960.76258728172525,{"$f":"#REF!","v":{"$error":"#REF!"}},{"$f":"#REF!","v":{"$error":"#REF!"}}]
["DVE",null,73.160867138072192,{"$error":"#N/A"},{"$f":"#REF!","v":{"$error":"#REF!"}},{"$f":"#REF!","v":{"$error":"#REF!"}}]
["OEB",null,502.85321917808221,{"$error":"#N/A"},{"$f":"#REF!","v":{"$error":"#REF!"}},{"$f":"#REF!","v":{"$error":"#REF!"}}]
["RE",null,157.18654633420169,123.84128419588372,{"$f":"#REF!","v":{"$error":"#REF!"}},{"$f":"#REF!","v":{"$error":"#REF!"}}]
["N",null,25.149847413472269,19.814605471341395,{"$f":"#REF!","v":{"$error":"#REF!"}},{"$f":"#REF!","v":{"$error":"#REF!"}}]
["P",null,3.3991936484307153,2.6385808115935512,{"$f":"#REF!","v":{"$error":"#REF!"}},{"$f":"#REF!","v":{"$error":"#REF!"}}]
[{"$f":"A15","v":"00:00:00"}]
["N excretie per ton meetmelk (kg)",null,{"$f":"C16","v":11.392457371628618},{"$f":"E16","v":12.601862766104677},{"$f":"#REF!","v":{"$error":"#REF!"}},{"$f":"#REF!","v":{"$error":"#REF!"}}]
["P excretie per ton meetmelk (kg)",null,1.6310105861982658,{"$f":"E17","v":1.8686450484372898},{"$f":"#REF!","v":{"$error":"#REF!"}},{"$f":"#REF!","v":{"$error":"#REF!"}}]
["00:00:00",null,{"$f":"1000/C45/2.29","v":267.73659619542195},{"$f":"1000/D45/2.29","v":233.68869495713554},{"$f":"1000/E45/2.29","v":{"$error":"#REF!"}},{"$f":"1000/F45/2.29","v":{"$error":"#REF!"}}]
[]
[]
["Rantsoen"]
[]
["Kuilgras",null,{"$f":"IF('Nov Voeropname'!$A66='Nov kengetallen'!$A51,'Nov Voeropname'!C66,\"\")","v":773.0625},null,{"$f":"IF('Nov Voeropname'!$A66='Nov kengetallen'!$A51,'Nov Voeropname'!E66,\"\")","v":795.15}]
["Kuilgras",null,{"$f":"IF('Nov Voeropname'!$A67='Nov kengetallen'!$A52,'Nov Voeropname'!C67,\"\")","v":""},null,{"$f":"IF('Nov Voeropname'!$A67='Nov kengetallen'!$A52,'Nov Voeropname'!E67,\"\")","v":""}]
["Kuilgras",null,{"$f":"IF('Nov Voeropname'!$A68='Nov kengetallen'!$A53,'Nov Voeropname'!C68,\"\")","v":""},null,{"$f":"IF('Nov Voeropname'!$A68='Nov kengetallen'!$A53,'Nov Voeropname'!E68,\"\")","v":""}]
["Kuilgras",null,{"$f":"IF('Nov Voeropname'!$A69='Nov kengetallen'!$A54,'Nov Voeropname'!C69,\"\")","v":""},null,{"$f":"IF('Nov Voeropname'!$A69='Nov kengetallen'!$A54,'Nov Voeropname'!E69,\"\")","v":""}]
["Kuilgras",null,{"$f":"IF('Nov Voeropname'!$A70='Nov kengetallen'!$A55,'Nov Voeropname'!C70,\"\")","v":""},null,{"$f":"IF('Nov Voeropname'!$A70='Nov kengetallen'!$A55,'Nov Voeropname'!E70,\"\")","v":""}]
["Kuilgras",null,{"$f":"IF('Nov Voeropname'!$A71='Nov kengetallen'!$A56,'Nov Voeropname'!C71,\"\")","v":""},null,{"$f":"IF('Nov Voeropname'!$A71='Nov kengetallen'!$A56,'Nov Voeropname'!E71,\"\")","v":""}]
["Kuilgras",null,{"$f":"IF('Nov Voeropname'!$A72='Nov kengetallen'!$A57,'Nov Voeropname'!C72,\"\")","v":""},null,{"$f":"IF('Nov Voeropname'!$A72='Nov kengetallen'!$A57,'Nov Voeropname'!E72,\"\")","v":""}]
["Kuilgras",null,{"$f":"IF('Nov Voeropname'!$A73='Nov kengetallen'!$A58,'Nov Voeropname'!C73,\"\")","v":""},null,{"$f":"IF('Nov Voeropname'!$A73='Nov kengetallen'!$A58,'Nov Voeropname'!E73,\"\")","v":""}]
["Kuilgras",null,{"$f":"IF('Nov Voeropname'!$A74='Nov kengetallen'!$A59,'Nov Voeropname'!C74,\"\")","v":""},null,{"$f":"IF('Nov Voeropname'!$A74='Nov kengetallen'!$A59,'Nov Voeropname'!E74,\"\")","v":""}]
["Totaal kuilgras",null,{"$f":"SUM(C51:C59)","v":773.0625},null,{"$f":"SUM(E51:E59)","v":795.15}]
[]
["Snijmais",null,{"$f":"IF('Nov Voeropname'!$A66='Nov kengetallen'!$A62,'Nov Voeropname'!C66,\"\")","v":""},null,{"$f":"IF('Nov Voeropname'!$A66='Nov kengetallen'!$A62,'Nov Voeropname'!E66,\"\")","v":""}]
["Snijmais",null,{"$f":"IF('Nov Voeropname'!$A67='Nov kengetallen'!$A63,'Nov Voeropname'!C67,\"\")","v":281.95999999999998},null,{"$f":"IF('Nov Voeropname'!$A67='Nov kengetallen'!$A63,'Nov Voeropname'!E67,\"\")","v":281.95999999999998}]
["Snijmais",null,{"$f":"IF('Nov Voeropname'!$A68='Nov kengetallen'!$A64,'Nov Voeropname'!C68,\"\")","v":""},null,{"$f":"IF('Nov Voeropname'!$A68='Nov kengetallen'!$A64,'Nov Voeropname'!E68,\"\")","v":""}]
["Snijmais",null,{"$f":"IF('Nov Voeropname'!$A69='Nov kengetallen'!$A65,'Nov Voeropname'!C69,\"\")","v":""},null,{"$f":"IF('Nov Voeropname'!$A69='Nov kengetallen'!$A65,'Nov Voeropname'!E69,\"\")","v":""}]
["Snijmais",null,{"$f":"IF('Nov Voeropname'!$A70='Nov kengetallen'!$A66,'Nov Voeropname'!C70,\"\")","v":""},null,{"$f":"IF('Nov Voeropname'!$A70='Nov kengetallen'!$A66,'Nov Voeropname'!E70,\"\")","v":""}]
["Snijmais",null,{"$f":"IF('Nov Voeropname'!$A71='Nov kengetallen'!$A67,'Nov Voeropname'!C71,\"\")","v":""},null,{"$f":"IF('Nov Voeropname'!$A71='Nov kengetallen'!$A67,'Nov Voeropname'!E71,\"\")","v":""}]
["Snijmais",null,{"$f":"IF('Nov Voeropname'!$A72='Nov kengetallen'!$A68,'Nov Voeropname'!C72,\"\")","v":""},null,{"$f":"IF('Nov Voeropname'!$A72='Nov kengetallen'!$A68,'Nov Voeropname'!E72,\"\")","v":""}]
["Snijmais",null,{"$f":"IF('Nov Voeropname'!$A73='Nov kengetallen'!$A69,'Nov Voeropname'!C73,\"\")","v":""},null,{"$f":"IF('Nov Voeropname'!$A73='Nov kengetallen'!$A69,'Nov Voeropname'!E73,\"\")","v":""}]
["Snijmais",null,{"$f":"IF('Nov Voeropname'!$A74='Nov kengetallen'!$A70,'Nov Voeropname'!C74,\"\")","v":""},null,{"$f":"IF('Nov Voeropname'!$A74='Nov kengetallen'!$A70,'Nov Voeropname'!E74,\"\")","v":""}]
["Totaal snijmais",null,{"$f":"SUM(C62:C70)","v":281.95999999999998},null,{"$f":"SUM(E62:E70)","v":281.95999999999998}]
[]
["OverigRuwvoer",null,{"$f":"IF('Nov Voeropname'!$A66='Nov kengetallen'!$A73,'Nov Voeropname'!C66,\"\")","v":""},null,{"$f":"IF('Nov Voeropname'!$A66='Nov kengetallen'!$A73,'Nov Voeropname'!E66,\"\")","v":""}]
["OverigRuwvoer",null,{"$f":"IF('Nov Voeropname'!$A67='Nov kengetallen'!$A74,'Nov Voeropname'!C67,\"\")","v":""},null,{"$f":"IF('Nov Voeropname'!$A67='Nov kengetallen'!$A74,'Nov Voeropname'!E67,\"\")","v":""}]
["OverigRuwvoer",null,{"$f":"IF('Nov Voeropname'!$A68='Nov kengetallen'!$A75,'Nov Voeropname'!C68,\"\")","v":""},null,{"$f":"IF('Nov Voeropname'!$A68='Nov kengetallen'!$A75,'Nov Voeropname'!E68,\"\")","v":""}]
["OverigRuwvoer",null,{"$f":"IF('Nov Voeropname'!$A69='Nov kengetallen'!$A76,'Nov Voeropname'!C69,\"\")","v":""},null,{"$f":"IF('Nov Voeropname'!$A69='Nov kengetallen'!$A76,'Nov Voeropname'!E69,\"\")","v":""}]
["OverigRuwvoer",null,{"$f":"IF('Nov Voeropname'!$A70='Nov kengetallen'!$A77,'Nov Voeropname'!C70,\"\")","v":""},null,{"$f":"IF('Nov Voeropname'!$A70='Nov kengetallen'!$A77,'Nov Voeropname'!E70,\"\")","v":""}]
["OverigRuwvoer",null,{"$f":"IF('Nov Voeropname'!$A71='Nov kengetallen'!$A78,'Nov Voeropname'!C71,\"\")","v":""},null,{"$f":"IF('Nov Voeropname'!$A71='Nov kengetallen'!$A78,'Nov Voeropname'!E71,\"\")","v":""}]
["OverigRuwvoer",null,{"$f":"IF('Nov Voeropname'!$A72='Nov kengetallen'!$A79,'Nov Voeropname'!C72,\"\")","v":""},null,{"$f":"IF('Nov Voeropname'!$A72='Nov kengetallen'!$A79,'Nov Voeropname'!E72,\"\")","v":""}]
["OverigRuwvoer",null,{"$f":"IF('Nov Voeropname'!$A73='Nov kengetallen'!$A80,'Nov Voeropname'!C73,\"\")","v":""},null,{"$f":"IF('Nov Voeropname'!$A73='Nov kengetallen'!$A80,'Nov Voeropname'!E73,\"\")","v":""}]
["OverigRuwvoer",null,{"$f":"IF('Nov Voeropname'!$A74='Nov kengetallen'!$A81,'Nov Voeropname'!C74,\"\")","v":""},null,{"$f":"IF('Nov Voeropname'!$A74='Nov kengetallen'!$A81,'Nov Voeropname'!E74,\"\")","v":""}]
["Totaal overig Ruwvoer",null,{"$f":"SUM(C73:C81)","v":0},null,{"$f":"SUM(E73:E81)","v":0}]
[]
["Bijproducten",null,{"$f":"IF('Nov Voeropname'!$A66='Nov kengetallen'!$A84,'Nov Voeropname'!C66,\"\")","v":""},null,{"$f":"IF('Nov Voeropname'!$A66='Nov kengetallen'!$A84,'Nov Voeropname'!E66,\"\")","v":""}]
["Bijproducten",null,{"$f":"IF('Nov Voeropname'!$A67='Nov kengetallen'!$A85,'Nov Voeropname'!C67,\"\")","v":""},null,{"$f":"IF('Nov Voeropname'!$A67='Nov kengetallen'!$A85,'Nov Voeropname'!E67,\"\")","v":""}]
["Bijproducten",null,{"$f":"IF('Nov Voeropname'!$A68='Nov kengetallen'!$A86,'Nov Voeropname'!C68,\"\")","v":""},null,{"$f":"IF('Nov Voeropname'!$A68='Nov kengetallen'!$A86,'Nov Voeropname'!E68,\"\")","v":""}]
["Bijproducten",null,{"$f":"IF('Nov Voeropname'!$A69='Nov kengetallen'!$A87,'Nov Voeropname'!C69,\"\")","v":52.012499999999996},null,{"$f":"IF('Nov Voeropname'!$A69='Nov kengetallen'!$A87,'Nov Voeropname'!E69,\"\")","v":52.012499999999996}]
["Bijproducten",null,{"$f":"IF('Nov Voeropname'!$A70='Nov kengetallen'!$A88,'Nov Voeropname'!C70,\"\")","v":9.5},null,{"$f":"IF('Nov Voeropname'!$A70='Nov kengetallen'!$A88,'Nov Voeropname'!E70,\"\")","v":19}]
["Bijproducten",null,{"$f":"IF('Nov Voeropname'!$A71='Nov kengetallen'!$A89,'Nov Voeropname'!C71,\"\")","v":106.39999999999999},null,{"$f":"IF('Nov Voeropname'!$A71='Nov kengetallen'!$A89,'Nov Voeropname'!E71,\"\")","v":106.39999999999999}]
["Bijproducten",null,{"$f":"IF('Nov Voeropname'!$A72='Nov kengetallen'!$A90,'Nov Voeropname'!C72,\"\")","v":""},null,{"$f":"IF('Nov Voeropname'!$A72='Nov kengetallen'!$A90,'Nov Voeropname'!E72,\"\")","v":""}]
["Bijproducten",null,{"$f":"IF('Nov Voeropname'!$A73='Nov kengetallen'!$A91,'Nov Voeropname'!C73,\"\")","v":""},null,{"$f":"IF('Nov Voeropname'!$A73='Nov kengetallen'!$A91,'Nov Voeropname'!E73,\"\")","v":""}]
["Bijproducten",null,{"$f":"IF('Nov Voeropname'!$A74='Nov kengetallen'!$A92,'Nov Voeropname'!C74,\"\")","v":""},null,{"$f":"IF('Nov Voeropname'!$A74='Nov kengetallen'!$A92,'Nov Voeropname'!E74,\"\")","v":""}]
["Totaal Bijproducten",null,{"$f":"SUM(C84:C92)","v":167.91249999999999},null,{"$f":"SUM(E84:E92)","v":177.41249999999997}]
[]
["Krachtvoer",null,{"$f":"SUM('Nov Voeropname'!C76:C77)","v":308.65500000000003},null,{"$f":"SUM('Nov Voeropname'!E76:E78)","v":301.86}]
[]
["Vers gras",null,{"$f":"'Nov Voeropname'!C31*('Nov vee+melk'!C2+'Nov vee+melk'!C3)","v":0},null,{"$f":"'Nov Voeropname'!E31*('Nov vee+melk'!E2+'Nov vee+melk'!E3)","v":0}]
[]
["Totaal",null,{"$f":"C95+C93+C82+C71+C60+C97","v":1531.59},null,{"$f":"E95+E93+E82+E71+E60+E97","v":1556.3824999999999}]
[]
["Vers gras",null,{"$f":"C97/C99","v":0},null,{"$f":"E97/E99","v":0}]
["Aandeel kuilgras",null,{"$f":"C60/C$99","v":0.50474506885001869},null,{"$f":"E60/E$99","v":0.51089626104122865}]
["Aandeel snijmais",null,{"$f":"C71/C$99","v":0.18409626597196377},null,{"$f":"E71/E$99","v":0.18116369208726005}]
["Aandeel overig ruwvoer",null,{"$f":"C82/C$99","v":0},null,{"$f":"E82/E$99","v":0}]
["Aandeel bijproducten",null,{"$f":"C93/C$99","v":0.10963279990075674},null,{"$f":"E93/E$99","v":0.1139902948022096}]
["Aandeel krachtvoer",null,{"$f":"C95/C$99","v":0.20152586527726091},null,{"$f":"E95/E$99","v":0.19394975206930173}]

{"sheet":"Okt Voeropname","index":35,"n_rows":162,"n_cols":18,"rows_kept":162,"cut":false,"hidden":true,"merged":[]}
["Gem rantsoen gehaltes (d dgn)",null,{"$f":"'Okt voer'!B3","v":"Oktober gerealiseerd"},null,{"$f":"'Okt voer'!G3","v":"Oktober prognose"}]
["DS opname/koe",null,{"$f":"C34","v":20.034013172413061},null,{"$f":"E34","v":20.538812499509941}]
["VEM",null,{"$f":"C12","v":951.12083887161168},null,{"$f":"AVERAGE(E12:E12)","v":960.57213642510294}]
["DVE",null,{"$f":"AVERAGE(C13)","v":{"$error":"#N/A"}},null,{"$error":"#N/A"},null,null,null,null,null,null,null,1,null,null,null,null,"Voedermiddelen"]
["OEB",null,{"$f":"AVERAGE(C14)","v":{"$error":"#N/A"}},null,{"$error":"#N/A"},null,null,null,null,null,null,null,2,null,null,null,null,"Kuilgras"]
["RE",null,{"$f":"AVERAGE(C15)","v":164.09908228715241},null,129.63922810798519,null,null,null,null,null,null,null,null,null,null,null,null,"Snijmais"]
["N",null,{"$f":"AVERAGE(C16)","v":26.255853165944387},null,20.742276497277629,null,null,null,null,null,null,null,"Vem toeslag weidegang",null,1.03,null,null,"OverigRuwvoer"]
["P",null,3.745822491523338,null,2.9515169295941202,null,null,null,null,null,null,null,null,null,null,null,null,"Bijproducten"]
[null,null,null,null,null,null,null,null,null,null,null,null,null,null,null,null,null,"Krachtvoer"]
[]
["Rantsoen gehaltes (incl. weidegras)"]
["VEM",null,{"$f":"C35/C34","v":951.12083887161168},null,{"$f":"E35/E34","v":960.57213642510294},null,null,null,null,null,null,null,null,null,null,null,null,"Let op bij beperkt weiden is deze opname niet realistisch!"]
["DVE",null,{"$f":"C36/C34","v":{"$error":"#N/A"}},null,{"$f":"E36/E34","v":{"$error":"#N/A"}},null,null,null,null,null,null,null,null,null,null,null,null,"Let op VEM dekking te laag!"]
["OEB",null,{"$f":"C37","v":{"$error":"#N/A"}},null,{"$f":"E37","v":{"$error":"#N/A"}}]
["RE",null,{"$f":"C38/C34","v":164.09908228715241},null,{"$f":"E38/E34","v":129.63922810798519}]
["N",null,{"$f":"C39/C34","v":26.255853165944387},null,{"$f":"E39/E34","v":20.742276497277629}]
["P",null,{"$f":"C40/C34","v":3.745822491523338},null,{"$f":"E40/E34","v":2.9515169295941202}]
[]
[]
[]
[]
["kg ds",null,{"$f":"C55/SUM('Okt vee+melk'!C2:C3)","v":16.563657534246573},null,{"$f":"E55/SUM('Okt vee+melk'!E2:E3)","v":16.345171232876712}]
["Vemopname ex weidegras",null,{"$f":"C22*C45","v":15862.040227397258},null,{"$f":"E22*E45","v":15870.861036986302}]
[]
[]
[]
["VEM behoefte",null,{"$f":"IF('Okt voer'!B4=1,'Okt vee+melk'!C27*'Okt Voeropname'!O7,'Okt vee+melk'!C27)","v":19054.767414510428},null,{"$f":"IF('Okt voer'!G4=1,'Okt vee+melk'!E27*'Okt Voeropname'!O7,'Okt vee+melk'!E27)","v":19729.011002288873}]
["Behoefte-opname",null,{"$f":"C27-'Okt Voeropname'!C23","v":3192.7271871131707},null,{"$f":"E27-'Okt Voeropname'!E23","v":3858.1499653025712}]
[null,null,{"$f":"C28/VLOOKUP('Okt voer'!B5,Weidegras!$A$5:$J$119,4,FALSE)","v":3.47035563816649},null,{"$f":"E28/VLOOKUP('Okt voer'!G5,Weidegras!$A$5:$J$119,4,FALSE)","v":4.1936412666332297}]
[null,null,{"$f":"IF(C29>0,C29,0)","v":3.47035563816649},null,{"$f":"IF(E29>0,E29,0)","v":4.1936412666332297}]
["Weidegrasopname/koe",null,{"$f":"IF('Okt voer'!B4=1,C30,0)","v":3.47035563816649},null,{"$f":"IF('Okt voer'!G4=1,E30,0)","v":4.1936412666332297}]
[]
["Rantsoenopname incl weidegras"]
["droge stof",null,{"$f":"C22+C31","v":20.034013172413061},null,{"$f":"E22+E31","v":20.538812499509941}]
["VEM",null,{"$f":"C45*C22+C31*VLOOKUP('Okt voer'!B5,Weidegras!$A$6:$J$180,4,FALSE)","v":19054.767414510428},null,{"$f":"E45*E22+E31*VLOOKUP('Okt voer'!G5,Weidegras!$A$6:$J$180,4,FALSE)","v":19729.011002288873}]
["DVE",null,{"$f":"C46*C22+$C$31*VLOOKUP('Okt voer'!B5,Weidegras!$A$5:$J$150,5,FALSE)","v":{"$error":"#N/A"}},null,{"$f":"E46*E22+$C$31*VLOOKUP('Okt voer'!G5,Weidegras!$A$5:$J$150,5,FALSE)","v":{"$error":"#N/A"}}]
["OEB",null,{"$f":"C22*C47+$C$31*VLOOKUP('Okt voer'!B5,Weidegras!$A$6:$J$151,6,FALSE)","v":{"$error":"#N/A"}},null,{"$f":"E22*E47+$C$31*VLOOKUP('Okt voer'!G5,Weidegras!$A$6:$J$151,6,FALSE)","v":{"$error":"#N/A"}}]
["RE",null,{"$f":"C48*C22+C31*VLOOKUP('Okt voer'!$B$5,Weidegras!$A$6:$J$181,7,FALSE)","v":3287.5631761217064},null,{"$f":"E48*E22+E31*VLOOKUP('Okt voer'!$B$5,Weidegras!$A$6:$J$181,7,FALSE)","v":2662.6357986911066}]
["N",null,{"$f":"C38/6.25","v":526.01010817947304},null,{"$f":"E38/6.25","v":426.02172779057707}]
["P",null,{"$f":"C50*C22+C31*VLOOKUP('Okt voer'!$B$5,Weidegras!$A$6:$J$183,10,FALSE)","v":75.043857136699671},null,{"$f":"E50*E22+E31*VLOOKUP('Okt voer'!$B$5,Weidegras!$A$6:$J$183,10,FALSE)","v":60.620652806062921}]
[]
[]
["Stalrantsoen gehaltes"]
["droge stof"]
["VEM",null,{"$f":"C56/C$55","v":957.64116075216657},null,{"$f":"E56/E$55","v":970.98163187569537}]
["DVE",null,{"$f":"C57/C$55*1000","v":{"$error":"#N/A"}},null,{"$f":"E57/E$55*1000","v":{"$error":"#N/A"}}]
["OEB",null,{"$f":"C58/C$55","v":{"$error":"#N/A"}},null,{"$f":"E58/E$55","v":{"$error":"#N/A"}}]
["RE",null,{"$f":"C59/C$55","v":151.33934955799418},null,105.17274424393278]
["N",null,{"$f":"C60/C$55","v":24.214295929279068},null,16.827639079029247]
["P",null,{"$f":"C61/C$55","v":3.6087616642145246},null,2.5798831123933796]
[]
[]
[]
["Stalrantsoen opname"]
["droge stof (kg)",null,{"$f":"C80","v":1209.1469999999999},null,1193.1975]
["VEM",null,{"$f":"C96","v":1157928.9365999999},null,1158572.8557]
["DVE",null,{"$f":"C112","v":{"$error":"#N/A"}},null,{"$f":"E112","v":{"$error":"#N/A"}}]
["OEB",null,{"$f":"C128","v":{"$error":"#N/A"}},null,{"$f":"E128","v":{"$error":"#N/A"}}]
["RE",null,{"$f":"C144","v":182991.52049999998},null,{"$f":"E144","v":125491.85549999999}]
["N",null,{"$f":"C146","v":29278.643279999997},null,{"$f":"E146","v":20078.69688}]
["P",null,{"$f":"C162","v":4363.5233399999997},null,{"$f":"E162","v":3078.3100799999997}]
[]
[]
[]
["Drogestof opname"]
[{"$f":"'Okt voer'!A9","v":"Kuilgras"},{"$f":"'Okt voer'!B9","v":"2017 1e 2e snede"},{"$f":"IF('Okt voer'!C9>0,VLOOKUP('Okt voer'!B9,Voedermiddelen!$A$4:$K$75,3,FALSE)*'Okt voer'!C9*(1-'Okt voer'!$B$6),\"\")","v":530.1},{"$f":"'Okt voer'!G9","v":"2017 1e 2e snede"},{"$f":"IF('Okt voer'!H9>0,VLOOKUP('Okt voer'!G9,Voedermiddelen!$A$4:$K$75,3,FALSE)*'Okt voer'!H9*(1-'Okt voer'!$G$6),\"\")","v":530.1}]
[{"$f":"'Okt voer'!A10","v":"Snijmais"},{"$f":"'Okt voer'!B10","v":"Mkuil 1"},{"$f":"IF('Okt voer'!C10>0,VLOOKUP('Okt voer'!B10,Voedermiddelen!$A$4:$K$75,3,FALSE)*'Okt voer'!C10*(1-'Okt voer'!$B$6),\"\")","v":319.00049999999993},{"$f":"'Okt voer'!G10","v":"Mkuil 1"},{"$f":"IF('Okt voer'!H10>0,VLOOKUP('Okt voer'!G10,Voedermiddelen!$A$4:$K$75,3,FALSE)*'Okt voer'!H10*(1-'Okt voer'!$G$6),\"\")","v":334.19099999999997}]
[{"$f":"'Okt voer'!A11","v":"Kuilgras"},{"$f":"'Okt voer'!B11","v":"2017 1e 2e snede"},{"$f":"IF('Okt voer'!C11>0,VLOOKUP('Okt voer'!B11,Voedermiddelen!$A$4:$K$75,3,FALSE)*'Okt voer'!C11*(1-'Okt voer'!$B$6),\"\")","v":""},{"$f":"'Okt voer'!G11","v":"2017 1e 2e snede"},{"$f":"IF('Okt voer'!H11>0,VLOOKUP('Okt voer'!G11,Voedermiddelen!$A$4:$K$75,3,FALSE)*'Okt voer'!H11*(1-'Okt voer'!$G$6),\"\")","v":""}]
[{"$f":"'Okt voer'!A12","v":"Bijproducten"},{"$f":"'Okt voer'!B12","v":"Bierbostel"},{"$f":"IF('Okt voer'!C12>0,VLOOKUP('Okt voer'!B12,Voedermiddelen!$A$4:$K$75,3,FALSE)*'Okt voer'!C12*(1-'Okt voer'!$B$6),\"\")","v":27.046499999999998},{"$f":"'Okt voer'!G12","v":"Bierbostel"},{"$f":"IF('Okt voer'!H12>0,VLOOKUP('Okt voer'!G12,Voedermiddelen!$A$4:$K$75,3,FALSE)*'Okt voer'!H12*(1-'Okt voer'!$G$6),\"\")","v":27.046499999999998}]
[{"$f":"'Okt voer'!A13","v":"OverigRuwvoer"},{"$f":"'Okt voer'!B13","v":"Overig 2"},{"$f":"IF('Okt voer'!C13>0,VLOOKUP('Okt voer'!B13,Voedermiddelen!$A$4:$K$75,3,FALSE)*'Okt voer'!C13*(1-'Okt voer'!$B$6),\"\")","v":""},{"$f":"'Okt voer'!G13","v":"Overig 2"},{"$f":"IF('Okt voer'!H13>0,VLOOKUP('Okt voer'!G13,Voedermiddelen!$A$4:$K$75,3,FALSE)*'Okt voer'!H13*(1-'Okt voer'!$G$6),\"\")","v":""}]
[{"$f":"'Okt voer'!A14","v":"Bijproducten"},{"$f":"'Okt voer'!B14","v":"BP 6"},{"$f":"IF('Okt voer'!C14>0,VLOOKUP('Okt voer'!B14,Voedermiddelen!$A$4:$K$75,3,FALSE)*'Okt voer'!C14*(1-'Okt voer'!$B$6),\"\")","v":""},{"$f":"'Okt voer'!G14","v":"BP 6"},{"$f":"IF('Okt voer'!H14>0,VLOOKUP('Okt voer'!G14,Voedermiddelen!$A$4:$K$75,3,FALSE)*'Okt voer'!H14*(1-'Okt voer'!$G$6),\"\")","v":""}]
[{"$f":"'Okt voer'!A15","v":0},{"$f":"'Okt voer'!B15","v":0},{"$f":"IF('Okt voer'!C15>0,VLOOKUP('Okt voer'!B15,Voedermiddelen!$A$4:$K$75,3,FALSE)*'Okt voer'!C15*(1-'Okt voer'!$B$6),\"\")","v":""},{"$f":"'Okt voer'!G15","v":0},{"$f":"IF('Okt voer'!H15>0,VLOOKUP('Okt voer'!G15,Voedermiddelen!$A$4:$K$75,3,FALSE)*'Okt voer'!H15*(1-'Okt voer'!$G$6),\"\")","v":""}]
[{"$f":"'Okt voer'!A16","v":0},{"$f":"'Okt voer'!B16","v":0},{"$f":"IF('Okt voer'!C16>0,VLOOKUP('Okt voer'!B16,Voedermiddelen!$A$4:$K$75,3,FALSE)*'Okt voer'!C16*(1-'Okt voer'!$B$6),\"\")","v":""},{"$f":"'Okt voer'!G16","v":0},{"$f":"IF('Okt voer'!H16>0,VLOOKUP('Okt voer'!G16,Voedermiddelen!$A$4:$K$75,3,FALSE)*'Okt voer'!H16*(1-'Okt voer'!$G$6),\"\")","v":""}]
[{"$f":"'Okt voer'!A17","v":0},{"$f":"'Okt voer'!B17","v":0},{"$f":"IF('Okt voer'!C17>0,VLOOKUP('Okt voer'!B17,Voedermiddelen!$A$4:$K$75,3,FALSE)*'Okt voer'!C17*(1-'Okt voer'!$B$6),\"\")","v":""},{"$f":"'Okt voer'!G17","v":0},{"$f":"IF('Okt voer'!H17>0,VLOOKUP('Okt voer'!G17,Voedermiddelen!$A$4:$K$75,3,FALSE)*'Okt voer'!H17*(1-'Okt voer'!$G$6),\"\")","v":""}]
[null,{"$f":"'Okt voer'!B18","v":0},{"$f":"IF('Okt voer'!C18>0,VLOOKUP('Okt voer'!B18,Voedermiddelen!$A$4:$K$75,3,FALSE)*'Okt voer'!C18*(1-'Okt voer'!$B$6),\"\")","v":""},{"$f":"'Okt voer'!G18","v":0},{"$f":"IF('Okt voer'!H18>0,VLOOKUP('Okt voer'!G18,Voedermiddelen!$A$4:$K$75,3,FALSE)*'Okt voer'!H18*(1-'Okt voer'!$G$6),\"\")","v":""}]
[null,{"$f":"'Okt voer'!B20","v":"KV 1"},{"$f":"IF('Okt voer'!C20>0,VLOOKUP('Okt voer'!B20,Voedermiddelen!$A$4:$K$75,3,FALSE)*'Okt voer'!C20,\"\")","v":54},null,{"$f":"'Okt voer'!H22*'Okt vee+melk'!E15/100*0.9","v":301.86}]
[null,{"$f":"'Okt voer'!B21","v":"Pens stabielbrok EBZ"},{"$f":"IF('Okt voer'!C21>0,VLOOKUP('Okt voer'!B21,Voedermiddelen!$A$4:$K$75,3,FALSE)*'Okt voer'!C21,\"\")","v":279}]
[null,{"$f":"'Okt voer'!B22","v":0},{"$f":"IF('Okt voer'!C22>0,VLOOKUP('Okt voer'!B22,Voedermiddelen!$A$4:$K$75,3,FALSE)*'Okt voer'!C22,\"\")","v":""}]
[]
["Totaal",null,{"$f":"SUM(C66:C78)","v":1209.1469999999999},null,{"$f":"SUM(E66:E78)","v":1193.1975}]
[]
["VEM",{"$f":"B66","v":"2017 1e 2e snede"},{"$f":"IF('Okt voer'!C9>0,VLOOKUP('Okt voer'!B9,Voedermiddelen!$A$4:$K$75,4,FALSE)*C66,\"\")","v":496173.60000000003},{"$f":"D66","v":"2017 1e 2e snede"},{"$f":"IF('Okt voer'!H9>0,VLOOKUP('Okt voer'!G9,Voedermiddelen!$A$4:$K$75,4,FALSE)*E66,\"\")","v":496173.60000000003}]
[null,{"$f":"B67","v":"Mkuil 1"},{"$f":"IF('Okt voer'!C10>0,VLOOKUP('Okt voer'!B10,Voedermiddelen!$A$4:$K$75,4,FALSE)*C67,\"\")","v":319702.30109999992},"Mkuil 1",{"$f":"IF('Okt voer'!H10>0,VLOOKUP('Okt voer'!G10,Voedermiddelen!$A$4:$K$75,4,FALSE)*E67,\"\")","v":334926.22019999998}]
[null,"2017 1e 2e snede",{"$f":"IF('Okt voer'!C11>0,VLOOKUP('Okt voer'!B11,Voedermiddelen!$A$4:$K$75,4,FALSE)*C68,\"\")","v":""},"2017 1e 2e snede",{"$f":"IF('Okt voer'!H11>0,VLOOKUP('Okt voer'!G11,Voedermiddelen!$A$4:$K$75,4,FALSE)*E68,\"\")","v":""}]
[null,"Bierbostel",{"$f":"IF('Okt voer'!C12>0,VLOOKUP('Okt voer'!B12,Voedermiddelen!$A$4:$K$75,4,FALSE)*C69,\"\")","v":25613.035499999998},"Bierbostel",{"$f":"IF('Okt voer'!H12>0,VLOOKUP('Okt voer'!G12,Voedermiddelen!$A$4:$K$75,4,FALSE)*E69,\"\")","v":25613.035499999998}]
[null,"Overig 2",{"$f":"IF('Okt voer'!C13>0,VLOOKUP('Okt voer'!B13,Voedermiddelen!$A$4:$K$75,4,FALSE)*C70,\"\")","v":""},"Overig 2",{"$f":"IF('Okt voer'!H13>0,VLOOKUP('Okt voer'!G13,Voedermiddelen!$A$4:$K$75,4,FALSE)*E70,\"\")","v":""}]
[null,"BP 6",{"$f":"IF('Okt voer'!C14>0,VLOOKUP('Okt voer'!B14,Voedermiddelen!$A$4:$K$75,4,FALSE)*C71,\"\")","v":""},"BP 6",{"$f":"IF('Okt voer'!H14>0,VLOOKUP('Okt voer'!G14,Voedermiddelen!$A$4:$K$75,4,FALSE)*E71,\"\")","v":""}]
[null,0,{"$f":"IF('Okt voer'!C15>0,VLOOKUP('Okt voer'!B15,Voedermiddelen!$A$4:$K$75,4,FALSE)*C72,\"\")","v":""},0,{"$f":"IF('Okt voer'!H15>0,VLOOKUP('Okt voer'!G15,Voedermiddelen!$A$4:$K$75,4,FALSE)*E72,\"\")","v":""}]
[null,0,{"$f":"IF('Okt voer'!C16>0,VLOOKUP('Okt voer'!B16,Voedermiddelen!$A$4:$K$75,4,FALSE)*C73,\"\")","v":""},0,{"$f":"IF('Okt voer'!H16>0,VLOOKUP('Okt voer'!G16,Voedermiddelen!$A$4:$K$75,4,FALSE)*E73,\"\")","v":""}]
[null,0,{"$f":"IF('Okt voer'!C17>0,VLOOKUP('Okt voer'!B17,Voedermiddelen!$A$4:$K$75,4,FALSE)*C74,\"\")","v":""},0,{"$f":"IF('Okt voer'!H17>0,VLOOKUP('Okt voer'!G17,Voedermiddelen!$A$4:$K$75,4,FALSE)*E74,\"\")","v":""}]
[null,0,{"$f":"IF('Okt voer'!C18>0,VLOOKUP('Okt voer'!B18,Voedermiddelen!$A$4:$K$75,4,FALSE)*C75,\"\")","v":""},0,{"$f":"IF('Okt voer'!H18>0,VLOOKUP('Okt voer'!G18,Voedermiddelen!$A$4:$K$75,4,FALSE)*E75,\"\")","v":""}]
[null,"KV 1",{"$f":"IF('Okt voer'!C20>0,VLOOKUP('Okt voer'!B20,Voedermiddelen!$A$4:$K$75,4,FALSE)*C76,\"\")","v":48600},0,{"$f":"E76*1000","v":301860}]
[null,"Pens stabielbrok EBZ",{"$f":"IF('Okt voer'!C21>0,VLOOKUP('Okt voer'!B21,Voedermiddelen!$A$4:$K$75,4,FALSE)*C77,\"\")","v":267840},0]
[null,0,{"$f":"IF('Okt voer'!C22>0,VLOOKUP('Okt voer'!B22,Voedermiddelen!$A$4:$K$75,4,FALSE)*C78,\"\")","v":""},0]
[]
["Totaal",null,{"$f":"SUM(C82:C94)","v":1157928.9365999999},null,{"$f":"SUM(E82:E94)","v":1158572.8557}]
[]
["DVE",{"$f":"B82","v":"2017 1e 2e snede"},{"$f":"IF('Okt voer'!C9>0,VLOOKUP('Okt voer'!B9,[2]Voedermiddelen!$A$4:$K$75,5,FALSE)*C66,\"\")","v":{"$error":"#N/A"}},{"$f":"D82","v":"2017 1e 2e snede"},{"$f":"IF('Okt voer'!H9>0,VLOOKUP('Okt voer'!G9,[2]Voedermiddelen!$A$4:$K$75,5,FALSE)*E66,\"\")","v":{"$error":"#N/A"}}]
[null,{"$f":"B83","v":"Mkuil 1"},{"$f":"IF('Okt voer'!C10>0,VLOOKUP('Okt voer'!B10,[2]Voedermiddelen!$A$4:$K$75,5,FALSE)*C67,\"\")","v":22776.635699999995},"Mkuil 1",{"$f":"IF('Okt voer'!H10>0,VLOOKUP('Okt voer'!G10,[2]Voedermiddelen!$A$4:$K$75,5,FALSE)*E67,\"\")","v":23861.237400000002}]
[null,"2017 1e 2e snede",{"$f":"IF('Okt voer'!C11>0,VLOOKUP('Okt voer'!B11,[2]Voedermiddelen!$A$4:$K$75,5,FALSE)*C68,\"\")","v":""},"2017 1e 2e snede",{"$f":"IF('Okt voer'!H11>0,VLOOKUP('Okt voer'!G11,[2]Voedermiddelen!$A$4:$K$75,5,FALSE)*E68,\"\")","v":""}]
[null,"Bierbostel",{"$f":"IF('Okt voer'!C12>0,VLOOKUP('Okt voer'!B12,[2]Voedermiddelen!$A$4:$K$75,5,FALSE)*C69,\"\")","v":3705.3704999999995},"Bierbostel",{"$f":"IF('Okt voer'!H12>0,VLOOKUP('Okt voer'!G12,[2]Voedermiddelen!$A$4:$K$75,5,FALSE)*E69,\"\")","v":3705.3704999999995}]
[null,"Overig 2",{"$f":"IF('Okt voer'!C13>0,VLOOKUP('Okt voer'!B13,[2]Voedermiddelen!$A$4:$K$75,5,FALSE)*C70,\"\")","v":""},"Overig 2",{"$f":"IF('Okt voer'!H13>0,VLOOKUP('Okt voer'!G13,[2]Voedermiddelen!$A$4:$K$75,5,FALSE)*E70,\"\")","v":""}]
[null,"BP 6",{"$f":"IF('Okt voer'!C14>0,VLOOKUP('Okt voer'!B14,[2]Voedermiddelen!$A$4:$K$75,5,FALSE)*C71,\"\")","v":""},"BP 6",{"$f":"IF('Okt voer'!H14>0,VLOOKUP('Okt voer'!G14,[2]Voedermiddelen!$A$4:$K$75,5,FALSE)*E71,\"\")","v":""}]
[null,0,{"$f":"IF('Okt voer'!C15>0,VLOOKUP('Okt voer'!B15,[2]Voedermiddelen!$A$4:$K$75,5,FALSE)*C72,\"\")","v":""},0,{"$f":"IF('Okt voer'!H15>0,VLOOKUP('Okt voer'!G15,[2]Voedermiddelen!$A$4:$K$75,5,FALSE)*E72,\"\")","v":""}]
[null,0,{"$f":"IF('Okt voer'!C16>0,VLOOKUP('Okt voer'!B16,[2]Voedermiddelen!$A$4:$K$75,5,FALSE)*C73,\"\")","v":""},0,{"$f":"IF('Okt voer'!H16>0,VLOOKUP('Okt voer'!G16,[2]Voedermiddelen!$A$4:$K$75,5,FALSE)*E73,\"\")","v":""}]
[null,0,{"$f":"IF('Okt voer'!C17>0,VLOOKUP('Okt voer'!B17,[2]Voedermiddelen!$A$4:$K$75,5,FALSE)*C74,\"\")","v":""},0,{"$f":"IF('Okt voer'!H17>0,VLOOKUP('Okt voer'!G17,[2]Voedermiddelen!$A$4:$K$75,5,FALSE)*E74,\"\")","v":""}]
[null,0,{"$f":"IF('Okt voer'!C18>0,VLOOKUP('Okt voer'!B18,[2]Voedermiddelen!$A$4:$K$75,5,FALSE)*C75,\"\")","v":""},0,{"$f":"IF('Okt voer'!H18>0,VLOOKUP('Okt voer'!G18,[2]Voedermiddelen!$A$4:$K$75,5,FALSE)*E75,\"\")","v":""}]
[null,"KV 1",{"$f":"IF('Okt voer'!C20>0,VLOOKUP('Okt voer'!B20,[2]Voedermiddelen!$A$4:$K$75,5,FALSE)*C76,\"\")","v":6480},0]
[null,"Pens stabielbrok EBZ",{"$f":"IF('Okt voer'!C21>0,VLOOKUP('Okt voer'!B21,[2]Voedermiddelen!$A$4:$K$75,5,FALSE)*C77,\"\")","v":{"$error":"#N/A"}},0]
[null,0,{"$f":"IF('Okt voer'!C22>0,VLOOKUP('Okt voer'!B22,[2]Voedermiddelen!$A$4:$K$75,5,FALSE)*C78,\"\")","v":""},0]
[]
["Totaal",null,{"$f":"SUM(C98:C110)/1000","v":{"$error":"#N/A"}},null,{"$f":"SUM(E98:E110)/1000","v":{"$error":"#N/A"}}]
[]
["OEB",{"$f":"B98","v":"2017 1e 2e snede"},{"$f":"IF('Okt voer'!C9>0,VLOOKUP('Okt voer'!B9,[2]Voedermiddelen!$A$4:$K$75,6,FALSE)*C66,\"\")","v":{"$error":"#N/A"}},{"$f":"D98","v":"2017 1e 2e snede"},{"$f":"IF('Okt voer'!H9>0,VLOOKUP('Okt voer'!G9,[2]Voedermiddelen!$A$4:$K$75,6,FALSE)*E66,\"\")","v":{"$error":"#N/A"}}]
[null,{"$f":"B99","v":"Mkuil 1"},{"$f":"IF('Okt voer'!C10>0,VLOOKUP('Okt voer'!B10,[2]Voedermiddelen!$A$4:$K$75,6,FALSE)*C67,\"\")","v":-8740.6136999999981},"Mkuil 1",{"$f":"IF('Okt voer'!H10>0,VLOOKUP('Okt voer'!G10,[2]Voedermiddelen!$A$4:$K$75,6,FALSE)*E67,\"\")","v":-9156.8333999999995}]
[null,"2017 1e 2e snede",{"$f":"IF('Okt voer'!C11>0,VLOOKUP('Okt voer'!B11,[2]Voedermiddelen!$A$4:$K$75,6,FALSE)*C68,\"\")","v":""},"2017 1e 2e snede",{"$f":"IF('Okt voer'!H11>0,VLOOKUP('Okt voer'!G11,[2]Voedermiddelen!$A$4:$K$75,6,FALSE)*E68,\"\")","v":""}]
[null,"Bierbostel",{"$f":"IF('Okt voer'!C12>0,VLOOKUP('Okt voer'!B12,[2]Voedermiddelen!$A$4:$K$75,6,FALSE)*C69,\"\")","v":1487.5574999999999},"Bierbostel",{"$f":"IF('Okt voer'!H12>0,VLOOKUP('Okt voer'!G12,[2]Voedermiddelen!$A$4:$K$75,6,FALSE)*E69,\"\")","v":1487.5574999999999}]
[null,"Overig 2",{"$f":"IF('Okt voer'!C13>0,VLOOKUP('Okt voer'!B13,[2]Voedermiddelen!$A$4:$K$75,6,FALSE)*C70,\"\")","v":""},"Overig 2",{"$f":"IF('Okt voer'!H13>0,VLOOKUP('Okt voer'!G13,[2]Voedermiddelen!$A$4:$K$75,6,FALSE)*E70,\"\")","v":""}]
[null,"BP 6",{"$f":"IF('Okt voer'!C14>0,VLOOKUP('Okt voer'!B14,[2]Voedermiddelen!$A$4:$K$75,6,FALSE)*C71,\"\")","v":""},"BP 6",{"$f":"IF('Okt voer'!H14>0,VLOOKUP('Okt voer'!G14,[2]Voedermiddelen!$A$4:$K$75,6,FALSE)*E71,\"\")","v":""}]
[null,0,{"$f":"IF('Okt voer'!C15>0,VLOOKUP('Okt voer'!B15,[2]Voedermiddelen!$A$4:$K$75,6,FALSE)*C72,\"\")","v":""},0,{"$f":"IF('Okt voer'!H15>0,VLOOKUP('Okt voer'!G15,[2]Voedermiddelen!$A$4:$K$75,6,FALSE)*E72,\"\")","v":""}]
[null,0,{"$f":"IF('Okt voer'!C16>0,VLOOKUP('Okt voer'!B16,[2]Voedermiddelen!$A$4:$K$75,6,FALSE)*C73,\"\")","v":""},0,{"$f":"IF('Okt voer'!H16>0,VLOOKUP('Okt voer'!G16,[2]Voedermiddelen!$A$4:$K$75,6,FALSE)*E73,\"\")","v":""}]
[null,0,{"$f":"IF('Okt voer'!C17>0,VLOOKUP('Okt voer'!B17,[2]Voedermiddelen!$A$4:$K$75,6,FALSE)*C74,\"\")","v":""},0,{"$f":"IF('Okt voer'!H17>0,VLOOKUP('Okt voer'!G17,[2]Voedermiddelen!$A$4:$K$75,6,FALSE)*E74,\"\")","v":""}]
[null,0,{"$f":"IF('Okt voer'!C18>0,VLOOKUP('Okt voer'!B18,[2]Voedermiddelen!$A$4:$K$75,6,FALSE)*C75,\"\")","v":""},0,{"$f":"IF('Okt voer'!H18>0,VLOOKUP('Okt voer'!G18,[2]Voedermiddelen!$A$4:$K$75,6,FALSE)*E75,\"\")","v":""}]
[null,"KV 1",{"$f":"IF('Okt voer'!C20>0,VLOOKUP('Okt voer'!B20,[2]Voedermiddelen!$A$4:$K$75,6,FALSE)*C76,\"\")","v":3240},0]
[null,"Pens stabielbrok EBZ",{"$f":"IF('Okt voer'!C21>0,VLOOKUP('Okt voer'!B21,[2]Voedermiddelen!$A$4:$K$75,6,FALSE)*C77,\"\")","v":{"$error":"#N/A"}},0]
[null,0,{"$f":"IF('Okt voer'!C22>0,VLOOKUP('Okt voer'!B22,[2]Voedermiddelen!$A$4:$K$75,6,FALSE)*C78,\"\")","v":""},0]
[]
["Totaal",null,{"$f":"SUM(C114:C126)","v":{"$error":"#N/A"}},null,{"$f":"SUM(E114:E126)","v":{"$error":"#N/A"}}]
[]
["RE",{"$f":"B114","v":"2017 1e 2e snede"},{"$f":"IF('Okt voer'!C9>0,VLOOKUP('Okt voer'!B9,Voedermiddelen!$A$4:$K$75,7,FALSE)*C66,\"\")","v":95418},{"$f":"D114","v":"2017 1e 2e snede"},{"$f":"IF('Okt voer'!H9>0,VLOOKUP('Okt voer'!G9,Voedermiddelen!$A$4:$K$75,7,FALSE)*E66,\"\")","v":95418}]
[null,{"$f":"B115","v":"Mkuil 1"},{"$f":"IF('Okt voer'!C10>0,VLOOKUP('Okt voer'!B10,Voedermiddelen!$A$4:$K$75,7,FALSE)*C67,\"\")","v":22330.034999999996},"Mkuil 1",{"$f":"IF('Okt voer'!H10>0,VLOOKUP('Okt voer'!G10,Voedermiddelen!$A$4:$K$75,7,FALSE)*E67,\"\")","v":23393.37}]
[null,"2017 1e 2e snede",{"$f":"IF('Okt voer'!C11>0,VLOOKUP('Okt voer'!B11,Voedermiddelen!$A$4:$K$75,7,FALSE)*C68,\"\")","v":""},"2017 1e 2e snede",{"$f":"IF('Okt voer'!H11>0,VLOOKUP('Okt voer'!G11,Voedermiddelen!$A$4:$K$75,7,FALSE)*E68,\"\")","v":""}]
[null,"Bierbostel",{"$f":"IF('Okt voer'!C12>0,VLOOKUP('Okt voer'!B12,Voedermiddelen!$A$4:$K$75,7,FALSE)*C69,\"\")","v":6680.4854999999998},"Bierbostel",{"$f":"IF('Okt voer'!H12>0,VLOOKUP('Okt voer'!G12,Voedermiddelen!$A$4:$K$75,7,FALSE)*E69,\"\")","v":6680.4854999999998}]
[null,"Overig 2",{"$f":"IF('Okt voer'!C13>0,VLOOKUP('Okt voer'!B13,Voedermiddelen!$A$4:$K$75,7,FALSE)*C70,\"\")","v":""},"Overig 2",{"$f":"IF('Okt voer'!H13>0,VLOOKUP('Okt voer'!G13,Voedermiddelen!$A$4:$K$75,7,FALSE)*E70,\"\")","v":""}]
[null,"BP 6",{"$f":"IF('Okt voer'!C14>0,VLOOKUP('Okt voer'!B14,Voedermiddelen!$A$4:$K$75,7,FALSE)*C71,\"\")","v":""},"BP 6",{"$f":"IF('Okt voer'!H14>0,VLOOKUP('Okt voer'!G14,Voedermiddelen!$A$4:$K$75,7,FALSE)*E71,\"\")","v":""}]
[null,0,{"$f":"IF('Okt voer'!C15>0,VLOOKUP('Okt voer'!B15,Voedermiddelen!$A$4:$K$75,7,FALSE)*C72,\"\")","v":""},0,{"$f":"IF('Okt voer'!H15>0,VLOOKUP('Okt voer'!G15,Voedermiddelen!$A$4:$K$75,7,FALSE)*E72,\"\")","v":""}]
[null,0,{"$f":"IF('Okt voer'!C16>0,VLOOKUP('Okt voer'!B16,Voedermiddelen!$A$4:$K$75,7,FALSE)*C73,\"\")","v":""},0,{"$f":"IF('Okt voer'!H16>0,VLOOKUP('Okt voer'!G16,Voedermiddelen!$A$4:$K$75,7,FALSE)*E73,\"\")","v":""}]
[null,0,{"$f":"IF('Okt voer'!C17>0,VLOOKUP('Okt voer'!B17,Voedermiddelen!$A$4:$K$75,7,FALSE)*C74,\"\")","v":""},0,{"$f":"IF('Okt voer'!H17>0,VLOOKUP('Okt voer'!G17,Voedermiddelen!$A$4:$K$75,7,FALSE)*E74,\"\")","v":""}]
[null,0,{"$f":"IF('Okt voer'!C18>0,VLOOKUP('Okt voer'!B18,Voedermiddelen!$A$4:$K$75,7,FALSE)*C75,\"\")","v":""},0,{"$f":"IF('Okt voer'!H18>0,VLOOKUP('Okt voer'!G18,Voedermiddelen!$A$4:$K$75,7,FALSE)*E75,\"\")","v":""}]
[null,"KV 1",{"$f":"IF('Okt voer'!C20>0,VLOOKUP('Okt voer'!B20,Voedermiddelen!$A$4:$K$75,7,FALSE)*C76,\"\")","v":9180},0]
[null,"Pens stabielbrok EBZ",{"$f":"IF('Okt voer'!C21>0,VLOOKUP('Okt voer'!B21,Voedermiddelen!$A$4:$K$75,7,FALSE)*C77,\"\")","v":49383},0]
[null,{"$f":"B126","v":0},{"$f":"IF('Okt voer'!C22>0,VLOOKUP('Okt voer'!B22,Voedermiddelen!$A$4:$K$75,7,FALSE)*C78,\"\")","v":""},0]
[]
["Totaal",null,{"$f":"SUM(C130:C142)","v":182991.52049999998},null,{"$f":"SUM(E130:E142)","v":125491.85549999999}]
[]
["N opname",null,{"$f":"C144/6.25","v":29278.643279999997},null,{"$f":"E144/6.25","v":20078.69688},null,{"$f":"(E76/0.9*'Okt voer'!M6/6.25)","v":7283.3466703720542}]
[]
["P",{"$f":"B130","v":"2017 1e 2e snede"},{"$f":"IF('Okt voer'!C9>0,VLOOKUP('Okt voer'!B9,Voedermiddelen!$A$4:$K$75,10,FALSE)*C66,\"\")","v":1908.3600000000001},{"$f":"D130","v":"2017 1e 2e snede"},{"$f":"IF('Okt voer'!H9>0,VLOOKUP('Okt voer'!G9,Voedermiddelen!$A$4:$K$75,10,FALSE)*E66,\"\")","v":1908.3600000000001}]
[null,{"$f":"B131","v":"Mkuil 1"},{"$f":"IF('Okt voer'!C10>0,VLOOKUP('Okt voer'!B10,Voedermiddelen!$A$4:$K$75,10,FALSE)*C67,\"\")","v":982.52153999999962},"Mkuil 1",{"$f":"IF('Okt voer'!H10>0,VLOOKUP('Okt voer'!G10,Voedermiddelen!$A$4:$K$75,10,FALSE)*E67,\"\")","v":1029.3082799999997}]
[null,"2017 1e 2e snede",{"$f":"IF('Okt voer'!C11>0,VLOOKUP('Okt voer'!B11,Voedermiddelen!$A$4:$K$75,10,FALSE)*C68,\"\")","v":""},"2017 1e 2e snede",{"$f":"IF('Okt voer'!H11>0,VLOOKUP('Okt voer'!G11,Voedermiddelen!$A$4:$K$75,10,FALSE)*E68,\"\")","v":""}]
[null,"Bierbostel",{"$f":"IF('Okt voer'!C12>0,VLOOKUP('Okt voer'!B12,Voedermiddelen!$A$4:$K$75,10,FALSE)*C69,\"\")","v":140.64179999999999},"Bierbostel",{"$f":"IF('Okt voer'!H12>0,VLOOKUP('Okt voer'!G12,Voedermiddelen!$A$4:$K$75,10,FALSE)*E69,\"\")","v":140.64179999999999}]
[null,"Overig 2",{"$f":"IF('Okt voer'!C13>0,VLOOKUP('Okt voer'!B13,Voedermiddelen!$A$4:$K$75,10,FALSE)*C70,\"\")","v":""},"Overig 2",{"$f":"IF('Okt voer'!H13>0,VLOOKUP('Okt voer'!G13,Voedermiddelen!$A$4:$K$75,10,FALSE)*E70,\"\")","v":""}]
[null,"BP 6",{"$f":"IF('Okt voer'!C14>0,VLOOKUP('Okt voer'!B14,Voedermiddelen!$A$4:$K$75,10,FALSE)*C71,\"\")","v":""},"BP 6",{"$f":"IF('Okt voer'!H14>0,VLOOKUP('Okt voer'!G14,Voedermiddelen!$A$4:$K$75,10,FALSE)*E71,\"\")","v":""}]
[null,0,{"$f":"IF('Okt voer'!C15>0,VLOOKUP('Okt voer'!B15,Voedermiddelen!$A$4:$K$75,10,FALSE)*C72,\"\")","v":""},0,{"$f":"IF('Okt voer'!H15>0,VLOOKUP('Okt voer'!G15,Voedermiddelen!$A$4:$K$75,10,FALSE)*E72,\"\")","v":""}]
[null,0,{"$f":"IF('Okt voer'!C16>0,VLOOKUP('Okt voer'!B16,Voedermiddelen!$A$4:$K$75,10,FALSE)*C73,\"\")","v":""},0,{"$f":"IF('Okt voer'!H16>0,VLOOKUP('Okt voer'!G16,Voedermiddelen!$A$4:$K$75,10,FALSE)*E73,\"\")","v":""}]
[null,0,{"$f":"IF('Okt voer'!C17>0,VLOOKUP('Okt voer'!B17,Voedermiddelen!$A$4:$K$75,10,FALSE)*C74,\"\")","v":""},0,{"$f":"IF('Okt voer'!H17>0,VLOOKUP('Okt voer'!G17,Voedermiddelen!$A$4:$K$75,10,FALSE)*E74,\"\")","v":""}]
[null,0,{"$f":"IF('Okt voer'!C18>0,VLOOKUP('Okt voer'!B18,Voedermiddelen!$A$4:$K$75,10,FALSE)*C75,\"\")","v":""},0,{"$f":"IF('Okt voer'!H18>0,VLOOKUP('Okt voer'!G18,Voedermiddelen!$A$4:$K$75,10,FALSE)*E75,\"\")","v":""}]
[null,{"$f":"B140","v":"KV 1"},{"$f":"IF('Okt voer'!C20>0,VLOOKUP('Okt voer'!B20,Voedermiddelen!$A$4:$K$75,10,FALSE)*C76,\"\")","v":216},0]
[null,{"$f":"B141","v":"Pens stabielbrok EBZ"},{"$f":"IF('Okt voer'!C21>0,VLOOKUP('Okt voer'!B21,Voedermiddelen!$A$4:$K$75,10,FALSE)*C77,\"\")","v":1116},0]
[null,{"$f":"B142","v":0},{"$f":"IF('Okt voer'!C22>0,VLOOKUP('Okt voer'!B22,Voedermiddelen!$A$4:$K$75,10,FALSE)*C78,\"\")","v":""},0]
[]
["Totaal",null,{"$f":"SUM(C148:C160)","v":4363.5233399999997},null,{"$f":"SUM(E148:E160)","v":3078.3100799999997},null,{"$f":"(E76/0.9*'Okt voer'!M7)","v":972.29227002861944}]

{"sheet":"Okt Excretie","index":36,"n_rows":25,"n_cols":5,"rows_kept":25,"cut":false,"hidden":true,"merged":[]}
["Veestapel"]
[null,null,{"$f":"'Okt vee+melk'!C6","v":"September gerealiseerd"},null,{"$f":"'Okt vee+melk'!E6","v":"September prognose"}]
[]
[]
["Excretie (kg/dier/dag)"]
[null,null,"N",null,"N"]
["Opname",null,{"$f":"'Okt Voeropname'!C2*'Okt Voeropname'!C7*0.001","v":0.52601010817947302},null,{"$f":"'Okt Voeropname'!E2*'Okt Voeropname'!E7*0.001+'Okt Voeropname'!G146*0.001/'Okt vee+melk'!E2","v":0.53006953736732076}]
["Gem opname 7 dgn",null,{"$f":"AVERAGE(C7:F7)","v":0.52803982277339689},null,{"$f":"AVERAGE(E7)","v":0.53006953736732076}]
["Productie",null,{"$f":"'Okt vee+melk'!C22*'Okt vee+melk'!C10/6.38","v":0.14343121601205513},null,{"$f":"'Okt vee+melk'!E22*'Okt vee+melk'!E10/6.38","v":0.1400280557106254}]
["Vastlegging",null,{"$f":"1.4/365","v":3.8356164383561643E-3},null,{"$f":"1.4/365","v":3.8356164383561643E-3}]
["Onder de staart",null,{"$f":"C7-C9-C10","v":0.37874327572906175},null,{"$f":"E7-E9-E10","v":0.38620586521833922}]
["Vervluchtiging",null,{"$f":"C11*0.1175","v":4.4502334898164755E-2},null,{"$f":"E11*0.1175","v":4.5379189163154858E-2}]
["Gemeten netto excretie",null,{"$f":"C11-C12","v":0.334240940830897},null,{"$f":"E11-E12","v":0.34082667605518435}]
[]
[null,null,"P",null,"P"]
["Opname",null,{"$f":"'Okt Voeropname'!C2*'Okt Voeropname'!C8/1000","v":7.5043857136699671E-2},null,{"$f":"'Okt Voeropname'!E2*'Okt Voeropname'!E8/1000+'Okt Voeropname'!G162*0.001/'Okt vee+melk'!E2","v":7.4510542377900349E-2}]
["Gem opname 7 dgn",null,{"$f":"AVERAGE(C16:F16)","v":7.4777199757300017E-2},null,{"$f":"AVERAGE(E16)","v":7.4510542377900349E-2}]
["Productie",null,{"$f":"'Okt vee+melk'!C22*0.9/1000","v":2.2502241594022417E-2},null,{"$f":"'Okt vee+melk'!E22*0.9/1000","v":2.2972602739726029E-2}]
["Vastlegging",null,{"$f":"0.5/365","v":1.3698630136986301E-3},null,{"$f":"0.5/365","v":1.3698630136986301E-3}]
["Onder de staart",null,{"$f":"C16-C18-C19","v":5.1171752528978619E-2},null,{"$f":"E16-E18-E19","v":5.0168076624475692E-2}]
["Vervluchtiging"]
["Gemeten netto excretie",null,{"$f":"C20","v":5.1171752528978619E-2},null,{"$f":"E20","v":5.0168076624475692E-2}]
[]
["N excretie per ton meetmelk (kg)",null,{"$f":"C13/'Okt vee+melk'!C21*1000","v":12.308372092624422},null,{"$f":"E13/'Okt vee+melk'!E21*1000","v":11.951484519688835}]
["P excretie per ton meetmelk (kg)",null,{"$f":"C22/'Okt vee+melk'!C21*1000","v":1.8843920472238618},null,{"$f":"E22/'Okt vee+melk'!E21*1000","v":1.7592020615865882}]

{"sheet":"Okt kengetallen","index":37,"n_rows":106,"n_cols":6,"rows_kept":106,"cut":false,"hidden":true,"merged":[]}
["Rantsoen"]
["Datum",null,{"$f":"'Okt voer'!B3","v":"Oktober gerealiseerd"},null,{"$f":"'Okt voer'!G3","v":"Oktober prognose"}]
[]
[{"$f":"'Okt Voeropname'!A2","v":"DS opname/koe"},null,{"$f":"'Okt Voeropname'!C2","v":20.034013172413061},null,{"$f":"'Okt Voeropname'!E2","v":20.538812499509941}]
[{"$f":"'Okt Voeropname'!A3","v":"VEM"},null,{"$f":"'Okt Voeropname'!C3","v":951.12083887161168},null,{"$f":"'Okt Voeropname'!E3","v":960.57213642510294}]
[{"$f":"'Okt Voeropname'!A4","v":"DVE"},null,{"$f":"'Okt Voeropname'!C4","v":{"$error":"#N/A"}},null,{"$f":"'Okt Voeropname'!E4","v":{"$error":"#N/A"}}]
[{"$f":"'Okt Voeropname'!A5","v":"OEB"},null,{"$f":"'Okt Voeropname'!C5","v":{"$error":"#N/A"}},null,{"$f":"'Okt Voeropname'!E5","v":{"$error":"#N/A"}}]
[{"$f":"'Okt Voeropname'!A6","v":"RE"},null,{"$f":"'Okt Voeropname'!C6","v":164.09908228715241},null,{"$f":"'Okt Voeropname'!E6","v":129.63922810798519}]
[{"$f":"'Okt Voeropname'!A7","v":"N"},null,{"$f":"'Okt Voeropname'!C7","v":26.255853165944387},null,{"$f":"'Okt Voeropname'!E7","v":20.742276497277629}]
[{"$f":"'Okt Voeropname'!A8","v":"P"},null,{"$f":"'Okt Voeropname'!C8","v":3.745822491523338},null,{"$f":"'Okt Voeropname'!E8","v":2.9515169295941202}]
[]
["Streefwaarde RE",null,{"$f":"'Okt voer'!H20","v":160}]
["Streefwaarde P",null,{"$f":"'Okt voer'!H21","v":3.6}]
[]
[]
[{"$f":"'Okt Excretie'!A24","v":"N excretie per ton meetmelk (kg)"},null,{"$f":"'Okt Excretie'!C24","v":12.308372092624422},null,{"$f":"'Okt Excretie'!E24","v":11.951484519688835}]
[{"$f":"'Okt Excretie'!A25","v":"P excretie per ton meetmelk (kg)"},null,{"$f":"'Okt Excretie'!C25","v":1.8843920472238618},null,{"$f":"'Okt Excretie'!E25","v":1.7592020615865882}]
[]
[]
["VEM dekking",null,{"$f":"'Okt Voeropname'!C35/'Okt vee+melk'!C27","v":1.03},null,{"$f":"'Okt Voeropname'!E35/'Okt vee+melk'!E27","v":1.03}]
["DVE dekking",null,{"$f":"'Okt Voeropname'!C36/'Okt vee+melk'!C28","v":{"$error":"#N/A"}},null,{"$f":"'Okt Voeropname'!E36/'Okt vee+melk'!E28","v":{"$error":"#N/A"}}]
[]
[]
["Voerefficientie kg meetmelk/kg voer (ds)",null,{"$f":"'Okt vee+melk'!C21/'Okt Voeropname'!C2","v":1.3554736306563848},null,{"$f":"'Okt vee+melk'!E21/'Okt Voeropname'!E2","v":1.3884696642475571}]
["kg krachtvoer per 100 kg (excl bijprod)",null,{"$f":"SUM('Okt Voeropname'!C76:C78)/('Okt vee+melk'!C21*'Okt vee+melk'!C2)*100/0.9","v":19.464562911455872},null,{"$f":"SUM('Okt Voeropname'!E76:E78)/('Okt vee+melk'!E21*'Okt vee+melk'!E2)*100","v":15.121532315274614}]
[]
[]
[{"$f":"A12","v":"Streefwaarde RE"},null,{"$f":"$C$12","v":160},null,{"$f":"$C$12","v":160}]
[{"$f":"A13","v":"Streefwaarde P"},null,{"$f":"$C$13","v":3.6},null,{"$f":"$C$13","v":3.6}]
[]
[]
[]
[]
[{"$f":"A2","v":"Datum"},null,{"$f":"C2","v":"Oktober gerealiseerd"},{"$f":"E2","v":"Oktober prognose"},{"$f":"#REF!","v":{"$error":"#REF!"}},{"$f":"#REF!","v":{"$error":"#REF!"}}]
["00:00:00"]
["DS opname/koe",null,{"$f":"C4","v":20.034013172413061},{"$f":"E4","v":20.538812499509941},{"$f":"#REF!","v":{"$error":"#REF!"}},{"$f":"#REF!","v":{"$error":"#REF!"}}]
["VEM",null,951.12083887161168,960.57213642510294,{"$f":"#REF!","v":{"$error":"#REF!"}},{"$f":"#REF!","v":{"$error":"#REF!"}}]
["DVE",null,{"$error":"#N/A"},{"$error":"#N/A"},{"$f":"#REF!","v":{"$error":"#REF!"}},{"$f":"#REF!","v":{"$error":"#REF!"}}]
["OEB",null,{"$error":"#N/A"},{"$error":"#N/A"},{"$f":"#REF!","v":{"$error":"#REF!"}},{"$f":"#REF!","v":{"$error":"#REF!"}}]
["RE",null,164.09908228715241,129.63922810798519,{"$f":"#REF!","v":{"$error":"#REF!"}},{"$f":"#REF!","v":{"$error":"#REF!"}}]
["N",null,26.255853165944387,20.742276497277629,{"$f":"#REF!","v":{"$error":"#REF!"}},{"$f":"#REF!","v":{"$error":"#REF!"}}]
["P",null,3.745822491523338,2.9515169295941202,{"$f":"#REF!","v":{"$error":"#REF!"}},{"$f":"#REF!","v":{"$error":"#REF!"}}]
[{"$f":"A15","v":"00:00:00"}]
["N excretie per ton meetmelk (kg)",null,{"$f":"C16","v":12.308372092624422},{"$f":"E16","v":11.951484519688835},{"$f":"#REF!","v":{"$error":"#REF!"}},{"$f":"#REF!","v":{"$error":"#REF!"}}]
["P excretie per ton meetmelk (kg)",null,1.8843920472238618,{"$f":"E17","v":1.7592020615865882},{"$f":"#REF!","v":{"$error":"#REF!"}},{"$f":"#REF!","v":{"$error":"#REF!"}}]
["00:00:00",null,{"$f":"1000/C45/2.29","v":231.73586587289751},{"$f":"1000/D45/2.29","v":248.22687071750573},{"$f":"1000/E45/2.29","v":{"$error":"#REF!"}},{"$f":"1000/F45/2.29","v":{"$error":"#REF!"}}]
[]
[]
["Rantsoen"]
[]
["Kuilgras",null,{"$f":"IF('Okt Voeropname'!$A66='Okt kengetallen'!$A51,'Okt Voeropname'!C66,\"\")","v":530.1},null,{"$f":"IF('Okt Voeropname'!$A66='Okt kengetallen'!$A51,'Okt Voeropname'!E66,\"\")","v":530.1}]
["Kuilgras",null,{"$f":"IF('Okt Voeropname'!$A67='Okt kengetallen'!$A52,'Okt Voeropname'!C67,\"\")","v":""},null,{"$f":"IF('Okt Voeropname'!$A67='Okt kengetallen'!$A52,'Okt Voeropname'!E67,\"\")","v":""}]
["Kuilgras",null,{"$f":"IF('Okt Voeropname'!$A68='Okt kengetallen'!$A53,'Okt Voeropname'!C68,\"\")","v":""},null,{"$f":"IF('Okt Voeropname'!$A68='Okt kengetallen'!$A53,'Okt Voeropname'!E68,\"\")","v":""}]
["Kuilgras",null,{"$f":"IF('Okt Voeropname'!$A69='Okt kengetallen'!$A54,'Okt Voeropname'!C69,\"\")","v":""},null,{"$f":"IF('Okt Voeropname'!$A69='Okt kengetallen'!$A54,'Okt Voeropname'!E69,\"\")","v":""}]
["Kuilgras",null,{"$f":"IF('Okt Voeropname'!$A70='Okt kengetallen'!$A55,'Okt Voeropname'!C70,\"\")","v":""},null,{"$f":"IF('Okt Voeropname'!$A70='Okt kengetallen'!$A55,'Okt Voeropname'!E70,\"\")","v":""}]
["Kuilgras",null,{"$f":"IF('Okt Voeropname'!$A71='Okt kengetallen'!$A56,'Okt Voeropname'!C71,\"\")","v":""},null,{"$f":"IF('Okt Voeropname'!$A71='Okt kengetallen'!$A56,'Okt Voeropname'!E71,\"\")","v":""}]
["Kuilgras",null,{"$f":"IF('Okt Voeropname'!$A72='Okt kengetallen'!$A57,'Okt Voeropname'!C72,\"\")","v":""},null,{"$f":"IF('Okt Voeropname'!$A72='Okt kengetallen'!$A57,'Okt Voeropname'!E72,\"\")","v":""}]
["Kuilgras",null,{"$f":"IF('Okt Voeropname'!$A73='Okt kengetallen'!$A58,'Okt Voeropname'!C73,\"\")","v":""},null,{"$f":"IF('Okt Voeropname'!$A73='Okt kengetallen'!$A58,'Okt Voeropname'!E73,\"\")","v":""}]
["Kuilgras",null,{"$f":"IF('Okt Voeropname'!$A74='Okt kengetallen'!$A59,'Okt Voeropname'!C74,\"\")","v":""},null,{"$f":"IF('Okt Voeropname'!$A74='Okt kengetallen'!$A59,'Okt Voeropname'!E74,\"\")","v":""}]
["Totaal kuilgras",null,{"$f":"SUM(C51:C59)","v":530.1},null,{"$f":"SUM(E51:E59)","v":530.1}]
[]
["Snijmais",null,{"$f":"IF('Okt Voeropname'!$A66='Okt kengetallen'!$A62,'Okt Voeropname'!C66,\"\")","v":""},null,{"$f":"IF('Okt Voeropname'!$A66='Okt kengetallen'!$A62,'Okt Voeropname'!E66,\"\")","v":""}]
["Snijmais",null,{"$f":"IF('Okt Voeropname'!$A67='Okt kengetallen'!$A63,'Okt Voeropname'!C67,\"\")","v":319.00049999999993},null,{"$f":"IF('Okt Voeropname'!$A67='Okt kengetallen'!$A63,'Okt Voeropname'!E67,\"\")","v":334.19099999999997}]
["Snijmais",null,{"$f":"IF('Okt Voeropname'!$A68='Okt kengetallen'!$A64,'Okt Voeropname'!C68,\"\")","v":""},null,{"$f":"IF('Okt Voeropname'!$A68='Okt kengetallen'!$A64,'Okt Voeropname'!E68,\"\")","v":""}]
["Snijmais",null,{"$f":"IF('Okt Voeropname'!$A69='Okt kengetallen'!$A65,'Okt Voeropname'!C69,\"\")","v":""},null,{"$f":"IF('Okt Voeropname'!$A69='Okt kengetallen'!$A65,'Okt Voeropname'!E69,\"\")","v":""}]
["Snijmais",null,{"$f":"IF('Okt Voeropname'!$A70='Okt kengetallen'!$A66,'Okt Voeropname'!C70,\"\")","v":""},null,{"$f":"IF('Okt Voeropname'!$A70='Okt kengetallen'!$A66,'Okt Voeropname'!E70,\"\")","v":""}]
["Snijmais",null,{"$f":"IF('Okt Voeropname'!$A71='Okt kengetallen'!$A67,'Okt Voeropname'!C71,\"\")","v":""},null,{"$f":"IF('Okt Voeropname'!$A71='Okt kengetallen'!$A67,'Okt Voeropname'!E71,\"\")","v":""}]
["Snijmais",null,{"$f":"IF('Okt Voeropname'!$A72='Okt kengetallen'!$A68,'Okt Voeropname'!C72,\"\")","v":""},null,{"$f":"IF('Okt Voeropname'!$A72='Okt kengetallen'!$A68,'Okt Voeropname'!E72,\"\")","v":""}]
["Snijmais",null,{"$f":"IF('Okt Voeropname'!$A73='Okt kengetallen'!$A69,'Okt Voeropname'!C73,\"\")","v":""},null,{"$f":"IF('Okt Voeropname'!$A73='Okt kengetallen'!$A69,'Okt Voeropname'!E73,\"\")","v":""}]
["Snijmais",null,{"$f":"IF('Okt Voeropname'!$A74='Okt kengetallen'!$A70,'Okt Voeropname'!C74,\"\")","v":""},null,{"$f":"IF('Okt Voeropname'!$A74='Okt kengetallen'!$A70,'Okt Voeropname'!E74,\"\")","v":""}]
["Totaal snijmais",null,{"$f":"SUM(C62:C70)","v":319.00049999999993},null,{"$f":"SUM(E62:E70)","v":334.19099999999997}]
[]
["OverigRuwvoer",null,{"$f":"IF('Okt Voeropname'!$A66='Okt kengetallen'!$A73,'Okt Voeropname'!C66,\"\")","v":""},null,{"$f":"IF('Okt Voeropname'!$A66='Okt kengetallen'!$A73,'Okt Voeropname'!E66,\"\")","v":""}]
["OverigRuwvoer",null,{"$f":"IF('Okt Voeropname'!$A67='Okt kengetallen'!$A74,'Okt Voeropname'!C67,\"\")","v":""},null,{"$f":"IF('Okt Voeropname'!$A67='Okt kengetallen'!$A74,'Okt Voeropname'!E67,\"\")","v":""}]
["OverigRuwvoer",null,{"$f":"IF('Okt Voeropname'!$A68='Okt kengetallen'!$A75,'Okt Voeropname'!C68,\"\")","v":""},null,{"$f":"IF('Okt Voeropname'!$A68='Okt kengetallen'!$A75,'Okt Voeropname'!E68,\"\")","v":""}]
["OverigRuwvoer",null,{"$f":"IF('Okt Voeropname'!$A69='Okt kengetallen'!$A76,'Okt Voeropname'!C69,\"\")","v":""},null,{"$f":"IF('Okt Voeropname'!$A69='Okt kengetallen'!$A76,'Okt Voeropname'!E69,\"\")","v":""}]
["OverigRuwvoer",null,{"$f":"IF('Okt Voeropname'!$A70='Okt kengetallen'!$A77,'Okt Voeropname'!C70,\"\")","v":""},null,{"$f":"IF('Okt Voeropname'!$A70='Okt kengetallen'!$A77,'Okt Voeropname'!E70,\"\")","v":""}]
["OverigRuwvoer",null,{"$f":"IF('Okt Voeropname'!$A71='Okt kengetallen'!$A78,'Okt Voeropname'!C71,\"\")","v":""},null,{"$f":"IF('Okt Voeropname'!$A71='Okt kengetallen'!$A78,'Okt Voeropname'!E71,\"\")","v":""}]
["OverigRuwvoer",null,{"$f":"IF('Okt Voeropname'!$A72='Okt kengetallen'!$A79,'Okt Voeropname'!C72,\"\")","v":""},null,{"$f":"IF('Okt Voeropname'!$A72='Okt kengetallen'!$A79,'Okt Voeropname'!E72,\"\")","v":""}]
["OverigRuwvoer",null,{"$f":"IF('Okt Voeropname'!$A73='Okt kengetallen'!$A80,'Okt Voeropname'!C73,\"\")","v":""},null,{"$f":"IF('Okt Voeropname'!$A73='Okt kengetallen'!$A80,'Okt Voeropname'!E73,\"\")","v":""}]
["OverigRuwvoer",null,{"$f":"IF('Okt Voeropname'!$A74='Okt kengetallen'!$A81,'Okt Voeropname'!C74,\"\")","v":""},null,{"$f":"IF('Okt Voeropname'!$A74='Okt kengetallen'!$A81,'Okt Voeropname'!E74,\"\")","v":""}]
["Totaal overig Ruwvoer",null,{"$f":"SUM(C73:C81)","v":0},null,{"$f":"SUM(E73:E81)","v":0}]
[]
["Bijproducten",null,{"$f":"IF('Okt Voeropname'!$A66='Okt kengetallen'!$A84,'Okt Voeropname'!C66,\"\")","v":""},null,{"$f":"IF('Okt Voeropname'!$A66='Okt kengetallen'!$A84,'Okt Voeropname'!E66,\"\")","v":""}]
["Bijproducten",null,{"$f":"IF('Okt Voeropname'!$A67='Okt kengetallen'!$A85,'Okt Voeropname'!C67,\"\")","v":""},null,{"$f":"IF('Okt Voeropname'!$A67='Okt kengetallen'!$A85,'Okt Voeropname'!E67,\"\")","v":""}]
["Bijproducten",null,{"$f":"IF('Okt Voeropname'!$A68='Okt kengetallen'!$A86,'Okt Voeropname'!C68,\"\")","v":""},null,{"$f":"IF('Okt Voeropname'!$A68='Okt kengetallen'!$A86,'Okt Voeropname'!E68,\"\")","v":""}]
["Bijproducten",null,{"$f":"IF('Okt Voeropname'!$A69='Okt kengetallen'!$A87,'Okt Voeropname'!C69,\"\")","v":27.046499999999998},null,{"$f":"IF('Okt Voeropname'!$A69='Okt kengetallen'!$A87,'Okt Voeropname'!E69,\"\")","v":27.046499999999998}]
["Bijproducten",null,{"$f":"IF('Okt Voeropname'!$A70='Okt kengetallen'!$A88,'Okt Voeropname'!C70,\"\")","v":""},null,{"$f":"IF('Okt Voeropname'!$A70='Okt kengetallen'!$A88,'Okt Voeropname'!E70,\"\")","v":""}]
["Bijproducten",null,{"$f":"IF('Okt Voeropname'!$A71='Okt kengetallen'!$A89,'Okt Voeropname'!C71,\"\")","v":""},null,{"$f":"IF('Okt Voeropname'!$A71='Okt kengetallen'!$A89,'Okt Voeropname'!E71,\"\")","v":""}]
["Bijproducten",null,{"$f":"IF('Okt Voeropname'!$A72='Okt kengetallen'!$A90,'Okt Voeropname'!C72,\"\")","v":""},null,{"$f":"IF('Okt Voeropname'!$A72='Okt kengetallen'!$A90,'Okt Voeropname'!E72,\"\")","v":""}]
["Bijproducten",null,{"$f":"IF('Okt Voeropname'!$A73='Okt kengetallen'!$A91,'Okt Voeropname'!C73,\"\")","v":""},null,{"$f":"IF('Okt Voeropname'!$A73='Okt kengetallen'!$A91,'Okt Voeropname'!E73,\"\")","v":""}]
["Bijproducten",null,{"$f":"IF('Okt Voeropname'!$A74='Okt kengetallen'!$A92,'Okt Voeropname'!C74,\"\")","v":""},null,{"$f":"IF('Okt Voeropname'!$A74='Okt kengetallen'!$A92,'Okt Voeropname'!E74,\"\")","v":""}]
["Totaal Bijproducten",null,{"$f":"SUM(C84:C92)","v":27.046499999999998},null,{"$f":"SUM(E84:E92)","v":27.046499999999998}]
[]
["Krachtvoer",null,{"$f":"SUM('Okt Voeropname'!C76:C78)","v":333},null,{"$f":"SUM('Okt Voeropname'!E76:E78)","v":301.86}]
[]
["Vers gras",null,{"$f":"'Okt Voeropname'!C31*('Okt vee+melk'!C2+'Okt vee+melk'!C3)","v":253.33596158615376},null,{"$f":"'Okt Voeropname'!E31*('Okt vee+melk'!E2+'Okt vee+melk'!E3)","v":306.13581246422575}]
[]
["Totaal",null,{"$f":"C95+C93+C82+C71+C60+C97","v":1462.4829615861536},null,{"$f":"E95+E93+E82+E71+E60+E97","v":1499.3333124642259}]
[]
["Vers gras",null,{"$f":"C97/C99","v":0.17322318839967557},null,{"$f":"E97/E99","v":0.20418129172430441}]
["Aandeel kuilgras",null,{"$f":"C60/C$99","v":0.36246576125924479},null,{"$f":"E60/E$99","v":0.35355714142624856}]
["Aandeel snijmais",null,{"$f":"C71/C$99","v":0.21812254117068419},null,{"$f":"E71/E$99","v":0.22289306668624678}]
["Aandeel overig ruwvoer",null,{"$f":"C82/C$99","v":0},null,{"$f":"E82/E$99","v":0}]
["Aandeel bijproducten",null,{"$f":"C93/C$99","v":1.8493548786829208E-2},null,{"$f":"E93/E$99","v":1.8039017592124184E-2}]
["Aandeel krachtvoer",null,{"$f":"C95/C$99","v":0.22769496038356632},null,{"$f":"E95/E$99","v":0.201329482571076}]

{"sheet":"Sep Voeropname","index":38,"n_rows":162,"n_cols":18,"rows_kept":162,"cut":false,"hidden":true,"merged":[]}
["Gem rantsoen gehaltes (d dgn)",null,{"$f":"'Sep voer'!B3","v":"September gerealiseerd"},null,{"$f":"'Sep voer'!G3","v":"September prognose"}]
["DS opname/koe",null,{"$f":"C34","v":20.331782634341788},null,{"$f":"E34","v":20.696874237895887}]
["VEM",null,{"$f":"C12","v":944.04371760173626},null,{"$f":"AVERAGE(E12:E12)","v":953.23626048638494}]
["DVE",null,{"$f":"AVERAGE(C13)","v":{"$error":"#N/A"}},null,{"$error":"#N/A"},null,null,null,null,null,null,null,1,null,null,null,null,"Voedermiddelen"]
["OEB",null,{"$f":"AVERAGE(C14)","v":{"$error":"#N/A"}},null,{"$error":"#N/A"},null,null,null,null,null,null,null,2,null,null,null,null,"Kuilgras"]
["RE",null,{"$f":"AVERAGE(C15)","v":166.60582860085077},null,134.74392913279286,null,null,null,null,null,null,null,null,null,null,null,null,"Snijmais"]
["N",null,{"$f":"AVERAGE(C16)","v":26.656932576136121},null,21.559028661246856,null,null,null,null,null,null,null,"Vem toeslag weidegang",null,1.03,null,null,"OverigRuwvoer"]
["P",null,3.831090514391855,null,3.0617387166252641,null,null,null,null,null,null,null,null,null,null,null,null,"Bijproducten"]
[null,null,null,null,null,null,null,null,null,null,null,null,null,null,null,null,null,"Krachtvoer"]
[]
["Rantsoen gehaltes (incl. weidegras)"]
["VEM",null,{"$f":"C35/C34","v":944.04371760173626},null,{"$f":"E35/E34","v":953.23626048638494},null,null,null,null,null,null,null,null,null,null,null,null,"Let op bij beperkt weiden is deze opname niet realistisch!"]
["DVE",null,{"$f":"C36/C34","v":{"$error":"#N/A"}},null,{"$f":"E36/E34","v":{"$error":"#N/A"}},null,null,null,null,null,null,null,null,null,null,null,null,"Let op VEM dekking te laag!"]
["OEB",null,{"$f":"C37","v":{"$error":"#N/A"}},null,{"$f":"E37","v":{"$error":"#N/A"}}]
["RE",null,{"$f":"C38/C34","v":166.60582860085077},null,{"$f":"E38/E34","v":134.74392913279286}]
["N",null,{"$f":"C39/C34","v":26.656932576136121},null,{"$f":"E39/E34","v":21.559028661246856}]
["P",null,{"$f":"C40/C34","v":3.831090514391855},null,{"$f":"E40/E34","v":3.0617387166252641}]
[]
[]
[]
[]
["kg ds",null,{"$f":"C55/SUM('Sep vee+melk'!C2:C3)","v":14.5976},null,{"$f":"E55/SUM('Sep vee+melk'!E2:E3)","v":13.917400684931506}]
["Vemopname ex weidegras",null,{"$f":"C22*C45","v":13918.643639999998},null,{"$f":"E22*E45","v":13491.895333561642}]
[]
[]
[]
["VEM behoefte",null,{"$f":"IF('Sep voer'!B4=1,'Sep vee+melk'!C27*'Sep Voeropname'!O7,'Sep vee+melk'!C27)","v":19194.091663594445},null,{"$f":"IF('Sep voer'!G4=1,'Sep vee+melk'!E27*'Sep Voeropname'!O7,'Sep vee+melk'!E27)","v":19729.011002288873}]
["Behoefte-opname",null,{"$f":"C27-'Sep Voeropname'!C23","v":5275.4480235944466},null,{"$f":"E27-'Sep Voeropname'!E23","v":6237.1156687272305}]
[null,null,{"$f":"C28/VLOOKUP('Sep voer'!B5,Weidegras!$A$5:$J$119,4,FALSE)","v":5.7341826343417894},null,{"$f":"E28/VLOOKUP('Sep voer'!G5,Weidegras!$A$5:$J$119,4,FALSE)","v":6.7794735529643813}]
[null,null,{"$f":"IF(C29>0,C29,0)","v":5.7341826343417894},null,{"$f":"IF(E29>0,E29,0)","v":6.7794735529643813}]
["Weidegrasopname/koe",null,{"$f":"IF('Sep voer'!B4=1,C30,0)","v":5.7341826343417894},null,{"$f":"IF('Sep voer'!G4=1,E30,0)","v":6.7794735529643813}]
[]
["Rantsoenopname incl weidegras"]
["droge stof",null,{"$f":"C22+C31","v":20.331782634341788},null,{"$f":"E22+E31","v":20.696874237895887}]
["VEM",null,{"$f":"C45*C22+C31*VLOOKUP('Sep voer'!B5,Weidegras!$A$6:$J$180,4,FALSE)","v":19194.091663594445},null,{"$f":"E45*E22+E31*VLOOKUP('Sep voer'!G5,Weidegras!$A$6:$J$180,4,FALSE)","v":19729.011002288873}]
["DVE",null,{"$f":"C46*C22+$C$31*VLOOKUP('Sep voer'!B5,Weidegras!$A$5:$J$150,5,FALSE)","v":{"$error":"#N/A"}},null,{"$f":"E46*E22+$C$31*VLOOKUP('Sep voer'!G5,Weidegras!$A$5:$J$150,5,FALSE)","v":{"$error":"#N/A"}}]
["OEB",null,{"$f":"C22*C47+$C$31*VLOOKUP('Sep voer'!B5,Weidegras!$A$6:$J$151,6,FALSE)","v":{"$error":"#N/A"}},null,{"$f":"E22*E47+$C$31*VLOOKUP('Sep voer'!G5,Weidegras!$A$6:$J$151,6,FALSE)","v":{"$error":"#N/A"}}]
["RE",null,{"$f":"C48*C22+C31*VLOOKUP('Sep voer'!$B$5,Weidegras!$A$6:$J$181,7,FALSE)","v":3387.393492726902},null,{"$f":"E48*E22+E31*VLOOKUP('Sep voer'!$B$5,Weidegras!$A$6:$J$181,7,FALSE)","v":2788.7781555813694}]
["N",null,{"$f":"C38/6.25","v":541.98295883630431},null,{"$f":"E38/6.25","v":446.20450489301913}]
["P",null,{"$f":"C50*C22+C31*VLOOKUP('Sep voer'!$B$5,Weidegras!$A$6:$J$183,10,FALSE)","v":77.89289959110387},null,{"$f":"E50*E22+E31*VLOOKUP('Sep voer'!$B$5,Weidegras!$A$6:$J$183,10,FALSE)","v":63.368421167289846}]
[]
[]
["Stalrantsoen gehaltes"]
["droge stof"]
["VEM",null,{"$f":"C56/C$55","v":953.48849399901337},null,{"$f":"E56/E$55","v":969.42637774088359}]
["DVE",null,{"$f":"C57/C$55*1000","v":{"$error":"#N/A"}},null,{"$f":"E57/E$55*1000","v":{"$error":"#N/A"}}]
["OEB",null,{"$f":"C58/C$55","v":{"$error":"#N/A"}},null,{"$f":"E58/E$55","v":{"$error":"#N/A"}}]
["RE",null,{"$f":"C59/C$55","v":143.66761659450864},null,90.778201674704562]
["N",null,{"$f":"C60/C$55","v":22.986818655121386},null,14.524512267952728]
["P",null,{"$f":"C61/C$55","v":3.6076133062969253},null,2.4098420598437791]
[]
[]
[]
["Stalrantsoen opname"]
["droge stof (kg)",null,{"$f":"C80","v":1051.0272},null,1015.97025]
["VEM",null,{"$f":"C96","v":1002142.3420799999},null,984908.35934999993]
["DVE",null,{"$f":"C112","v":{"$error":"#N/A"}},null,{"$f":"E112","v":{"$error":"#N/A"}}]
["OEB",null,{"$f":"C128","v":{"$error":"#N/A"}},null,{"$f":"E128","v":{"$error":"#N/A"}}]
["RE",null,{"$f":"C144","v":150998.57279999997},null,{"$f":"E144","v":92227.952250000002}]
["N",null,{"$f":"C146","v":24159.771647999994},null,{"$f":"E146","v":14756.47236}]
["P",null,{"$f":"C162","v":3791.6997119999996},null,{"$f":"E162","v":2448.327839999999}]
[]
[]
[]
["Drogestof opname"]
[{"$f":"'Sep voer'!A9","v":"Kuilgras"},{"$f":"'Sep voer'!B9","v":"2017 1e 2e snede"},{"$f":"IF('Sep voer'!C9>0,VLOOKUP('Sep voer'!B9,Voedermiddelen!$A$4:$K$75,3,FALSE)*'Sep voer'!C9*(1-'Sep voer'!$B$6),\"\")","v":312.47999999999996},{"$f":"'Sep voer'!G9","v":"2017 1e 2e snede"},{"$f":"IF('Sep voer'!H9>0,VLOOKUP('Sep voer'!G9,Voedermiddelen!$A$4:$K$75,3,FALSE)*'Sep voer'!H9*(1-'Sep voer'!$G$6),\"\")","v":309.22499999999997}]
[{"$f":"'Sep voer'!A10","v":"Snijmais"},{"$f":"'Sep voer'!B10","v":"Mkuil 1"},{"$f":"IF('Sep voer'!C10>0,VLOOKUP('Sep voer'!B10,Voedermiddelen!$A$4:$K$75,3,FALSE)*'Sep voer'!C10*(1-'Sep voer'!$B$6),\"\")","v":322.35839999999996},{"$f":"'Sep voer'!G10","v":"Mkuil 1"},{"$f":"IF('Sep voer'!H10>0,VLOOKUP('Sep voer'!G10,Voedermiddelen!$A$4:$K$75,3,FALSE)*'Sep voer'!H10*(1-'Sep voer'!$G$6),\"\")","v":319.00049999999993}]
[{"$f":"'Sep voer'!A11","v":"Kuilgras"},{"$f":"'Sep voer'!B11","v":"Gkuil balen 2016 2e snede"},{"$f":"IF('Sep voer'!C11>0,VLOOKUP('Sep voer'!B11,Voedermiddelen!$A$4:$K$75,3,FALSE)*'Sep voer'!C11*(1-'Sep voer'!$B$6),\"\")","v":49.996799999999993},{"$f":"'Sep voer'!G11","v":"Gkuil balen 2016 2e snede"},{"$f":"IF('Sep voer'!H11>0,VLOOKUP('Sep voer'!G11,Voedermiddelen!$A$4:$K$75,3,FALSE)*'Sep voer'!H11*(1-'Sep voer'!$G$6),\"\")","v":49.475999999999999}]
[{"$f":"'Sep voer'!A12","v":"Bijproducten"},{"$f":"'Sep voer'!B12","v":"Bierbostel"},{"$f":"IF('Sep voer'!C12>0,VLOOKUP('Sep voer'!B12,Voedermiddelen!$A$4:$K$75,3,FALSE)*'Sep voer'!C12*(1-'Sep voer'!$B$6),\"\")","v":36.792000000000002},{"$f":"'Sep voer'!G12","v":"Bierbostel"},{"$f":"IF('Sep voer'!H12>0,VLOOKUP('Sep voer'!G12,Voedermiddelen!$A$4:$K$75,3,FALSE)*'Sep voer'!H12*(1-'Sep voer'!$G$6),\"\")","v":36.408749999999998}]
[{"$f":"'Sep voer'!A13","v":"OverigRuwvoer"},{"$f":"'Sep voer'!B13","v":"Overig 2"},{"$f":"IF('Sep voer'!C13>0,VLOOKUP('Sep voer'!B13,Voedermiddelen!$A$4:$K$75,3,FALSE)*'Sep voer'!C13*(1-'Sep voer'!$B$6),\"\")","v":""},{"$f":"'Sep voer'!G13","v":"Overig 2"},{"$f":"IF('Sep voer'!H13>0,VLOOKUP('Sep voer'!G13,Voedermiddelen!$A$4:$K$75,3,FALSE)*'Sep voer'!H13*(1-'Sep voer'!$G$6),\"\")","v":""}]
[{"$f":"'Sep voer'!A14","v":"Bijproducten"},{"$f":"'Sep voer'!B14","v":"BP 6"},{"$f":"IF('Sep voer'!C14>0,VLOOKUP('Sep voer'!B14,Voedermiddelen!$A$4:$K$75,3,FALSE)*'Sep voer'!C14*(1-'Sep voer'!$B$6),\"\")","v":""},{"$f":"'Sep voer'!G14","v":"BP 6"},{"$f":"IF('Sep voer'!H14>0,VLOOKUP('Sep voer'!G14,Voedermiddelen!$A$4:$K$75,3,FALSE)*'Sep voer'!H14*(1-'Sep voer'!$G$6),\"\")","v":""}]
[{"$f":"'Sep voer'!A15","v":0},{"$f":"'Sep voer'!B15","v":0},{"$f":"IF('Sep voer'!C15>0,VLOOKUP('Sep voer'!B15,Voedermiddelen!$A$4:$K$75,3,FALSE)*'Sep voer'!C15*(1-'Sep voer'!$B$6),\"\")","v":""},{"$f":"'Sep voer'!G15","v":0},{"$f":"IF('Sep voer'!H15>0,VLOOKUP('Sep voer'!G15,Voedermiddelen!$A$4:$K$75,3,FALSE)*'Sep voer'!H15*(1-'Sep voer'!$G$6),\"\")","v":""}]
[{"$f":"'Sep voer'!A16","v":0},{"$f":"'Sep voer'!B16","v":0},{"$f":"IF('Sep voer'!C16>0,VLOOKUP('Sep voer'!B16,Voedermiddelen!$A$4:$K$75,3,FALSE)*'Sep voer'!C16*(1-'Sep voer'!$B$6),\"\")","v":""},{"$f":"'Sep voer'!G16","v":0},{"$f":"IF('Sep voer'!H16>0,VLOOKUP('Sep voer'!G16,Voedermiddelen!$A$4:$K$75,3,FALSE)*'Sep voer'!H16*(1-'Sep voer'!$G$6),\"\")","v":""}]
[{"$f":"'Sep voer'!A17","v":0},{"$f":"'Sep voer'!B17","v":0},{"$f":"IF('Sep voer'!C17>0,VLOOKUP('Sep voer'!B17,Voedermiddelen!$A$4:$K$75,3,FALSE)*'Sep voer'!C17*(1-'Sep voer'!$B$6),\"\")","v":""},{"$f":"'Sep voer'!G17","v":0},{"$f":"IF('Sep voer'!H17>0,VLOOKUP('Sep voer'!G17,Voedermiddelen!$A$4:$K$75,3,FALSE)*'Sep voer'!H17*(1-'Sep voer'!$G$6),\"\")","v":""}]
[null,{"$f":"'Sep voer'!B18","v":0},{"$f":"IF('Sep voer'!C18>0,VLOOKUP('Sep voer'!B18,Voedermiddelen!$A$4:$K$75,3,FALSE)*'Sep voer'!C18*(1-'Sep voer'!$B$6),\"\")","v":""},{"$f":"'Sep voer'!G18","v":0},{"$f":"IF('Sep voer'!H18>0,VLOOKUP('Sep voer'!G18,Voedermiddelen!$A$4:$K$75,3,FALSE)*'Sep voer'!H18*(1-'Sep voer'!$G$6),\"\")","v":""}]
[null,{"$f":"'Sep voer'!B20","v":"KV 1"},{"$f":"IF('Sep voer'!C20>0,VLOOKUP('Sep voer'!B20,Voedermiddelen!$A$4:$K$75,3,FALSE)*'Sep voer'!C20,\"\")","v":72},null,{"$f":"'Sep voer'!H22*'Sep vee+melk'!E15/100*0.9","v":301.86}]
[null,{"$f":"'Sep voer'!B21","v":"Pens stabielbrok EBZ"},{"$f":"IF('Sep voer'!C21>0,VLOOKUP('Sep voer'!B21,Voedermiddelen!$A$4:$K$75,3,FALSE)*'Sep voer'!C21,\"\")","v":257.40000000000003}]
[null,{"$f":"'Sep voer'!B22","v":0},{"$f":"IF('Sep voer'!C22>0,VLOOKUP('Sep voer'!B22,Voedermiddelen!$A$4:$K$75,3,FALSE)*'Sep voer'!C22,\"\")","v":""}]
[]
["Totaal",null,{"$f":"SUM(C66:C78)","v":1051.0272},null,{"$f":"SUM(E66:E78)","v":1015.97025}]
[]
["VEM",{"$f":"B66","v":"2017 1e 2e snede"},{"$f":"IF('Sep voer'!C9>0,VLOOKUP('Sep voer'!B9,Voedermiddelen!$A$4:$K$75,4,FALSE)*C66,\"\")","v":292481.27999999997},{"$f":"D66","v":"2017 1e 2e snede"},{"$f":"IF('Sep voer'!H9>0,VLOOKUP('Sep voer'!G9,Voedermiddelen!$A$4:$K$75,4,FALSE)*E66,\"\")","v":289434.59999999998}]
[null,{"$f":"B67","v":"Mkuil 1"},{"$f":"IF('Sep voer'!C10>0,VLOOKUP('Sep voer'!B10,Voedermiddelen!$A$4:$K$75,4,FALSE)*C67,\"\")","v":323067.58847999998},"Mkuil 1",{"$f":"IF('Sep voer'!H10>0,VLOOKUP('Sep voer'!G10,Voedermiddelen!$A$4:$K$75,4,FALSE)*E67,\"\")","v":319702.30109999992}]
[null,"Gkuil balen 2016 2e snede",{"$f":"IF('Sep voer'!C11>0,VLOOKUP('Sep voer'!B11,Voedermiddelen!$A$4:$K$75,4,FALSE)*C68,\"\")","v":39847.449599999993},"Gkuil balen 2016 2e snede",{"$f":"IF('Sep voer'!H11>0,VLOOKUP('Sep voer'!G11,Voedermiddelen!$A$4:$K$75,4,FALSE)*E68,\"\")","v":39432.371999999996}]
[null,"Bierbostel",{"$f":"IF('Sep voer'!C12>0,VLOOKUP('Sep voer'!B12,Voedermiddelen!$A$4:$K$75,4,FALSE)*C69,\"\")","v":34842.024000000005},"Bierbostel",{"$f":"IF('Sep voer'!H12>0,VLOOKUP('Sep voer'!G12,Voedermiddelen!$A$4:$K$75,4,FALSE)*E69,\"\")","v":34479.08625}]
[null,"Overig 2",{"$f":"IF('Sep voer'!C13>0,VLOOKUP('Sep voer'!B13,Voedermiddelen!$A$4:$K$75,4,FALSE)*C70,\"\")","v":""},"Overig 2",{"$f":"IF('Sep voer'!H13>0,VLOOKUP('Sep voer'!G13,Voedermiddelen!$A$4:$K$75,4,FALSE)*E70,\"\")","v":""}]
[null,"BP 6",{"$f":"IF('Sep voer'!C14>0,VLOOKUP('Sep voer'!B14,Voedermiddelen!$A$4:$K$75,4,FALSE)*C71,\"\")","v":""},"BP 6",{"$f":"IF('Sep voer'!H14>0,VLOOKUP('Sep voer'!G14,Voedermiddelen!$A$4:$K$75,4,FALSE)*E71,\"\")","v":""}]
[null,0,{"$f":"IF('Sep voer'!C15>0,VLOOKUP('Sep voer'!B15,Voedermiddelen!$A$4:$K$75,4,FALSE)*C72,\"\")","v":""},0,{"$f":"IF('Sep voer'!H15>0,VLOOKUP('Sep voer'!G15,Voedermiddelen!$A$4:$K$75,4,FALSE)*E72,\"\")","v":""}]
[null,0,{"$f":"IF('Sep voer'!C16>0,VLOOKUP('Sep voer'!B16,Voedermiddelen!$A$4:$K$75,4,FALSE)*C73,\"\")","v":""},0,{"$f":"IF('Sep voer'!H16>0,VLOOKUP('Sep voer'!G16,Voedermiddelen!$A$4:$K$75,4,FALSE)*E73,\"\")","v":""}]
[null,0,{"$f":"IF('Sep voer'!C17>0,VLOOKUP('Sep voer'!B17,Voedermiddelen!$A$4:$K$75,4,FALSE)*C74,\"\")","v":""},0,{"$f":"IF('Sep voer'!H17>0,VLOOKUP('Sep voer'!G17,Voedermiddelen!$A$4:$K$75,4,FALSE)*E74,\"\")","v":""}]
[null,0,{"$f":"IF('Sep voer'!C18>0,VLOOKUP('Sep voer'!B18,Voedermiddelen!$A$4:$K$75,4,FALSE)*C75,\"\")","v":""},0,{"$f":"IF('Sep voer'!H18>0,VLOOKUP('Sep voer'!G18,Voedermiddelen!$A$4:$K$75,4,FALSE)*E75,\"\")","v":""}]
[null,"KV 1",{"$f":"IF('Sep voer'!C20>0,VLOOKUP('Sep voer'!B20,Voedermiddelen!$A$4:$K$75,4,FALSE)*C76,\"\")","v":64800},0,{"$f":"E76*1000","v":301860}]
[null,"Pens stabielbrok EBZ",{"$f":"IF('Sep voer'!C21>0,VLOOKUP('Sep voer'!B21,Voedermiddelen!$A$4:$K$75,4,FALSE)*C77,\"\")","v":247104.00000000003},0]
[null,0,{"$f":"IF('Sep voer'!C22>0,VLOOKUP('Sep voer'!B22,Voedermiddelen!$A$4:$K$75,4,FALSE)*C78,\"\")","v":""},0]
[]
["Totaal",null,{"$f":"SUM(C82:C94)","v":1002142.3420799999},null,{"$f":"SUM(E82:E94)","v":984908.35934999993}]
[]
["DVE",{"$f":"B82","v":"2017 1e 2e snede"},{"$f":"IF('Sep voer'!C9>0,VLOOKUP('Sep voer'!B9,[2]Voedermiddelen!$A$4:$K$75,5,FALSE)*C66,\"\")","v":{"$error":"#N/A"}},{"$f":"D82","v":"2017 1e 2e snede"},{"$f":"IF('Sep voer'!H9>0,VLOOKUP('Sep voer'!G9,Voedermiddelen!$A$4:$K$75,5,FALSE)*E66,\"\")","v":18553.499999999996}]
[null,{"$f":"B83","v":"Mkuil 1"},{"$f":"IF('Sep voer'!C10>0,VLOOKUP('Sep voer'!B10,[2]Voedermiddelen!$A$4:$K$75,5,FALSE)*C67,\"\")","v":23016.389759999998},"Mkuil 1",{"$f":"IF('Sep voer'!H10>0,VLOOKUP('Sep voer'!G10,[2]Voedermiddelen!$A$4:$K$75,5,FALSE)*E67,\"\")","v":22776.635699999995}]
[null,"Gkuil balen 2016 2e snede",{"$f":"IF('Sep voer'!C11>0,VLOOKUP('Sep voer'!B11,[2]Voedermiddelen!$A$4:$K$75,5,FALSE)*C68,\"\")","v":{"$error":"#N/A"}},"Gkuil balen 2016 2e snede",{"$f":"IF('Sep voer'!H11>0,VLOOKUP('Sep voer'!G11,[2]Voedermiddelen!$A$4:$K$75,5,FALSE)*E68,\"\")","v":{"$error":"#N/A"}}]
[null,"Bierbostel",{"$f":"IF('Sep voer'!C12>0,VLOOKUP('Sep voer'!B12,[2]Voedermiddelen!$A$4:$K$75,5,FALSE)*C69,\"\")","v":5040.5039999999999},"Bierbostel",{"$f":"IF('Sep voer'!H12>0,VLOOKUP('Sep voer'!G12,[2]Voedermiddelen!$A$4:$K$75,5,FALSE)*E69,\"\")","v":4987.9987499999997}]
[null,"Overig 2",{"$f":"IF('Sep voer'!C13>0,VLOOKUP('Sep voer'!B13,[2]Voedermiddelen!$A$4:$K$75,5,FALSE)*C70,\"\")","v":""},"Overig 2",{"$f":"IF('Sep voer'!H13>0,VLOOKUP('Sep voer'!G13,[2]Voedermiddelen!$A$4:$K$75,5,FALSE)*E70,\"\")","v":""}]
[null,"BP 6",{"$f":"IF('Sep voer'!C14>0,VLOOKUP('Sep voer'!B14,[2]Voedermiddelen!$A$4:$K$75,5,FALSE)*C71,\"\")","v":""},"BP 6",{"$f":"IF('Sep voer'!H14>0,VLOOKUP('Sep voer'!G14,[2]Voedermiddelen!$A$4:$K$75,5,FALSE)*E71,\"\")","v":""}]
[null,0,{"$f":"IF('Sep voer'!C15>0,VLOOKUP('Sep voer'!B15,[2]Voedermiddelen!$A$4:$K$75,5,FALSE)*C72,\"\")","v":""},0,{"$f":"IF('Sep voer'!H15>0,VLOOKUP('Sep voer'!G15,[2]Voedermiddelen!$A$4:$K$75,5,FALSE)*E72,\"\")","v":""}]
[null,0,{"$f":"IF('Sep voer'!C16>0,VLOOKUP('Sep voer'!B16,[2]Voedermiddelen!$A$4:$K$75,5,FALSE)*C73,\"\")","v":""},0,{"$f":"IF('Sep voer'!H16>0,VLOOKUP('Sep voer'!G16,[2]Voedermiddelen!$A$4:$K$75,5,FALSE)*E73,\"\")","v":""}]
[null,0,{"$f":"IF('Sep voer'!C17>0,VLOOKUP('Sep voer'!B17,[2]Voedermiddelen!$A$4:$K$75,5,FALSE)*C74,\"\")","v":""},0,{"$f":"IF('Sep voer'!H17>0,VLOOKUP('Sep voer'!G17,[2]Voedermiddelen!$A$4:$K$75,5,FALSE)*E74,\"\")","v":""}]
[null,0,{"$f":"IF('Sep voer'!C18>0,VLOOKUP('Sep voer'!B18,[2]Voedermiddelen!$A$4:$K$75,5,FALSE)*C75,\"\")","v":""},0,{"$f":"IF('Sep voer'!H18>0,VLOOKUP('Sep voer'!G18,[2]Voedermiddelen!$A$4:$K$75,5,FALSE)*E75,\"\")","v":""}]
[null,"KV 1",{"$f":"IF('Sep voer'!C20>0,VLOOKUP('Sep voer'!B20,[2]Voedermiddelen!$A$4:$K$75,5,FALSE)*C76,\"\")","v":8640},0]
[null,"Pens stabielbrok EBZ",{"$f":"IF('Sep voer'!C21>0,VLOOKUP('Sep voer'!B21,[2]Voedermiddelen!$A$4:$K$75,5,FALSE)*C77,\"\")","v":{"$error":"#N/A"}},0]
[null,0,{"$f":"IF('Sep voer'!C22>0,VLOOKUP('Sep voer'!B22,[2]Voedermiddelen!$A$4:$K$75,5,FALSE)*C78,\"\")","v":""},0]
[]
["Totaal",null,{"$f":"SUM(C98:C110)/1000","v":{"$error":"#N/A"}},null,{"$f":"SUM(E98:E110)/1000","v":{"$error":"#N/A"}}]
[]
["OEB",{"$f":"B98","v":"2017 1e 2e snede"},{"$f":"IF('Sep voer'!C9>0,VLOOKUP('Sep voer'!B9,[2]Voedermiddelen!$A$4:$K$75,6,FALSE)*C66,\"\")","v":{"$error":"#N/A"}},{"$f":"D98","v":"2017 1e 2e snede"},{"$f":"IF('Sep voer'!H9>0,VLOOKUP('Sep voer'!G9,[2]Voedermiddelen!$A$4:$K$75,6,FALSE)*E66,\"\")","v":{"$error":"#N/A"}}]
[null,{"$f":"B99","v":"Mkuil 1"},{"$f":"IF('Sep voer'!C10>0,VLOOKUP('Sep voer'!B10,[2]Voedermiddelen!$A$4:$K$75,6,FALSE)*C67,\"\")","v":-8832.6201599999986},"Mkuil 1",{"$f":"IF('Sep voer'!H10>0,VLOOKUP('Sep voer'!G10,[2]Voedermiddelen!$A$4:$K$75,6,FALSE)*E67,\"\")","v":-8740.6136999999981}]
[null,"Gkuil balen 2016 2e snede",{"$f":"IF('Sep voer'!C11>0,VLOOKUP('Sep voer'!B11,[2]Voedermiddelen!$A$4:$K$75,6,FALSE)*C68,\"\")","v":{"$error":"#N/A"}},"Gkuil balen 2016 2e snede",{"$f":"IF('Sep voer'!H11>0,VLOOKUP('Sep voer'!G11,[2]Voedermiddelen!$A$4:$K$75,6,FALSE)*E68,\"\")","v":{"$error":"#N/A"}}]
[null,"Bierbostel",{"$f":"IF('Sep voer'!C12>0,VLOOKUP('Sep voer'!B12,[2]Voedermiddelen!$A$4:$K$75,6,FALSE)*C69,\"\")","v":2023.5600000000002},"Bierbostel",{"$f":"IF('Sep voer'!H12>0,VLOOKUP('Sep voer'!G12,[2]Voedermiddelen!$A$4:$K$75,6,FALSE)*E69,\"\")","v":2002.4812499999998}]
[null,"Overig 2",{"$f":"IF('Sep voer'!C13>0,VLOOKUP('Sep voer'!B13,[2]Voedermiddelen!$A$4:$K$75,6,FALSE)*C70,\"\")","v":""},"Overig 2",{"$f":"IF('Sep voer'!H13>0,VLOOKUP('Sep voer'!G13,[2]Voedermiddelen!$A$4:$K$75,6,FALSE)*E70,\"\")","v":""}]
[null,"BP 6",{"$f":"IF('Sep voer'!C14>0,VLOOKUP('Sep voer'!B14,[2]Voedermiddelen!$A$4:$K$75,6,FALSE)*C71,\"\")","v":""},"BP 6",{"$f":"IF('Sep voer'!H14>0,VLOOKUP('Sep voer'!G14,[2]Voedermiddelen!$A$4:$K$75,6,FALSE)*E71,\"\")","v":""}]
[null,0,{"$f":"IF('Sep voer'!C15>0,VLOOKUP('Sep voer'!B15,[2]Voedermiddelen!$A$4:$K$75,6,FALSE)*C72,\"\")","v":""},0,{"$f":"IF('Sep voer'!H15>0,VLOOKUP('Sep voer'!G15,[2]Voedermiddelen!$A$4:$K$75,6,FALSE)*E72,\"\")","v":""}]
[null,0,{"$f":"IF('Sep voer'!C16>0,VLOOKUP('Sep voer'!B16,[2]Voedermiddelen!$A$4:$K$75,6,FALSE)*C73,\"\")","v":""},0,{"$f":"IF('Sep voer'!H16>0,VLOOKUP('Sep voer'!G16,[2]Voedermiddelen!$A$4:$K$75,6,FALSE)*E73,\"\")","v":""}]
[null,0,{"$f":"IF('Sep voer'!C17>0,VLOOKUP('Sep voer'!B17,[2]Voedermiddelen!$A$4:$K$75,6,FALSE)*C74,\"\")","v":""},0,{"$f":"IF('Sep voer'!H17>0,VLOOKUP('Sep voer'!G17,[2]Voedermiddelen!$A$4:$K$75,6,FALSE)*E74,\"\")","v":""}]
[null,0,{"$f":"IF('Sep voer'!C18>0,VLOOKUP('Sep voer'!B18,[2]Voedermiddelen!$A$4:$K$75,6,FALSE)*C75,\"\")","v":""},0,{"$f":"IF('Sep voer'!H18>0,VLOOKUP('Sep voer'!G18,[2]Voedermiddelen!$A$4:$K$75,6,FALSE)*E75,\"\")","v":""}]
[null,"KV 1",{"$f":"IF('Sep voer'!C20>0,VLOOKUP('Sep voer'!B20,[2]Voedermiddelen!$A$4:$K$75,6,FALSE)*C76,\"\")","v":4320},0]
[null,"Pens stabielbrok EBZ",{"$f":"IF('Sep voer'!C21>0,VLOOKUP('Sep voer'!B21,[2]Voedermiddelen!$A$4:$K$75,6,FALSE)*C77,\"\")","v":{"$error":"#N/A"}},0]
[null,0,{"$f":"IF('Sep voer'!C22>0,VLOOKUP('Sep voer'!B22,[2]Voedermiddelen!$A$4:$K$75,6,FALSE)*C78,\"\")","v":""},0]
[]
["Totaal",null,{"$f":"SUM(C114:C126)","v":{"$error":"#N/A"}},null,{"$f":"SUM(E114:E126)","v":{"$error":"#N/A"}}]
[]
["RE",{"$f":"B114","v":"2017 1e 2e snede"},{"$f":"IF('Sep voer'!C9>0,VLOOKUP('Sep voer'!B9,Voedermiddelen!$A$4:$K$75,7,FALSE)*C66,\"\")","v":56246.399999999994},{"$f":"D114","v":"2017 1e 2e snede"},{"$f":"IF('Sep voer'!H9>0,VLOOKUP('Sep voer'!G9,Voedermiddelen!$A$4:$K$75,7,FALSE)*E66,\"\")","v":55660.499999999993}]
[null,{"$f":"B115","v":"Mkuil 1"},{"$f":"IF('Sep voer'!C10>0,VLOOKUP('Sep voer'!B10,Voedermiddelen!$A$4:$K$75,7,FALSE)*C67,\"\")","v":22565.087999999996},"Mkuil 1",{"$f":"IF('Sep voer'!H10>0,VLOOKUP('Sep voer'!G10,Voedermiddelen!$A$4:$K$75,7,FALSE)*E67,\"\")","v":22330.034999999996}]
[null,"Gkuil balen 2016 2e snede",{"$f":"IF('Sep voer'!C11>0,VLOOKUP('Sep voer'!B11,Voedermiddelen!$A$4:$K$75,7,FALSE)*C68,\"\")","v":5299.6607999999997},"Gkuil balen 2016 2e snede",{"$f":"IF('Sep voer'!H11>0,VLOOKUP('Sep voer'!G11,Voedermiddelen!$A$4:$K$75,7,FALSE)*E68,\"\")","v":5244.4560000000001}]
[null,"Bierbostel",{"$f":"IF('Sep voer'!C12>0,VLOOKUP('Sep voer'!B12,Voedermiddelen!$A$4:$K$75,7,FALSE)*C69,\"\")","v":9087.6239999999998},"Bierbostel",{"$f":"IF('Sep voer'!H12>0,VLOOKUP('Sep voer'!G12,Voedermiddelen!$A$4:$K$75,7,FALSE)*E69,\"\")","v":8992.9612500000003}]
[null,"Overig 2",{"$f":"IF('Sep voer'!C13>0,VLOOKUP('Sep voer'!B13,Voedermiddelen!$A$4:$K$75,7,FALSE)*C70,\"\")","v":""},"Overig 2",{"$f":"IF('Sep voer'!H13>0,VLOOKUP('Sep voer'!G13,Voedermiddelen!$A$4:$K$75,7,FALSE)*E70,\"\")","v":""}]
[null,"BP 6",{"$f":"IF('Sep voer'!C14>0,VLOOKUP('Sep voer'!B14,Voedermiddelen!$A$4:$K$75,7,FALSE)*C71,\"\")","v":""},"BP 6",{"$f":"IF('Sep voer'!H14>0,VLOOKUP('Sep voer'!G14,Voedermiddelen!$A$4:$K$75,7,FALSE)*E71,\"\")","v":""}]
[null,0,{"$f":"IF('Sep voer'!C15>0,VLOOKUP('Sep voer'!B15,Voedermiddelen!$A$4:$K$75,7,FALSE)*C72,\"\")","v":""},0,{"$f":"IF('Sep voer'!H15>0,VLOOKUP('Sep voer'!G15,Voedermiddelen!$A$4:$K$75,7,FALSE)*E72,\"\")","v":""}]
[null,0,{"$f":"IF('Sep voer'!C16>0,VLOOKUP('Sep voer'!B16,Voedermiddelen!$A$4:$K$75,7,FALSE)*C73,\"\")","v":""},0,{"$f":"IF('Sep voer'!H16>0,VLOOKUP('Sep voer'!G16,Voedermiddelen!$A$4:$K$75,7,FALSE)*E73,\"\")","v":""}]
[null,0,{"$f":"IF('Sep voer'!C17>0,VLOOKUP('Sep voer'!B17,Voedermiddelen!$A$4:$K$75,7,FALSE)*C74,\"\")","v":""},0,{"$f":"IF('Sep voer'!H17>0,VLOOKUP('Sep voer'!G17,Voedermiddelen!$A$4:$K$75,7,FALSE)*E74,\"\")","v":""}]
[null,0,{"$f":"IF('Sep voer'!C18>0,VLOOKUP('Sep voer'!B18,Voedermiddelen!$A$4:$K$75,7,FALSE)*C75,\"\")","v":""},0,{"$f":"IF('Sep voer'!H18>0,VLOOKUP('Sep voer'!G18,Voedermiddelen!$A$4:$K$75,7,FALSE)*E75,\"\")","v":""}]
[null,"KV 1",{"$f":"IF('Sep voer'!C20>0,VLOOKUP('Sep voer'!B20,Voedermiddelen!$A$4:$K$75,7,FALSE)*C76,\"\")","v":12240},0]
[null,"Pens stabielbrok EBZ",{"$f":"IF('Sep voer'!C21>0,VLOOKUP('Sep voer'!B21,Voedermiddelen!$A$4:$K$75,7,FALSE)*C77,\"\")","v":45559.8},0]
[null,{"$f":"B126","v":0},{"$f":"IF('Sep voer'!C22>0,VLOOKUP('Sep voer'!B22,Voedermiddelen!$A$4:$K$75,7,FALSE)*C78,\"\")","v":""},0]
[]
["Totaal",null,{"$f":"SUM(C130:C142)","v":150998.57279999997},null,{"$f":"SUM(E130:E142)","v":92227.952250000002}]
[]
["N opname",null,{"$f":"C144/6.25","v":24159.771647999994},null,{"$f":"E144/6.25","v":14756.47236},null,{"$f":"(E76/0.9*'Sep voer'!M6/6.25)","v":6105.3897185894366}]
[]
["P",{"$f":"B130","v":"2017 1e 2e snede"},{"$f":"IF('Sep voer'!C9>0,VLOOKUP('Sep voer'!B9,Voedermiddelen!$A$4:$K$75,10,FALSE)*C66,\"\")","v":1124.9279999999999},{"$f":"D130","v":"2017 1e 2e snede"},{"$f":"IF('Sep voer'!H9>0,VLOOKUP('Sep voer'!G9,Voedermiddelen!$A$4:$K$75,10,FALSE)*E66,\"\")","v":1113.2099999999998}]
[null,{"$f":"B131","v":"Mkuil 1"},{"$f":"IF('Sep voer'!C10>0,VLOOKUP('Sep voer'!B10,Voedermiddelen!$A$4:$K$75,10,FALSE)*C67,\"\")","v":992.86387199999979},"Mkuil 1",{"$f":"IF('Sep voer'!H10>0,VLOOKUP('Sep voer'!G10,Voedermiddelen!$A$4:$K$75,10,FALSE)*E67,\"\")","v":982.52153999999962}]
[null,"Gkuil balen 2016 2e snede",{"$f":"IF('Sep voer'!C11>0,VLOOKUP('Sep voer'!B11,Voedermiddelen!$A$4:$K$75,10,FALSE)*C68,\"\")","v":164.98943999999997},"Gkuil balen 2016 2e snede",{"$f":"IF('Sep voer'!H11>0,VLOOKUP('Sep voer'!G11,Voedermiddelen!$A$4:$K$75,10,FALSE)*E68,\"\")","v":163.27079999999998}]
[null,"Bierbostel",{"$f":"IF('Sep voer'!C12>0,VLOOKUP('Sep voer'!B12,Voedermiddelen!$A$4:$K$75,10,FALSE)*C69,\"\")","v":191.31840000000003},"Bierbostel",{"$f":"IF('Sep voer'!H12>0,VLOOKUP('Sep voer'!G12,Voedermiddelen!$A$4:$K$75,10,FALSE)*E69,\"\")","v":189.32550000000001}]
[null,"Overig 2",{"$f":"IF('Sep voer'!C13>0,VLOOKUP('Sep voer'!B13,Voedermiddelen!$A$4:$K$75,10,FALSE)*C70,\"\")","v":""},"Overig 2",{"$f":"IF('Sep voer'!H13>0,VLOOKUP('Sep voer'!G13,Voedermiddelen!$A$4:$K$75,10,FALSE)*E70,\"\")","v":""}]
[null,"BP 6",{"$f":"IF('Sep voer'!C14>0,VLOOKUP('Sep voer'!B14,Voedermiddelen!$A$4:$K$75,10,FALSE)*C71,\"\")","v":""},"BP 6",{"$f":"IF('Sep voer'!H14>0,VLOOKUP('Sep voer'!G14,Voedermiddelen!$A$4:$K$75,10,FALSE)*E71,\"\")","v":""}]
[null,0,{"$f":"IF('Sep voer'!C15>0,VLOOKUP('Sep voer'!B15,Voedermiddelen!$A$4:$K$75,10,FALSE)*C72,\"\")","v":""},0,{"$f":"IF('Sep voer'!H15>0,VLOOKUP('Sep voer'!G15,Voedermiddelen!$A$4:$K$75,10,FALSE)*E72,\"\")","v":""}]
[null,0,{"$f":"IF('Sep voer'!C16>0,VLOOKUP('Sep voer'!B16,Voedermiddelen!$A$4:$K$75,10,FALSE)*C73,\"\")","v":""},0,{"$f":"IF('Sep voer'!H16>0,VLOOKUP('Sep voer'!G16,Voedermiddelen!$A$4:$K$75,10,FALSE)*E73,\"\")","v":""}]
[null,0,{"$f":"IF('Sep voer'!C17>0,VLOOKUP('Sep voer'!B17,Voedermiddelen!$A$4:$K$75,10,FALSE)*C74,\"\")","v":""},0,{"$f":"IF('Sep voer'!H17>0,VLOOKUP('Sep voer'!G17,Voedermiddelen!$A$4:$K$75,10,FALSE)*E74,\"\")","v":""}]
[null,0,{"$f":"IF('Sep voer'!C18>0,VLOOKUP('Sep voer'!B18,Voedermiddelen!$A$4:$K$75,10,FALSE)*C75,\"\")","v":""},0,{"$f":"IF('Sep voer'!H18>0,VLOOKUP('Sep voer'!G18,Voedermiddelen!$A$4:$K$75,10,FALSE)*E75,\"\")","v":""}]
[null,{"$f":"B140","v":"KV 1"},{"$f":"IF('Sep voer'!C20>0,VLOOKUP('Sep voer'!B20,Voedermiddelen!$A$4:$K$75,10,FALSE)*C76,\"\")","v":288},0]
[null,{"$f":"B141","v":"Pens stabielbrok EBZ"},{"$f":"IF('Sep voer'!C21>0,VLOOKUP('Sep voer'!B21,Voedermiddelen!$A$4:$K$75,10,FALSE)*C77,\"\")","v":1029.6000000000001},0]
[null,{"$f":"B142","v":0},{"$f":"IF('Sep voer'!C22>0,VLOOKUP('Sep voer'!B22,Voedermiddelen!$A$4:$K$75,10,FALSE)*C78,\"\")","v":""},0]
[]
["Totaal",null,{"$f":"SUM(C148:C160)","v":3791.6997119999996},null,{"$f":"SUM(E148:E160)","v":2448.327839999999},null,{"$f":"(E76/0.9*'Sep voer'!M7)","v":813.24380450688056}]

{"sheet":"Sep Excretie","index":39,"n_rows":25,"n_cols":5,"rows_kept":25,"cut":false,"hidden":true,"merged":[]}
["Veestapel"]
[null,null,{"$f":"'Sep vee+melk'!C6","v":"September gerealiseerd"},null,{"$f":"'Sep vee+melk'!E6","v":"September prognose"}]
[]
[]
["Excretie (kg/dier/dag)"]
[null,null,"N",null,"N"]
["Opname",null,{"$f":"'Sep Voeropname'!C2*'Sep Voeropname'!C7*0.001","v":0.54198295883630432},null,{"$f":"'Sep Voeropname'!E2*'Sep Voeropname'!E7*0.001+'Sep Voeropname'!G146*0.001/'Sep vee+melk'!E2","v":0.53342435801572541}]
["Gem opname 7 dgn",null,{"$f":"AVERAGE(C7:F7)","v":0.53770365842601486},null,{"$f":"AVERAGE(E7)","v":0.53342435801572541}]
["Productie",null,{"$f":"'Sep vee+melk'!C22*'Sep vee+melk'!C10/6.38","v":0.14201303262510159},null,{"$f":"'Sep vee+melk'!E22*'Sep vee+melk'!E10/6.38","v":0.1400280557106254}]
["Vastlegging",null,{"$f":"1.4/365","v":3.8356164383561643E-3},null,{"$f":"1.4/365","v":3.8356164383561643E-3}]
["Onder de staart",null,{"$f":"C7-C9-C10","v":0.39613430977284658},null,{"$f":"E7-E9-E10","v":0.38956068586674386}]
["Vervluchtiging",null,{"$f":"C11*0.1175","v":4.654578139830947E-2},null,{"$f":"E11*0.1175","v":4.5773380589342404E-2}]
["Gemeten netto excretie",null,{"$f":"C11-C12","v":0.34958852837453713},null,{"$f":"E11-E12","v":0.34378730527740148}]
[]
[null,null,"P",null,"P"]
["Opname",null,{"$f":"'Sep Voeropname'!C2*'Sep Voeropname'!C8/1000","v":7.7892899591103876E-2},null,{"$f":"'Sep Voeropname'!E2*'Sep Voeropname'!E8/1000+'Sep Voeropname'!G162*0.001/'Sep vee+melk'!E2","v":7.4986189803102427E-2}]
["Gem opname 7 dgn",null,{"$f":"AVERAGE(C16:F16)","v":7.6439544697103151E-2},null,{"$f":"AVERAGE(E16)","v":7.4986189803102427E-2}]
["Productie",null,{"$f":"'Sep vee+melk'!C22*0.9/1000","v":2.2588333333333335E-2},null,{"$f":"'Sep vee+melk'!E22*0.9/1000","v":2.2972602739726029E-2}]
["Vastlegging",null,{"$f":"0.5/365","v":1.3698630136986301E-3},null,{"$f":"0.5/365","v":1.3698630136986301E-3}]
["Onder de staart",null,{"$f":"C16-C18-C19","v":5.3934703244071909E-2},null,{"$f":"E16-E18-E19","v":5.064372404967777E-2}]
["Vervluchtiging"]
["Gemeten netto excretie",null,{"$f":"C20","v":5.3934703244071909E-2},null,{"$f":"E20","v":5.064372404967777E-2}]
[]
["N excretie per ton meetmelk (kg)",null,{"$f":"C13/'Sep vee+melk'!C21*1000","v":12.741282568164705},null,{"$f":"E13/'Sep vee+melk'!E21*1000","v":12.055302433026513}]
["P excretie per ton meetmelk (kg)",null,{"$f":"C22/'Sep vee+melk'!C21*1000","v":1.9657318203719494},null,{"$f":"E22/'Sep vee+melk'!E21*1000","v":1.7758811927653111}]

{"sheet":"Sep kengetallen","index":40,"n_rows":106,"n_cols":6,"rows_kept":106,"cut":false,"hidden":true,"merged":[]}
["Rantsoen"]
["Datum",null,{"$f":"'Sep voer'!B3","v":"September gerealiseerd"},null,{"$f":"'Sep voer'!G3","v":"September prognose"}]
[]
[{"$f":"'Sep Voeropname'!A2","v":"DS opname/koe"},null,{"$f":"'Sep Voeropname'!C2","v":20.331782634341788},null,{"$f":"'Sep Voeropname'!E2","v":20.696874237895887}]
[{"$f":"'Sep Voeropname'!A3","v":"VEM"},null,{"$f":"'Sep Voeropname'!C3","v":944.04371760173626},null,{"$f":"'Sep Voeropname'!E3","v":953.23626048638494}]
[{"$f":"'Sep Voeropname'!A4","v":"DVE"},null,{"$f":"'Sep Voeropname'!C4","v":{"$error":"#N/A"}},null,{"$f":"'Sep Voeropname'!E4","v":{"$error":"#N/A"}}]
[{"$f":"'Sep Voeropname'!A5","v":"OEB"},null,{"$f":"'Sep Voeropname'!C5","v":{"$error":"#N/A"}},null,{"$f":"'Sep Voeropname'!E5","v":{"$error":"#N/A"}}]
[{"$f":"'Sep Voeropname'!A6","v":"RE"},null,{"$f":"'Sep Voeropname'!C6","v":166.60582860085077},null,{"$f":"'Sep Voeropname'!E6","v":134.74392913279286}]
[{"$f":"'Sep Voeropname'!A7","v":"N"},null,{"$f":"'Sep Voeropname'!C7","v":26.656932576136121},null,{"$f":"'Sep Voeropname'!E7","v":21.559028661246856}]
[{"$f":"'Sep Voeropname'!A8","v":"P"},null,{"$f":"'Sep Voeropname'!C8","v":3.831090514391855},null,{"$f":"'Sep Voeropname'!E8","v":3.0617387166252641}]
[]
["Streefwaarde RE",null,{"$f":"'Sep voer'!H20","v":160}]
["Streefwaarde P",null,{"$f":"'Sep voer'!H21","v":3.6}]
[]
[]
[{"$f":"'Sep Excretie'!A24","v":"N excretie per ton meetmelk (kg)"},null,{"$f":"'Sep Excretie'!C24","v":12.741282568164705},null,{"$f":"'Sep Excretie'!E24","v":12.055302433026513}]
[{"$f":"'Sep Excretie'!A25","v":"P excretie per ton meetmelk (kg)"},null,{"$f":"'Sep Excretie'!C25","v":1.9657318203719494},null,{"$f":"'Sep Excretie'!E25","v":1.7758811927653111}]
[]
[]
["VEM dekking",null,{"$f":"'Sep Voeropname'!C35/'Sep vee+melk'!C27","v":1.03},null,{"$f":"'Sep Voeropname'!E35/'Sep vee+melk'!E27","v":1.03}]
["DVE dekking",null,{"$f":"'Sep Voeropname'!C36/'Sep vee+melk'!C28","v":{"$error":"#N/A"}},null,{"$f":"'Sep Voeropname'!E36/'Sep vee+melk'!E28","v":{"$error":"#N/A"}}]
[]
[]
["Voerefficientie kg meetmelk/kg voer (ds)",null,{"$f":"'Sep vee+melk'!C21/'Sep Voeropname'!C2","v":1.3494865723578549},null,{"$f":"'Sep vee+melk'!E21/'Sep Voeropname'!E2","v":1.3778659408879552}]
["kg krachtvoer per 100 kg (excl bijprod)",null,{"$f":"SUM('Sep Voeropname'!C76:C78)/('Sep vee+melk'!C21*'Sep vee+melk'!C2)*100/0.9","v":19.056319241656627},null,{"$f":"SUM('Sep Voeropname'!E76:E78)/('Sep vee+melk'!E21*'Sep vee+melk'!E2)*100","v":15.121532315274614}]
[]
[]
[{"$f":"A12","v":"Streefwaarde RE"},null,{"$f":"$C$12","v":160},null,{"$f":"$C$12","v":160}]
[{"$f":"A13","v":"Streefwaarde P"},null,{"$f":"$C$13","v":3.6},null,{"$f":"$C$13","v":3.6}]
[]
[]
[]
[]
[{"$f":"A2","v":"Datum"},null,{"$f":"C2","v":"September gerealiseerd"},{"$f":"E2","v":"September prognose"},{"$f":"#REF!","v":{"$error":"#REF!"}},{"$f":"#REF!","v":{"$error":"#REF!"}}]
["00:00:00"]
["DS opname/koe",null,{"$f":"C4","v":20.331782634341788},{"$f":"E4","v":20.696874237895887},{"$f":"#REF!","v":{"$error":"#REF!"}},{"$f":"#REF!","v":{"$error":"#REF!"}}]
["VEM",null,944.04371760173626,953.23626048638494,{"$f":"#REF!","v":{"$error":"#REF!"}},{"$f":"#REF!","v":{"$error":"#REF!"}}]
["DVE",null,{"$error":"#N/A"},{"$error":"#N/A"},{"$f":"#REF!","v":{"$error":"#REF!"}},{"$f":"#REF!","v":{"$error":"#REF!"}}]
["OEB",null,{"$error":"#N/A"},{"$error":"#N/A"},{"$f":"#REF!","v":{"$error":"#REF!"}},{"$f":"#REF!","v":{"$error":"#REF!"}}]
["RE",null,166.60582860085077,134.74392913279286,{"$f":"#REF!","v":{"$error":"#REF!"}},{"$f":"#REF!","v":{"$error":"#REF!"}}]
["N",null,26.656932576136121,21.559028661246856,{"$f":"#REF!","v":{"$error":"#REF!"}},{"$f":"#REF!","v":{"$error":"#REF!"}}]
["P",null,3.831090514391855,3.0617387166252641,{"$f":"#REF!","v":{"$error":"#REF!"}},{"$f":"#REF!","v":{"$error":"#REF!"}}]
[{"$f":"A15","v":"00:00:00"}]
["N excretie per ton meetmelk (kg)",null,{"$f":"C16","v":12.741282568164705},{"$f":"E16","v":12.055302433026513},{"$f":"#REF!","v":{"$error":"#REF!"}},{"$f":"#REF!","v":{"$error":"#REF!"}}]
["P excretie per ton meetmelk (kg)",null,1.9657318203719494,{"$f":"E17","v":1.7758811927653111},{"$f":"#REF!","v":{"$error":"#REF!"}},{"$f":"#REF!","v":{"$error":"#REF!"}}]
["00:00:00",null,{"$f":"1000/C45/2.29","v":222.14689622554727},{"$f":"1000/D45/2.29","v":245.89551625773231},{"$f":"1000/E45/2.29","v":{"$error":"#REF!"}},{"$f":"1000/F45/2.29","v":{"$error":"#REF!"}}]
[]
[]
["Rantsoen"]
[]
["Kuilgras",null,{"$f":"IF('Sep Voeropname'!$A66='Sep kengetallen'!$A51,'Sep Voeropname'!C66,\"\")","v":312.47999999999996},null,{"$f":"IF('Sep Voeropname'!$A66='Sep kengetallen'!$A51,'Sep Voeropname'!E66,\"\")","v":309.22499999999997}]
["Kuilgras",null,{"$f":"IF('Sep Voeropname'!$A67='Sep kengetallen'!$A52,'Sep Voeropname'!C67,\"\")","v":""},null,{"$f":"IF('Sep Voeropname'!$A67='Sep kengetallen'!$A52,'Sep Voeropname'!E67,\"\")","v":""}]
["Kuilgras",null,{"$f":"IF('Sep Voeropname'!$A68='Sep kengetallen'!$A53,'Sep Voeropname'!C68,\"\")","v":49.996799999999993},null,{"$f":"IF('Sep Voeropname'!$A68='Sep kengetallen'!$A53,'Sep Voeropname'!E68,\"\")","v":49.475999999999999}]
["Kuilgras",null,{"$f":"IF('Sep Voeropname'!$A69='Sep kengetallen'!$A54,'Sep Voeropname'!C69,\"\")","v":""},null,{"$f":"IF('Sep Voeropname'!$A69='Sep kengetallen'!$A54,'Sep Voeropname'!E69,\"\")","v":""}]
["Kuilgras",null,{"$f":"IF('Sep Voeropname'!$A70='Sep kengetallen'!$A55,'Sep Voeropname'!C70,\"\")","v":""},null,{"$f":"IF('Sep Voeropname'!$A70='Sep kengetallen'!$A55,'Sep Voeropname'!E70,\"\")","v":""}]
["Kuilgras",null,{"$f":"IF('Sep Voeropname'!$A71='Sep kengetallen'!$A56,'Sep Voeropname'!C71,\"\")","v":""},null,{"$f":"IF('Sep Voeropname'!$A71='Sep kengetallen'!$A56,'Sep Voeropname'!E71,\"\")","v":""}]
["Kuilgras",null,{"$f":"IF('Sep Voeropname'!$A72='Sep kengetallen'!$A57,'Sep Voeropname'!C72,\"\")","v":""},null,{"$f":"IF('Sep Voeropname'!$A72='Sep kengetallen'!$A57,'Sep Voeropname'!E72,\"\")","v":""}]
["Kuilgras",null,{"$f":"IF('Sep Voeropname'!$A73='Sep kengetallen'!$A58,'Sep Voeropname'!C73,\"\")","v":""},null,{"$f":"IF('Sep Voeropname'!$A73='Sep kengetallen'!$A58,'Sep Voeropname'!E73,\"\")","v":""}]
["Kuilgras",null,{"$f":"IF('Sep Voeropname'!$A74='Sep kengetallen'!$A59,'Sep Voeropname'!C74,\"\")","v":""},null,{"$f":"IF('Sep Voeropname'!$A74='Sep kengetallen'!$A59,'Sep Voeropname'!E74,\"\")","v":""}]
["Totaal kuilgras",null,{"$f":"SUM(C51:C59)","v":362.47679999999997},null,{"$f":"SUM(E51:E59)","v":358.70099999999996}]
[]
["Snijmais",null,{"$f":"IF('Sep Voeropname'!$A66='Sep kengetallen'!$A62,'Sep Voeropname'!C66,\"\")","v":""},null,{"$f":"IF('Sep Voeropname'!$A66='Sep kengetallen'!$A62,'Sep Voeropname'!E66,\"\")","v":""}]
["Snijmais",null,{"$f":"IF('Sep Voeropname'!$A67='Sep kengetallen'!$A63,'Sep Voeropname'!C67,\"\")","v":322.35839999999996},null,{"$f":"IF('Sep Voeropname'!$A67='Sep kengetallen'!$A63,'Sep Voeropname'!E67,\"\")","v":319.00049999999993}]
["Snijmais",null,{"$f":"IF('Sep Voeropname'!$A68='Sep kengetallen'!$A64,'Sep Voeropname'!C68,\"\")","v":""},null,{"$f":"IF('Sep Voeropname'!$A68='Sep kengetallen'!$A64,'Sep Voeropname'!E68,\"\")","v":""}]
["Snijmais",null,{"$f":"IF('Sep Voeropname'!$A69='Sep kengetallen'!$A65,'Sep Voeropname'!C69,\"\")","v":""},null,{"$f":"IF('Sep Voeropname'!$A69='Sep kengetallen'!$A65,'Sep Voeropname'!E69,\"\")","v":""}]
["Snijmais",null,{"$f":"IF('Sep Voeropname'!$A70='Sep kengetallen'!$A66,'Sep Voeropname'!C70,\"\")","v":""},null,{"$f":"IF('Sep Voeropname'!$A70='Sep kengetallen'!$A66,'Sep Voeropname'!E70,\"\")","v":""}]
["Snijmais",null,{"$f":"IF('Sep Voeropname'!$A71='Sep kengetallen'!$A67,'Sep Voeropname'!C71,\"\")","v":""},null,{"$f":"IF('Sep Voeropname'!$A71='Sep kengetallen'!$A67,'Sep Voeropname'!E71,\"\")","v":""}]
["Snijmais",null,{"$f":"IF('Sep Voeropname'!$A72='Sep kengetallen'!$A68,'Sep Voeropname'!C72,\"\")","v":""},null,{"$f":"IF('Sep Voeropname'!$A72='Sep kengetallen'!$A68,'Sep Voeropname'!E72,\"\")","v":""}]
["Snijmais",null,{"$f":"IF('Sep Voeropname'!$A73='Sep kengetallen'!$A69,'Sep Voeropname'!C73,\"\")","v":""},null,{"$f":"IF('Sep Voeropname'!$A73='Sep kengetallen'!$A69,'Sep Voeropname'!E73,\"\")","v":""}]
["Snijmais",null,{"$f":"IF('Sep Voeropname'!$A74='Sep kengetallen'!$A70,'Sep Voeropname'!C74,\"\")","v":""},null,{"$f":"IF('Sep Voeropname'!$A74='Sep kengetallen'!$A70,'Sep Voeropname'!E74,\"\")","v":""}]
["Totaal snijmais",null,{"$f":"SUM(C62:C70)","v":322.35839999999996},null,{"$f":"SUM(E62:E70)","v":319.00049999999993}]
[]
["OverigRuwvoer",null,{"$f":"IF('Sep Voeropname'!$A66='Sep kengetallen'!$A73,'Sep Voeropname'!C66,\"\")","v":""},null,{"$f":"IF('Sep Voeropname'!$A66='Sep kengetallen'!$A73,'Sep Voeropname'!E66,\"\")","v":""}]
["OverigRuwvoer",null,{"$f":"IF('Sep Voeropname'!$A67='Sep kengetallen'!$A74,'Sep Voeropname'!C67,\"\")","v":""},null,{"$f":"IF('Sep Voeropname'!$A67='Sep kengetallen'!$A74,'Sep Voeropname'!E67,\"\")","v":""}]
["OverigRuwvoer",null,{"$f":"IF('Sep Voeropname'!$A68='Sep kengetallen'!$A75,'Sep Voeropname'!C68,\"\")","v":""},null,{"$f":"IF('Sep Voeropname'!$A68='Sep kengetallen'!$A75,'Sep Voeropname'!E68,\"\")","v":""}]
["OverigRuwvoer",null,{"$f":"IF('Sep Voeropname'!$A69='Sep kengetallen'!$A76,'Sep Voeropname'!C69,\"\")","v":""},null,{"$f":"IF('Sep Voeropname'!$A69='Sep kengetallen'!$A76,'Sep Voeropname'!E69,\"\")","v":""}]
["OverigRuwvoer",null,{"$f":"IF('Sep Voeropname'!$A70='Sep kengetallen'!$A77,'Sep Voeropname'!C70,\"\")","v":""},null,{"$f":"IF('Sep Voeropname'!$A70='Sep kengetallen'!$A77,'Sep Voeropname'!E70,\"\")","v":""}]
["OverigRuwvoer",null,{"$f":"IF('Sep Voeropname'!$A71='Sep kengetallen'!$A78,'Sep Voeropname'!C71,\"\")","v":""},null,{"$f":"IF('Sep Voeropname'!$A71='Sep kengetallen'!$A78,'Sep Voeropname'!E71,\"\")","v":""}]
["OverigRuwvoer",null,{"$f":"IF('Sep Voeropname'!$A72='Sep kengetallen'!$A79,'Sep Voeropname'!C72,\"\")","v":""},null,{"$f":"IF('Sep Voeropname'!$A72='Sep kengetallen'!$A79,'Sep Voeropname'!E72,\"\")","v":""}]
["OverigRuwvoer",null,{"$f":"IF('Sep Voeropname'!$A73='Sep kengetallen'!$A80,'Sep Voeropname'!C73,\"\")","v":""},null,{"$f":"IF('Sep Voeropname'!$A73='Sep kengetallen'!$A80,'Sep Voeropname'!E73,\"\")","v":""}]
["OverigRuwvoer",null,{"$f":"IF('Sep Voeropname'!$A74='Sep kengetallen'!$A81,'Sep Voeropname'!C74,\"\")","v":""},null,{"$f":"IF('Sep Voeropname'!$A74='Sep kengetallen'!$A81,'Sep Voeropname'!E74,\"\")","v":""}]
["Totaal overig Ruwvoer",null,{"$f":"SUM(C73:C81)","v":0},null,{"$f":"SUM(E73:E81)","v":0}]
[]
["Bijproducten",null,{"$f":"IF('Sep Voeropname'!$A66='Sep kengetallen'!$A84,'Sep Voeropname'!C66,\"\")","v":""},null,{"$f":"IF('Sep Voeropname'!$A66='Sep kengetallen'!$A84,'Sep Voeropname'!E66,\"\")","v":""}]
["Bijproducten",null,{"$f":"IF('Sep Voeropname'!$A67='Sep kengetallen'!$A85,'Sep Voeropname'!C67,\"\")","v":""},null,{"$f":"IF('Sep Voeropname'!$A67='Sep kengetallen'!$A85,'Sep Voeropname'!E67,\"\")","v":""}]
["Bijproducten",null,{"$f":"IF('Sep Voeropname'!$A68='Sep kengetallen'!$A86,'Sep Voeropname'!C68,\"\")","v":""},null,{"$f":"IF('Sep Voeropname'!$A68='Sep kengetallen'!$A86,'Sep Voeropname'!E68,\"\")","v":""}]
["Bijproducten",null,{"$f":"IF('Sep Voeropname'!$A69='Sep kengetallen'!$A87,'Sep Voeropname'!C69,\"\")","v":36.792000000000002},null,{"$f":"IF('Sep Voeropname'!$A69='Sep kengetallen'!$A87,'Sep Voeropname'!E69,\"\")","v":36.408749999999998}]
["Bijproducten",null,{"$f":"IF('Sep Voeropname'!$A70='Sep kengetallen'!$A88,'Sep Voeropname'!C70,\"\")","v":""},null,{"$f":"IF('Sep Voeropname'!$A70='Sep kengetallen'!$A88,'Sep Voeropname'!E70,\"\")","v":""}]
["Bijproducten",null,{"$f":"IF('Sep Voeropname'!$A71='Sep kengetallen'!$A89,'Sep Voeropname'!C71,\"\")","v":""},null,{"$f":"IF('Sep Voeropname'!$A71='Sep kengetallen'!$A89,'Sep Voeropname'!E71,\"\")","v":""}]
["Bijproducten",null,{"$f":"IF('Sep Voeropname'!$A72='Sep kengetallen'!$A90,'Sep Voeropname'!C72,\"\")","v":""},null,{"$f":"IF('Sep Voeropname'!$A72='Sep kengetallen'!$A90,'Sep Voeropname'!E72,\"\")","v":""}]
["Bijproducten",null,{"$f":"IF('Sep Voeropname'!$A73='Sep kengetallen'!$A91,'Sep Voeropname'!C73,\"\")","v":""},null,{"$f":"IF('Sep Voeropname'!$A73='Sep kengetallen'!$A91,'Sep Voeropname'!E73,\"\")","v":""}]
["Bijproducten",null,{"$f":"IF('Sep Voeropname'!$A74='Sep kengetallen'!$A92,'Sep Voeropname'!C74,\"\")","v":""},null,{"$f":"IF('Sep Voeropname'!$A74='Sep kengetallen'!$A92,'Sep Voeropname'!E74,\"\")","v":""}]
["Totaal Bijproducten",null,{"$f":"SUM(C84:C92)","v":36.792000000000002},null,{"$f":"SUM(E84:E92)","v":36.408749999999998}]
[]
["Krachtvoer",null,{"$f":"SUM('Sep Voeropname'!C76:C78)","v":329.40000000000003},null,{"$f":"SUM('Sep Voeropname'!E76:E78)","v":301.86}]
[]
["Vers gras",null,{"$f":"'Sep Voeropname'!C31*('Sep vee+melk'!C2+'Sep vee+melk'!C3)","v":412.86114967260886},null,{"$f":"'Sep Voeropname'!E31*('Sep vee+melk'!E2+'Sep vee+melk'!E3)","v":494.90156936639983}]
[]
["Totaal",null,{"$f":"C95+C93+C82+C71+C60+C97","v":1463.8883496726089},null,{"$f":"E95+E93+E82+E71+E60+E97","v":1510.8718193663997}]
[]
["Vers gras",null,{"$f":"C97/C99","v":0.282030490757675},null,{"$f":"E97/E99","v":0.32756026224245954}]
["Aandeel kuilgras",null,{"$f":"C60/C$99","v":0.24761232650090154},null,{"$f":"E60/E$99","v":0.23741325730095691}]
["Aandeel snijmais",null,{"$f":"C71/C$99","v":0.22020695777249252},null,{"$f":"E71/E$99","v":0.21113670657632375}]
["Aandeel overig ruwvoer",null,{"$f":"C82/C$99","v":0},null,{"$f":"E82/E$99","v":0}]
["Aandeel bijproducten",null,{"$f":"C93/C$99","v":2.5133064286103748E-2},null,{"$f":"E93/E$99","v":2.4097841744952525E-2}]
["Aandeel krachtvoer",null,{"$f":"C95/C$99","v":0.22501716068282709},null,{"$f":"E95/E$99","v":0.19979193213530733}]

{"sheet":"Aug Voeropname","index":41,"n_rows":162,"n_cols":18,"rows_kept":162,"cut":false,"hidden":true,"merged":[]}
["Gem rantsoen gehaltes (d dgn)",null,{"$f":"'Aug voer'!B3","v":"Augustus gerealiseerd"},null,{"$f":"'Aug voer'!G3","v":"Augustus prognose"}]
["DS opname/koe",null,{"$f":"C34","v":20.110117276774957},null,{"$f":"E34","v":21.198291746327076}]
["VEM",null,{"$f":"C12","v":930.84044670886408},null,{"$f":"AVERAGE(E12:E12)","v":940.36680652541133}]
["DVE",null,{"$f":"AVERAGE(C13)","v":{"$error":"#N/A"}},null,{"$error":"#N/A"},null,null,null,null,null,null,null,1,null,null,null,null,"Voedermiddelen"]
["OEB",null,{"$f":"AVERAGE(C14)","v":{"$error":"#N/A"}},null,{"$error":"#N/A"},null,null,null,null,null,null,null,2,null,null,null,null,"Kuilgras"]
["RE",null,{"$f":"AVERAGE(C15)","v":160.07890434233684},null,125.00177125787523,null,null,null,null,null,null,null,null,null,null,null,null,"Snijmais"]
["N",null,{"$f":"AVERAGE(C16)","v":25.612624694773896},null,20.000283401260035,null,null,null,null,null,null,null,"Vem toeslag weidegang",null,1.03,null,null,"OverigRuwvoer"]
["P",null,3.8609379403293511,null,3.1563996044838079,null,null,null,null,null,null,null,null,null,null,null,null,"Bijproducten"]
[null,null,null,null,null,null,null,null,null,null,null,null,null,null,null,null,null,"Krachtvoer"]
[]
["Rantsoen gehaltes (incl. weidegras)"]
["VEM",null,{"$f":"C35/C34","v":930.84044670886408},null,{"$f":"E35/E34","v":940.36680652541133},null,null,null,null,null,null,null,null,null,null,null,null,"Let op bij beperkt weiden is deze opname niet realistisch!"]
["DVE",null,{"$f":"C36/C34","v":{"$error":"#N/A"}},null,{"$f":"E36/E34","v":{"$error":"#N/A"}},null,null,null,null,null,null,null,null,null,null,null,null,"Let op VEM dekking te laag!"]
["OEB",null,{"$f":"C37","v":{"$error":"#N/A"}},null,{"$f":"E37","v":{"$error":"#N/A"}}]
["RE",null,{"$f":"C38/C34","v":160.07890434233684},null,{"$f":"E38/E34","v":125.00177125787523}]
["N",null,{"$f":"C39/C34","v":25.612624694773896},null,{"$f":"E39/E34","v":20.000283401260035}]
["P",null,{"$f":"C40/C34","v":3.8609379403293511},null,{"$f":"E40/E34","v":3.1563996044838079}]
[]
[]
[]
[]
["kg ds",null,{"$f":"C55/SUM('Aug vee+melk'!C2:C3)","v":12.974061971830984},null,{"$f":"E55/SUM('Aug vee+melk'!E2:E3)","v":12.378449999999999}]
["Vemopname ex weidegras",null,{"$f":"C22*C45","v":12154.139668732392},null,{"$f":"E22*E45","v":11819.915506666666}]
[]
[]
[]
["VEM behoefte",null,{"$f":"IF('Aug voer'!B4=1,'Aug vee+melk'!C27*'Aug Voeropname'!O7,'Aug vee+melk'!C27)","v":18719.310549280846},null,{"$f":"IF('Aug voer'!G4=1,'Aug vee+melk'!E27*'Aug Voeropname'!O7,'Aug vee+melk'!E27)","v":19934.169913287576}]
["Behoefte-opname",null,{"$f":"C27-'Aug Voeropname'!C23","v":6565.1708805484541},null,{"$f":"E27-'Aug Voeropname'!E23","v":8114.2544066209102}]
[null,null,{"$f":"C28/VLOOKUP('Aug voer'!B5,Weidegras!$A$5:$J$119,4,FALSE)","v":7.1360553049439721},null,{"$f":"E28/VLOOKUP('Aug voer'!G5,Weidegras!$A$5:$J$119,4,FALSE)","v":8.8198417463270768}]
[null,null,{"$f":"IF(C29>0,C29,0)","v":7.1360553049439721},null,{"$f":"IF(E29>0,E29,0)","v":8.8198417463270768}]
["Weidegrasopname/koe",null,{"$f":"IF('Aug voer'!B4=1,C30,0)","v":7.1360553049439721},null,{"$f":"IF('Aug voer'!G4=1,E30,0)","v":8.8198417463270768}]
[]
["Rantsoenopname incl weidegras"]
["droge stof",null,{"$f":"C22+C31","v":20.110117276774957},null,{"$f":"E22+E31","v":21.198291746327076}]
["VEM",null,{"$f":"C45*C22+C31*VLOOKUP('Aug voer'!B5,Weidegras!$A$6:$J$180,4,FALSE)","v":18719.310549280846},null,{"$f":"E45*E22+E31*VLOOKUP('Aug voer'!G5,Weidegras!$A$6:$J$180,4,FALSE)","v":19934.169913287576}]
["DVE",null,{"$f":"C46*C22+$C$31*VLOOKUP('Aug voer'!B5,Weidegras!$A$5:$J$150,5,FALSE)","v":{"$error":"#N/A"}},null,{"$f":"E46*E22+$C$31*VLOOKUP('Aug voer'!G5,Weidegras!$A$5:$J$150,5,FALSE)","v":{"$error":"#N/A"}}]
["OEB",null,{"$f":"C22*C47+$C$31*VLOOKUP('Aug voer'!B5,Weidegras!$A$6:$J$151,6,FALSE)","v":{"$error":"#N/A"}},null,{"$f":"E22*E47+$C$31*VLOOKUP('Aug voer'!G5,Weidegras!$A$6:$J$151,6,FALSE)","v":{"$error":"#N/A"}}]
["RE",null,{"$f":"C48*C22+C31*VLOOKUP('Aug voer'!$B$5,Weidegras!$A$6:$J$181,7,FALSE)","v":3219.2055398620337},null,{"$f":"E48*E22+E31*VLOOKUP('Aug voer'!$B$5,Weidegras!$A$6:$J$181,7,FALSE)","v":2649.8240159320817}]
["N",null,{"$f":"C38/6.25","v":515.07288637792544},null,{"$f":"E38/6.25","v":423.97184254913304}]
["P",null,{"$f":"C50*C22+C31*VLOOKUP('Aug voer'!$B$5,Weidegras!$A$6:$J$183,10,FALSE)","v":77.643914778373201},null,{"$f":"E50*E22+E31*VLOOKUP('Aug voer'!$B$5,Weidegras!$A$6:$J$183,10,FALSE)","v":66.91027968383915}]
[]
[]
["Stalrantsoen gehaltes"]
["droge stof"]
["VEM",null,{"$f":"C56/C$55","v":936.80296079371362},null,{"$f":"E56/E$55","v":954.87847886178531}]
["DVE",null,{"$f":"C57/C$55*1000","v":{"$error":"#N/A"}},null,{"$f":"E57/E$55*1000","v":{"$error":"#N/A"}}]
["OEB",null,{"$f":"C58/C$55","v":{"$error":"#N/A"}},null,{"$f":"E58/E$55","v":{"$error":"#N/A"}}]
["RE",null,{"$f":"C59/C$55","v":138.12131333764097},null,71.564345024350104]
["N",null,{"$f":"C60/C$55","v":22.099410134022552},null,11.450295203896017]
["P",null,{"$f":"C61/C$55","v":3.5644404610542555},null,2.2703146193586434]
[]
[]
[]
["Stalrantsoen opname"]
["droge stof (kg)",null,{"$f":"C80","v":921.15839999999992},null,891.24839999999995]
["VEM",null,{"$f":"C96","v":862943.9164799999},null,851033.9164799999]
["DVE",null,{"$f":"C112","v":{"$error":"#N/A"}},null,{"$f":"E112","v":{"$error":"#N/A"}}]
["OEB",null,{"$f":"C128","v":{"$error":"#N/A"}},null,{"$f":"E128","v":{"$error":"#N/A"}}]
["RE",null,{"$f":"C144","v":127231.60799999999},null,{"$f":"E144","v":63781.607999999993}]
["N",null,{"$f":"C146","v":20357.057279999997},null,{"$f":"E146","v":10205.057279999999}]
["P",null,{"$f":"C162","v":3283.414272},null,{"$f":"E162","v":2023.4142719999998}]
[]
[]
[]
["Drogestof opname"]
[{"$f":"'Aug voer'!A9","v":"Kuilgras"},{"$f":"'Aug voer'!B9","v":"Gkuil balen 2016 2e snede"},{"$f":"IF('Aug voer'!C9>0,VLOOKUP('Aug voer'!B9,Voedermiddelen!$A$4:$K$75,3,FALSE)*'Aug voer'!C9*(1-'Aug voer'!$B$6),\"\")","v":166.65599999999998},{"$f":"'Aug voer'!G9","v":"Gkuil balen 2016 2e snede"},{"$f":"IF('Aug voer'!H9>0,VLOOKUP('Aug voer'!G9,Voedermiddelen!$A$4:$K$75,3,FALSE)*'Aug voer'!H9*(1-'Aug voer'!$G$6),\"\")","v":166.65599999999998}]
[{"$f":"'Aug voer'!A10","v":"Snijmais"},{"$f":"'Aug voer'!B10","v":"Mkuil 1"},{"$f":"IF('Aug voer'!C10>0,VLOOKUP('Aug voer'!B10,Voedermiddelen!$A$4:$K$75,3,FALSE)*'Aug voer'!C10*(1-'Aug voer'!$B$6),\"\")","v":322.35839999999996},{"$f":"'Aug voer'!G10","v":"Mkuil 1"},{"$f":"IF('Aug voer'!H10>0,VLOOKUP('Aug voer'!G10,Voedermiddelen!$A$4:$K$75,3,FALSE)*'Aug voer'!H10*(1-'Aug voer'!$G$6),\"\")","v":322.35839999999996}]
[{"$f":"'Aug voer'!A11","v":"Kuilgras"},{"$f":"'Aug voer'!B11","v":"2017 1e 2e snede"},{"$f":"IF('Aug voer'!C11>0,VLOOKUP('Aug voer'!B11,Voedermiddelen!$A$4:$K$75,3,FALSE)*'Aug voer'!C11*(1-'Aug voer'!$B$6),\"\")","v":80.352000000000004},{"$f":"'Aug voer'!G11","v":"2017 1e 2e snede"},{"$f":"IF('Aug voer'!H11>0,VLOOKUP('Aug voer'!G11,Voedermiddelen!$A$4:$K$75,3,FALSE)*'Aug voer'!H11*(1-'Aug voer'!$G$6),\"\")","v":80.352000000000004}]
[{"$f":"'Aug voer'!A12","v":"Bijproducten"},{"$f":"'Aug voer'!B12","v":"Bierbostel"},{"$f":"IF('Aug voer'!C12>0,VLOOKUP('Aug voer'!B12,Voedermiddelen!$A$4:$K$75,3,FALSE)*'Aug voer'!C12*(1-'Aug voer'!$B$6),\"\")","v":36.792000000000002},{"$f":"'Aug voer'!G12","v":"Bierbostel"},{"$f":"IF('Aug voer'!H12>0,VLOOKUP('Aug voer'!G12,Voedermiddelen!$A$4:$K$75,3,FALSE)*'Aug voer'!H12*(1-'Aug voer'!$G$6),\"\")","v":36.792000000000002}]
[{"$f":"'Aug voer'!A13","v":"OverigRuwvoer"},{"$f":"'Aug voer'!B13","v":"Overig 2"},{"$f":"IF('Aug voer'!C13>0,VLOOKUP('Aug voer'!B13,Voedermiddelen!$A$4:$K$75,3,FALSE)*'Aug voer'!C13*(1-'Aug voer'!$B$6),\"\")","v":""},{"$f":"'Aug voer'!G13","v":"Overig 2"},{"$f":"IF('Aug voer'!H13>0,VLOOKUP('Aug voer'!G13,Voedermiddelen!$A$4:$K$75,3,FALSE)*'Aug voer'!H13*(1-'Aug voer'!$G$6),\"\")","v":""}]
[{"$f":"'Aug voer'!A14","v":"Bijproducten"},{"$f":"'Aug voer'!B14","v":"BP 6"},{"$f":"IF('Aug voer'!C14>0,VLOOKUP('Aug voer'!B14,Voedermiddelen!$A$4:$K$75,3,FALSE)*'Aug voer'!C14*(1-'Aug voer'!$B$6),\"\")","v":""},{"$f":"'Aug voer'!G14","v":"BP 6"},{"$f":"IF('Aug voer'!H14>0,VLOOKUP('Aug voer'!G14,Voedermiddelen!$A$4:$K$75,3,FALSE)*'Aug voer'!H14*(1-'Aug voer'!$G$6),\"\")","v":""}]
[{"$f":"'Aug voer'!A15","v":0},{"$f":"'Aug voer'!B15","v":0},{"$f":"IF('Aug voer'!C15>0,VLOOKUP('Aug voer'!B15,Voedermiddelen!$A$4:$K$75,3,FALSE)*'Aug voer'!C15*(1-'Aug voer'!$B$6),\"\")","v":""},{"$f":"'Aug voer'!G15","v":0},{"$f":"IF('Aug voer'!H15>0,VLOOKUP('Aug voer'!G15,Voedermiddelen!$A$4:$K$75,3,FALSE)*'Aug voer'!H15*(1-'Aug voer'!$G$6),\"\")","v":""}]
[{"$f":"'Aug voer'!A16","v":0},{"$f":"'Aug voer'!B16","v":0},{"$f":"IF('Aug voer'!C16>0,VLOOKUP('Aug voer'!B16,Voedermiddelen!$A$4:$K$75,3,FALSE)*'Aug voer'!C16*(1-'Aug voer'!$B$6),\"\")","v":""},{"$f":"'Aug voer'!G16","v":0},{"$f":"IF('Aug voer'!H16>0,VLOOKUP('Aug voer'!G16,Voedermiddelen!$A$4:$K$75,3,FALSE)*'Aug voer'!H16*(1-'Aug voer'!$G$6),\"\")","v":""}]
[{"$f":"'Aug voer'!A17","v":0},{"$f":"'Aug voer'!B17","v":0},{"$f":"IF('Aug voer'!C17>0,VLOOKUP('Aug voer'!B17,Voedermiddelen!$A$4:$K$75,3,FALSE)*'Aug voer'!C17*(1-'Aug voer'!$B$6),\"\")","v":""},{"$f":"'Aug voer'!G17","v":0},{"$f":"IF('Aug voer'!H17>0,VLOOKUP('Aug voer'!G17,Voedermiddelen!$A$4:$K$75,3,FALSE)*'Aug voer'!H17*(1-'Aug voer'!$G$6),\"\")","v":""}]
[null,{"$f":"'Aug voer'!B18","v":0},{"$f":"IF('Aug voer'!C18>0,VLOOKUP('Aug voer'!B18,Voedermiddelen!$A$4:$K$75,3,FALSE)*'Aug voer'!C18*(1-'Aug voer'!$B$6),\"\")","v":""},{"$f":"'Aug voer'!G18","v":0},{"$f":"IF('Aug voer'!H18>0,VLOOKUP('Aug voer'!G18,Voedermiddelen!$A$4:$K$75,3,FALSE)*'Aug voer'!H18*(1-'Aug voer'!$G$6),\"\")","v":""}]
[null,{"$f":"'Aug voer'!B20","v":"KV 1"},{"$f":"IF('Aug voer'!C20>0,VLOOKUP('Aug voer'!B20,Voedermiddelen!$A$4:$K$75,3,FALSE)*'Aug voer'!C20,\"\")","v":90},null,{"$f":"'Aug voer'!H22*'Aug vee+melk'!E15/100*0.9","v":285.08999999999997}]
[null,{"$f":"'Aug voer'!B21","v":"Melkbrok BM"},{"$f":"IF('Aug voer'!C21>0,VLOOKUP('Aug voer'!B21,Voedermiddelen!$A$4:$K$75,3,FALSE)*'Aug voer'!C21,\"\")","v":225}]
[null,{"$f":"'Aug voer'!B22","v":0},{"$f":"IF('Aug voer'!C22>0,VLOOKUP('Aug voer'!B22,Voedermiddelen!$A$4:$K$75,3,FALSE)*'Aug voer'!C22,\"\")","v":""}]
[]
["Totaal",null,{"$f":"SUM(C66:C78)","v":921.15839999999992},null,{"$f":"SUM(E66:E78)","v":891.24839999999995}]
[]
["VEM",{"$f":"B66","v":"Gkuil balen 2016 2e snede"},{"$f":"IF('Aug voer'!C9>0,VLOOKUP('Aug voer'!B9,Voedermiddelen!$A$4:$K$75,4,FALSE)*C66,\"\")","v":132824.83199999999},{"$f":"D66","v":"Gkuil balen 2016 2e snede"},{"$f":"IF('Aug voer'!H9>0,VLOOKUP('Aug voer'!G9,Voedermiddelen!$A$4:$K$75,4,FALSE)*E66,\"\")","v":132824.83199999999}]
[null,{"$f":"B67","v":"Mkuil 1"},{"$f":"IF('Aug voer'!C10>0,VLOOKUP('Aug voer'!B10,Voedermiddelen!$A$4:$K$75,4,FALSE)*C67,\"\")","v":323067.58847999998},"Mkuil 1",{"$f":"IF('Aug voer'!H10>0,VLOOKUP('Aug voer'!G10,Voedermiddelen!$A$4:$K$75,4,FALSE)*E67,\"\")","v":323067.58847999998}]
[null,"2017 1e 2e snede",{"$f":"IF('Aug voer'!C11>0,VLOOKUP('Aug voer'!B11,Voedermiddelen!$A$4:$K$75,4,FALSE)*C68,\"\")","v":75209.472000000009},"2017 1e 2e snede",{"$f":"IF('Aug voer'!H11>0,VLOOKUP('Aug voer'!G11,Voedermiddelen!$A$4:$K$75,4,FALSE)*E68,\"\")","v":75209.472000000009}]
[null,"Bierbostel",{"$f":"IF('Aug voer'!C12>0,VLOOKUP('Aug voer'!B12,Voedermiddelen!$A$4:$K$75,4,FALSE)*C69,\"\")","v":34842.024000000005},"Bierbostel",{"$f":"IF('Aug voer'!H12>0,VLOOKUP('Aug voer'!G12,Voedermiddelen!$A$4:$K$75,4,FALSE)*E69,\"\")","v":34842.024000000005}]
[null,"Overig 2",{"$f":"IF('Aug voer'!C13>0,VLOOKUP('Aug voer'!B13,Voedermiddelen!$A$4:$K$75,4,FALSE)*C70,\"\")","v":""},"Overig 2",{"$f":"IF('Aug voer'!H13>0,VLOOKUP('Aug voer'!G13,Voedermiddelen!$A$4:$K$75,4,FALSE)*E70,\"\")","v":""}]
[null,"BP 6",{"$f":"IF('Aug voer'!C14>0,VLOOKUP('Aug voer'!B14,Voedermiddelen!$A$4:$K$75,4,FALSE)*C71,\"\")","v":""},"BP 6",{"$f":"IF('Aug voer'!H14>0,VLOOKUP('Aug voer'!G14,Voedermiddelen!$A$4:$K$75,4,FALSE)*E71,\"\")","v":""}]
[null,0,{"$f":"IF('Aug voer'!C15>0,VLOOKUP('Aug voer'!B15,Voedermiddelen!$A$4:$K$75,4,FALSE)*C72,\"\")","v":""},0,{"$f":"IF('Aug voer'!H15>0,VLOOKUP('Aug voer'!G15,Voedermiddelen!$A$4:$K$75,4,FALSE)*E72,\"\")","v":""}]
[null,0,{"$f":"IF('Aug voer'!C16>0,VLOOKUP('Aug voer'!B16,Voedermiddelen!$A$4:$K$75,4,FALSE)*C73,\"\")","v":""},0,{"$f":"IF('Aug voer'!H16>0,VLOOKUP('Aug voer'!G16,Voedermiddelen!$A$4:$K$75,4,FALSE)*E73,\"\")","v":""}]
[null,0,{"$f":"IF('Aug voer'!C17>0,VLOOKUP('Aug voer'!B17,Voedermiddelen!$A$4:$K$75,4,FALSE)*C74,\"\")","v":""},0,{"$f":"IF('Aug voer'!H17>0,VLOOKUP('Aug voer'!G17,Voedermiddelen!$A$4:$K$75,4,FALSE)*E74,\"\")","v":""}]
[null,0,{"$f":"IF('Aug voer'!C18>0,VLOOKUP('Aug voer'!B18,Voedermiddelen!$A$4:$K$75,4,FALSE)*C75,\"\")","v":""},0,{"$f":"IF('Aug voer'!H18>0,VLOOKUP('Aug voer'!G18,Voedermiddelen!$A$4:$K$75,4,FALSE)*E75,\"\")","v":""}]
[null,"KV 1",{"$f":"IF('Aug voer'!C20>0,VLOOKUP('Aug voer'!B20,Voedermiddelen!$A$4:$K$75,4,FALSE)*C76,\"\")","v":81000},0,{"$f":"E76*1000","v":285090}]
[null,"Melkbrok BM",{"$f":"IF('Aug voer'!C21>0,VLOOKUP('Aug voer'!B21,Voedermiddelen!$A$4:$K$75,4,FALSE)*C77,\"\")","v":216000},0]
[null,0,{"$f":"IF('Aug voer'!C22>0,VLOOKUP('Aug voer'!B22,Voedermiddelen!$A$4:$K$75,4,FALSE)*C78,\"\")","v":""},0]
[]
["Totaal",null,{"$f":"SUM(C82:C94)","v":862943.9164799999},null,{"$f":"SUM(E82:E94)","v":851033.9164799999}]
[]
["DVE",{"$f":"B82","v":"Gkuil balen 2016 2e snede"},{"$f":"IF('Aug voer'!C9>0,VLOOKUP('Aug voer'!B9,[2]Voedermiddelen!$A$4:$K$75,5,FALSE)*C66,\"\")","v":{"$error":"#N/A"}},{"$f":"D82","v":"Gkuil balen 2016 2e snede"},{"$f":"IF('Aug voer'!H9>0,VLOOKUP('Aug voer'!G9,[2]Voedermiddelen!$A$4:$K$75,5,FALSE)*E66,\"\")","v":{"$error":"#N/A"}}]
[null,{"$f":"B83","v":"Mkuil 1"},{"$f":"IF('Aug voer'!C10>0,VLOOKUP('Aug voer'!B10,[2]Voedermiddelen!$A$4:$K$75,5,FALSE)*C67,\"\")","v":23016.389759999998},"Mkuil 1",{"$f":"IF('Aug voer'!H10>0,VLOOKUP('Aug voer'!G10,[2]Voedermiddelen!$A$4:$K$75,5,FALSE)*E67,\"\")","v":23016.389759999998}]
[null,"2017 1e 2e snede",{"$f":"IF('Aug voer'!C11>0,VLOOKUP('Aug voer'!B11,[2]Voedermiddelen!$A$4:$K$75,5,FALSE)*C68,\"\")","v":{"$error":"#N/A"}},"2017 1e 2e snede",{"$f":"IF('Aug voer'!H11>0,VLOOKUP('Aug voer'!G11,[2]Voedermiddelen!$A$4:$K$75,5,FALSE)*E68,\"\")","v":{"$error":"#N/A"}}]
[null,"Bierbostel",{"$f":"IF('Aug voer'!C12>0,VLOOKUP('Aug voer'!B12,[2]Voedermiddelen!$A$4:$K$75,5,FALSE)*C69,\"\")","v":5040.5039999999999},"Bierbostel",{"$f":"IF('Aug voer'!H12>0,VLOOKUP('Aug voer'!G12,[2]Voedermiddelen!$A$4:$K$75,5,FALSE)*E69,\"\")","v":5040.5039999999999}]
[null,"Overig 2",{"$f":"IF('Aug voer'!C13>0,VLOOKUP('Aug voer'!B13,[2]Voedermiddelen!$A$4:$K$75,5,FALSE)*C70,\"\")","v":""},"Overig 2",{"$f":"IF('Aug voer'!H13>0,VLOOKUP('Aug voer'!G13,[2]Voedermiddelen!$A$4:$K$75,5,FALSE)*E70,\"\")","v":""}]
[null,"BP 6",{"$f":"IF('Aug voer'!C14>0,VLOOKUP('Aug voer'!B14,[2]Voedermiddelen!$A$4:$K$75,5,FALSE)*C71,\"\")","v":""},"BP 6",{"$f":"IF('Aug voer'!H14>0,VLOOKUP('Aug voer'!G14,[2]Voedermiddelen!$A$4:$K$75,5,FALSE)*E71,\"\")","v":""}]
[null,0,{"$f":"IF('Aug voer'!C15>0,VLOOKUP('Aug voer'!B15,[2]Voedermiddelen!$A$4:$K$75,5,FALSE)*C72,\"\")","v":""},0,{"$f":"IF('Aug voer'!H15>0,VLOOKUP('Aug voer'!G15,[2]Voedermiddelen!$A$4:$K$75,5,FALSE)*E72,\"\")","v":""}]
[null,0,{"$f":"IF('Aug voer'!C16>0,VLOOKUP('Aug voer'!B16,[2]Voedermiddelen!$A$4:$K$75,5,FALSE)*C73,\"\")","v":""},0,{"$f":"IF('Aug voer'!H16>0,VLOOKUP('Aug voer'!G16,[2]Voedermiddelen!$A$4:$K$75,5,FALSE)*E73,\"\")","v":""}]
[null,0,{"$f":"IF('Aug voer'!C17>0,VLOOKUP('Aug voer'!B17,[2]Voedermiddelen!$A$4:$K$75,5,FALSE)*C74,\"\")","v":""},0,{"$f":"IF('Aug voer'!H17>0,VLOOKUP('Aug voer'!G17,[2]Voedermiddelen!$A$4:$K$75,5,FALSE)*E74,\"\")","v":""}]
[null,0,{"$f":"IF('Aug voer'!C18>0,VLOOKUP('Aug voer'!B18,[2]Voedermiddelen!$A$4:$K$75,5,FALSE)*C75,\"\")","v":""},0,{"$f":"IF('Aug voer'!H18>0,VLOOKUP('Aug voer'!G18,[2]Voedermiddelen!$A$4:$K$75,5,FALSE)*E75,\"\")","v":""}]
[null,"KV 1",{"$f":"IF('Aug voer'!C20>0,VLOOKUP('Aug voer'!B20,[2]Voedermiddelen!$A$4:$K$75,5,FALSE)*C76,\"\")","v":10800},0]
[null,"Melkbrok BM",{"$f":"IF('Aug voer'!C21>0,VLOOKUP('Aug voer'!B21,[2]Voedermiddelen!$A$4:$K$75,5,FALSE)*C77,\"\")","v":{"$error":"#N/A"}},0]
[null,0,{"$f":"IF('Aug voer'!C22>0,VLOOKUP('Aug voer'!B22,[2]Voedermiddelen!$A$4:$K$75,5,FALSE)*C78,\"\")","v":""},0]
[]
["Totaal",null,{"$f":"SUM(C98:C110)/1000","v":{"$error":"#N/A"}},null,{"$f":"SUM(E98:E110)/1000","v":{"$error":"#N/A"}}]
[]
["OEB",{"$f":"B98","v":"Gkuil balen 2016 2e snede"},{"$f":"IF('Aug voer'!C9>0,VLOOKUP('Aug voer'!B9,[2]Voedermiddelen!$A$4:$K$75,6,FALSE)*C66,\"\")","v":{"$error":"#N/A"}},{"$f":"D98","v":"Gkuil balen 2016 2e snede"},{"$f":"IF('Aug voer'!H9>0,VLOOKUP('Aug voer'!G9,[2]Voedermiddelen!$A$4:$K$75,6,FALSE)*E66,\"\")","v":{"$error":"#N/A"}}]
[null,{"$f":"B99","v":"Mkuil 1"},{"$f":"IF('Aug voer'!C10>0,VLOOKUP('Aug voer'!B10,[2]Voedermiddelen!$A$4:$K$75,6,FALSE)*C67,\"\")","v":-8832.6201599999986},"Mkuil 1",{"$f":"IF('Aug voer'!H10>0,VLOOKUP('Aug voer'!G10,[2]Voedermiddelen!$A$4:$K$75,6,FALSE)*E67,\"\")","v":-8832.6201599999986}]
[null,"2017 1e 2e snede",{"$f":"IF('Aug voer'!C11>0,VLOOKUP('Aug voer'!B11,[2]Voedermiddelen!$A$4:$K$75,6,FALSE)*C68,\"\")","v":{"$error":"#N/A"}},"2017 1e 2e snede",{"$f":"IF('Aug voer'!H11>0,VLOOKUP('Aug voer'!G11,[2]Voedermiddelen!$A$4:$K$75,6,FALSE)*E68,\"\")","v":{"$error":"#N/A"}}]
[null,"Bierbostel",{"$f":"IF('Aug voer'!C12>0,VLOOKUP('Aug voer'!B12,[2]Voedermiddelen!$A$4:$K$75,6,FALSE)*C69,\"\")","v":2023.5600000000002},"Bierbostel",{"$f":"IF('Aug voer'!H12>0,VLOOKUP('Aug voer'!G12,[2]Voedermiddelen!$A$4:$K$75,6,FALSE)*E69,\"\")","v":2023.5600000000002}]
[null,"Overig 2",{"$f":"IF('Aug voer'!C13>0,VLOOKUP('Aug voer'!B13,[2]Voedermiddelen!$A$4:$K$75,6,FALSE)*C70,\"\")","v":""},"Overig 2",{"$f":"IF('Aug voer'!H13>0,VLOOKUP('Aug voer'!G13,[2]Voedermiddelen!$A$4:$K$75,6,FALSE)*E70,\"\")","v":""}]
[null,"BP 6",{"$f":"IF('Aug voer'!C14>0,VLOOKUP('Aug voer'!B14,[2]Voedermiddelen!$A$4:$K$75,6,FALSE)*C71,\"\")","v":""},"BP 6",{"$f":"IF('Aug voer'!H14>0,VLOOKUP('Aug voer'!G14,[2]Voedermiddelen!$A$4:$K$75,6,FALSE)*E71,\"\")","v":""}]
[null,0,{"$f":"IF('Aug voer'!C15>0,VLOOKUP('Aug voer'!B15,[2]Voedermiddelen!$A$4:$K$75,6,FALSE)*C72,\"\")","v":""},0,{"$f":"IF('Aug voer'!H15>0,VLOOKUP('Aug voer'!G15,[2]Voedermiddelen!$A$4:$K$75,6,FALSE)*E72,\"\")","v":""}]
[null,0,{"$f":"IF('Aug voer'!C16>0,VLOOKUP('Aug voer'!B16,[2]Voedermiddelen!$A$4:$K$75,6,FALSE)*C73,\"\")","v":""},0,{"$f":"IF('Aug voer'!H16>0,VLOOKUP('Aug voer'!G16,[2]Voedermiddelen!$A$4:$K$75,6,FALSE)*E73,\"\")","v":""}]
[null,0,{"$f":"IF('Aug voer'!C17>0,VLOOKUP('Aug voer'!B17,[2]Voedermiddelen!$A$4:$K$75,6,FALSE)*C74,\"\")","v":""},0,{"$f":"IF('Aug voer'!H17>0,VLOOKUP('Aug voer'!G17,[2]Voedermiddelen!$A$4:$K$75,6,FALSE)*E74,\"\")","v":""}]
[null,0,{"$f":"IF('Aug voer'!C18>0,VLOOKUP('Aug voer'!B18,[2]Voedermiddelen!$A$4:$K$75,6,FALSE)*C75,\"\")","v":""},0,{"$f":"IF('Aug voer'!H18>0,VLOOKUP('Aug voer'!G18,[2]Voedermiddelen!$A$4:$K$75,6,FALSE)*E75,\"\")","v":""}]
[null,"KV 1",{"$f":"IF('Aug voer'!C20>0,VLOOKUP('Aug voer'!B20,[2]Voedermiddelen!$A$4:$K$75,6,FALSE)*C76,\"\")","v":5400},0]
[null,"Melkbrok BM",{"$f":"IF('Aug voer'!C21>0,VLOOKUP('Aug voer'!B21,[2]Voedermiddelen!$A$4:$K$75,6,FALSE)*C77,\"\")","v":{"$error":"#N/A"}},0]
[null,0,{"$f":"IF('Aug voer'!C22>0,VLOOKUP('Aug voer'!B22,[2]Voedermiddelen!$A$4:$K$75,6,FALSE)*C78,\"\")","v":""},0]
[]
["Totaal",null,{"$f":"SUM(C114:C126)","v":{"$error":"#N/A"}},null,{"$f":"SUM(E114:E126)","v":{"$error":"#N/A"}}]
[]
["RE",{"$f":"B114","v":"Gkuil balen 2016 2e snede"},{"$f":"IF('Aug voer'!C9>0,VLOOKUP('Aug voer'!B9,Voedermiddelen!$A$4:$K$75,7,FALSE)*C66,\"\")","v":17665.535999999996},{"$f":"D114","v":"Gkuil balen 2016 2e snede"},{"$f":"IF('Aug voer'!H9>0,VLOOKUP('Aug voer'!G9,Voedermiddelen!$A$4:$K$75,7,FALSE)*E66,\"\")","v":17665.535999999996}]
[null,{"$f":"B115","v":"Mkuil 1"},{"$f":"IF('Aug voer'!C10>0,VLOOKUP('Aug voer'!B10,Voedermiddelen!$A$4:$K$75,7,FALSE)*C67,\"\")","v":22565.087999999996},"Mkuil 1",{"$f":"IF('Aug voer'!H10>0,VLOOKUP('Aug voer'!G10,Voedermiddelen!$A$4:$K$75,7,FALSE)*E67,\"\")","v":22565.087999999996}]
[null,"2017 1e 2e snede",{"$f":"IF('Aug voer'!C11>0,VLOOKUP('Aug voer'!B11,Voedermiddelen!$A$4:$K$75,7,FALSE)*C68,\"\")","v":14463.36},"2017 1e 2e snede",{"$f":"IF('Aug voer'!H11>0,VLOOKUP('Aug voer'!G11,Voedermiddelen!$A$4:$K$75,7,FALSE)*E68,\"\")","v":14463.36}]
[null,"Bierbostel",{"$f":"IF('Aug voer'!C12>0,VLOOKUP('Aug voer'!B12,Voedermiddelen!$A$4:$K$75,7,FALSE)*C69,\"\")","v":9087.6239999999998},"Bierbostel",{"$f":"IF('Aug voer'!H12>0,VLOOKUP('Aug voer'!G12,Voedermiddelen!$A$4:$K$75,7,FALSE)*E69,\"\")","v":9087.6239999999998}]
[null,"Overig 2",{"$f":"IF('Aug voer'!C13>0,VLOOKUP('Aug voer'!B13,Voedermiddelen!$A$4:$K$75,7,FALSE)*C70,\"\")","v":""},"Overig 2",{"$f":"IF('Aug voer'!H13>0,VLOOKUP('Aug voer'!G13,Voedermiddelen!$A$4:$K$75,7,FALSE)*E70,\"\")","v":""}]
[null,"BP 6",{"$f":"IF('Aug voer'!C14>0,VLOOKUP('Aug voer'!B14,Voedermiddelen!$A$4:$K$75,7,FALSE)*C71,\"\")","v":""},"BP 6",{"$f":"IF('Aug voer'!H14>0,VLOOKUP('Aug voer'!G14,Voedermiddelen!$A$4:$K$75,7,FALSE)*E71,\"\")","v":""}]
[null,0,{"$f":"IF('Aug voer'!C15>0,VLOOKUP('Aug voer'!B15,Voedermiddelen!$A$4:$K$75,7,FALSE)*C72,\"\")","v":""},0,{"$f":"IF('Aug voer'!H15>0,VLOOKUP('Aug voer'!G15,Voedermiddelen!$A$4:$K$75,7,FALSE)*E72,\"\")","v":""}]
[null,0,{"$f":"IF('Aug voer'!C16>0,VLOOKUP('Aug voer'!B16,Voedermiddelen!$A$4:$K$75,7,FALSE)*C73,\"\")","v":""},0,{"$f":"IF('Aug voer'!H16>0,VLOOKUP('Aug voer'!G16,Voedermiddelen!$A$4:$K$75,7,FALSE)*E73,\"\")","v":""}]
[null,0,{"$f":"IF('Aug voer'!C17>0,VLOOKUP('Aug voer'!B17,Voedermiddelen!$A$4:$K$75,7,FALSE)*C74,\"\")","v":""},0,{"$f":"IF('Aug voer'!H17>0,VLOOKUP('Aug voer'!G17,Voedermiddelen!$A$4:$K$75,7,FALSE)*E74,\"\")","v":""}]
[null,0,{"$f":"IF('Aug voer'!C18>0,VLOOKUP('Aug voer'!B18,Voedermiddelen!$A$4:$K$75,7,FALSE)*C75,\"\")","v":""},0,{"$f":"IF('Aug voer'!H18>0,VLOOKUP('Aug voer'!G18,Voedermiddelen!$A$4:$K$75,7,FALSE)*E75,\"\")","v":""}]
[null,"KV 1",{"$f":"IF('Aug voer'!C20>0,VLOOKUP('Aug voer'!B20,Voedermiddelen!$A$4:$K$75,7,FALSE)*C76,\"\")","v":15300},0]
[null,"Melkbrok BM",{"$f":"IF('Aug voer'!C21>0,VLOOKUP('Aug voer'!B21,Voedermiddelen!$A$4:$K$75,7,FALSE)*C77,\"\")","v":48150},0]
[null,{"$f":"B126","v":0},{"$f":"IF('Aug voer'!C22>0,VLOOKUP('Aug voer'!B22,Voedermiddelen!$A$4:$K$75,7,FALSE)*C78,\"\")","v":""},0]
[]
["Totaal",null,{"$f":"SUM(C130:C142)","v":127231.60799999999},null,{"$f":"SUM(E130:E142)","v":63781.607999999993}]
[]
["N opname",null,{"$f":"C144/6.25","v":20357.057279999997},null,{"$f":"E144/6.25","v":10205.057279999999},null,{"$f":"(E76/0.9*'Aug voer'!M6/6.25)","v":8546.7186832924854}]
[]
["P",{"$f":"B130","v":"Gkuil balen 2016 2e snede"},{"$f":"IF('Aug voer'!C9>0,VLOOKUP('Aug voer'!B9,Voedermiddelen!$A$4:$K$75,10,FALSE)*C66,\"\")","v":549.96479999999985},{"$f":"D130","v":"Gkuil balen 2016 2e snede"},{"$f":"IF('Aug voer'!H9>0,VLOOKUP('Aug voer'!G9,Voedermiddelen!$A$4:$K$75,10,FALSE)*E66,\"\")","v":549.96479999999985}]
[null,{"$f":"B131","v":"Mkuil 1"},{"$f":"IF('Aug voer'!C10>0,VLOOKUP('Aug voer'!B10,Voedermiddelen!$A$4:$K$75,10,FALSE)*C67,\"\")","v":992.86387199999979},"Mkuil 1",{"$f":"IF('Aug voer'!H10>0,VLOOKUP('Aug voer'!G10,Voedermiddelen!$A$4:$K$75,10,FALSE)*E67,\"\")","v":992.86387199999979}]
[null,"2017 1e 2e snede",{"$f":"IF('Aug voer'!C11>0,VLOOKUP('Aug voer'!B11,Voedermiddelen!$A$4:$K$75,10,FALSE)*C68,\"\")","v":289.2672},"2017 1e 2e snede",{"$f":"IF('Aug voer'!H11>0,VLOOKUP('Aug voer'!G11,Voedermiddelen!$A$4:$K$75,10,FALSE)*E68,\"\")","v":289.2672}]
[null,"Bierbostel",{"$f":"IF('Aug voer'!C12>0,VLOOKUP('Aug voer'!B12,Voedermiddelen!$A$4:$K$75,10,FALSE)*C69,\"\")","v":191.31840000000003},"Bierbostel",{"$f":"IF('Aug voer'!H12>0,VLOOKUP('Aug voer'!G12,Voedermiddelen!$A$4:$K$75,10,FALSE)*E69,\"\")","v":191.31840000000003}]
[null,"Overig 2",{"$f":"IF('Aug voer'!C13>0,VLOOKUP('Aug voer'!B13,Voedermiddelen!$A$4:$K$75,10,FALSE)*C70,\"\")","v":""},"Overig 2",{"$f":"IF('Aug voer'!H13>0,VLOOKUP('Aug voer'!G13,Voedermiddelen!$A$4:$K$75,10,FALSE)*E70,\"\")","v":""}]
[null,"BP 6",{"$f":"IF('Aug voer'!C14>0,VLOOKUP('Aug voer'!B14,Voedermiddelen!$A$4:$K$75,10,FALSE)*C71,\"\")","v":""},"BP 6",{"$f":"IF('Aug voer'!H14>0,VLOOKUP('Aug voer'!G14,Voedermiddelen!$A$4:$K$75,10,FALSE)*E71,\"\")","v":""}]
[null,0,{"$f":"IF('Aug voer'!C15>0,VLOOKUP('Aug voer'!B15,Voedermiddelen!$A$4:$K$75,10,FALSE)*C72,\"\")","v":""},0,{"$f":"IF('Aug voer'!H15>0,VLOOKUP('Aug voer'!G15,Voedermiddelen!$A$4:$K$75,10,FALSE)*E72,\"\")","v":""}]
[null,0,{"$f":"IF('Aug voer'!C16>0,VLOOKUP('Aug voer'!B16,Voedermiddelen!$A$4:$K$75,10,FALSE)*C73,\"\")","v":""},0,{"$f":"IF('Aug voer'!H16>0,VLOOKUP('Aug voer'!G16,Voedermiddelen!$A$4:$K$75,10,FALSE)*E73,\"\")","v":""}]
[null,0,{"$f":"IF('Aug voer'!C17>0,VLOOKUP('Aug voer'!B17,Voedermiddelen!$A$4:$K$75,10,FALSE)*C74,\"\")","v":""},0,{"$f":"IF('Aug voer'!H17>0,VLOOKUP('Aug voer'!G17,Voedermiddelen!$A$4:$K$75,10,FALSE)*E74,\"\")","v":""}]
[null,0,{"$f":"IF('Aug voer'!C18>0,VLOOKUP('Aug voer'!B18,Voedermiddelen!$A$4:$K$75,10,FALSE)*C75,\"\")","v":""},0,{"$f":"IF('Aug voer'!H18>0,VLOOKUP('Aug voer'!G18,Voedermiddelen!$A$4:$K$75,10,FALSE)*E75,\"\")","v":""}]
[null,{"$f":"B140","v":"KV 1"},{"$f":"IF('Aug voer'!C20>0,VLOOKUP('Aug voer'!B20,Voedermiddelen!$A$4:$K$75,10,FALSE)*C76,\"\")","v":360},0]
[null,{"$f":"B141","v":"Melkbrok BM"},{"$f":"IF('Aug voer'!C21>0,VLOOKUP('Aug voer'!B21,Voedermiddelen!$A$4:$K$75,10,FALSE)*C77,\"\")","v":900},0]
[null,{"$f":"B142","v":0},{"$f":"IF('Aug voer'!C22>0,VLOOKUP('Aug voer'!B22,Voedermiddelen!$A$4:$K$75,10,FALSE)*C78,\"\")","v":""},0]
[]
["Totaal",null,{"$f":"SUM(C148:C160)","v":3283.414272},null,{"$f":"SUM(E148:E160)","v":2023.4142719999998},null,{"$f":"(E76/0.9*'Aug voer'!M7)","v":677.05708341155992}]

{"sheet":"Aug Excretie","index":42,"n_rows":25,"n_cols":5,"rows_kept":25,"cut":false,"hidden":true,"merged":[]}
["Veestapel"]
[null,null,{"$f":"'Aug vee+melk'!C6","v":"Augustus gerealiseerd"},null,{"$f":"'Aug vee+melk'!E6","v":"Augustus prognose"}]
[]
[]
["Excretie (kg/dier/dag)"]
[null,null,"N",null,"N"]
["Opname",null,{"$f":"'Aug Voeropname'!C2*'Aug Voeropname'!C7*0.001","v":0.51507288637792548},null,{"$f":"'Aug Voeropname'!E2*'Aug Voeropname'!E7*0.001+'Aug Voeropname'!G146*0.001/'Aug vee+melk'!E2","v":0.54783733071279217}]
["Gem opname 7 dgn",null,{"$f":"AVERAGE(C7:F7)","v":0.53145510854535882},null,{"$f":"AVERAGE(E7)","v":0.54783733071279217}]
["Productie",null,{"$f":"'Aug vee+melk'!C22*'Aug vee+melk'!C10/6.38","v":0.13587955318115591},null,{"$f":"'Aug vee+melk'!E22*'Aug vee+melk'!E10/6.38","v":0.14197288981771741}]
["Vastlegging",null,{"$f":"1.4/365","v":3.8356164383561643E-3},null,{"$f":"1.4/365","v":3.8356164383561643E-3}]
["Onder de staart",null,{"$f":"C7-C9-C10","v":0.3753577167584134},null,{"$f":"E7-E9-E10","v":0.40202882445671861}]
["Vervluchtiging",null,{"$f":"C11*0.1175","v":4.410453171911357E-2},null,{"$f":"E11*0.1175","v":4.7238386873664433E-2}]
["Gemeten netto excretie",null,{"$f":"C11-C12","v":0.33125318503929985},null,{"$f":"E11-E12","v":0.35479043758305417}]
[]
[null,null,"P",null,"P"]
["Opname",null,{"$f":"'Aug Voeropname'!C2*'Aug Voeropname'!C8/1000","v":7.7643914778373208E-2},null,{"$f":"'Aug Voeropname'!E2*'Aug Voeropname'!E8/1000+'Aug Voeropname'!G162*0.001/'Aug vee+melk'!E2","v":7.6722701182557418E-2}]
["Gem opname 7 dgn",null,{"$f":"AVERAGE(C16:F16)","v":7.7183307980465313E-2},null,{"$f":"AVERAGE(E16)","v":7.6722701182557418E-2}]
["Productie",null,{"$f":"'Aug vee+melk'!C22*0.9/1000","v":2.2165352112676059E-2},null,{"$f":"'Aug vee+melk'!E22*0.9/1000","v":2.3291666666666669E-2}]
["Vastlegging",null,{"$f":"0.5/365","v":1.3698630136986301E-3},null,{"$f":"0.5/365","v":1.3698630136986301E-3}]
["Onder de staart",null,{"$f":"C16-C18-C19","v":5.4108699651998514E-2},null,{"$f":"E16-E18-E19","v":5.2061171502192118E-2}]
["Vervluchtiging"]
["Gemeten netto excretie",null,{"$f":"C20","v":5.4108699651998514E-2},null,{"$f":"E20","v":5.2061171502192118E-2}]
[]
["N excretie per ton meetmelk (kg)",null,{"$f":"C13/'Aug vee+melk'!C21*1000","v":12.51151691842562},null,{"$f":"E13/'Aug vee+melk'!E21*1000","v":12.263409515249375}]
["P excretie per ton meetmelk (kg)",null,{"$f":"C22/'Aug vee+melk'!C21*1000","v":2.0436993263919043},null,{"$f":"E22/'Aug vee+melk'!E21*1000","v":1.7995058444199357}]

{"sheet":"Aug kengetallen","index":43,"n_rows":106,"n_cols":6,"rows_kept":106,"cut":false,"hidden":true,"merged":[]}
["Rantsoen"]
["Datum",null,{"$f":"'Aug voer'!B3","v":"Augustus gerealiseerd"},null,{"$f":"'Aug voer'!G3","v":"Augustus prognose"}]
[]
[{"$f":"'Aug Voeropname'!A2","v":"DS opname/koe"},null,{"$f":"'Aug Voeropname'!C2","v":20.110117276774957},null,{"$f":"'Aug Voeropname'!E2","v":21.198291746327076}]
[{"$f":"'Aug Voeropname'!A3","v":"VEM"},null,{"$f":"'Aug Voeropname'!C3","v":930.84044670886408},null,{"$f":"'Aug Voeropname'!E3","v":940.36680652541133}]
[{"$f":"'Aug Voeropname'!A4","v":"DVE"},null,{"$f":"'Aug Voeropname'!C4","v":{"$error":"#N/A"}},null,{"$f":"'Aug Voeropname'!E4","v":{"$error":"#N/A"}}]
[{"$f":"'Aug Voeropname'!A5","v":"OEB"},null,{"$f":"'Aug Voeropname'!C5","v":{"$error":"#N/A"}},null,{"$f":"'Aug Voeropname'!E5","v":{"$error":"#N/A"}}]
[{"$f":"'Aug Voeropname'!A6","v":"RE"},null,{"$f":"'Aug Voeropname'!C6","v":160.07890434233684},null,{"$f":"'Aug Voeropname'!E6","v":125.00177125787523}]
[{"$f":"'Aug Voeropname'!A7","v":"N"},null,{"$f":"'Aug Voeropname'!C7","v":25.612624694773896},null,{"$f":"'Aug Voeropname'!E7","v":20.000283401260035}]
[{"$f":"'Aug Voeropname'!A8","v":"P"},null,{"$f":"'Aug Voeropname'!C8","v":3.8609379403293511},null,{"$f":"'Aug Voeropname'!E8","v":3.1563996044838079}]
[]
["Streefwaarde RE",null,{"$f":"'Aug voer'!H20","v":160}]
["Streefwaarde P",null,{"$f":"'Aug voer'!H21","v":3.6}]
[]
[]
[{"$f":"'Aug Excretie'!A24","v":"N excretie per ton meetmelk (kg)"},null,{"$f":"'Aug Excretie'!C24","v":12.51151691842562},null,{"$f":"'Aug Excretie'!E24","v":12.263409515249375}]
[{"$f":"'Aug Excretie'!A25","v":"P excretie per ton meetmelk (kg)"},null,{"$f":"'Aug Excretie'!C25","v":2.0436993263919043},null,{"$f":"'Aug Excretie'!E25","v":1.7995058444199357}]
[]
[]
["VEM dekking",null,{"$f":"'Aug Voeropname'!C35/'Aug vee+melk'!C27","v":1.03},null,{"$f":"'Aug Voeropname'!E35/'Aug vee+melk'!E27","v":1.03}]
["DVE dekking",null,{"$f":"'Aug Voeropname'!C36/'Aug vee+melk'!C28","v":{"$error":"#N/A"}},null,{"$f":"'Aug Voeropname'!E36/'Aug vee+melk'!E28","v":{"$error":"#N/A"}}]
[]
[]
["Voerefficientie kg meetmelk/kg voer (ds)",null,{"$f":"'Aug vee+melk'!C21/'Aug Voeropname'!C2","v":1.3165443449227117},null,{"$f":"'Aug vee+melk'!E21/'Aug Voeropname'!E2","v":1.3647710770821853}]
["kg krachtvoer per 100 kg (excl bijprod)",null,{"$f":"SUM('Aug Voeropname'!C76:C78)/('Aug vee+melk'!C21*'Aug vee+melk'!C2)*100/0.9","v":19.440571882525443},null,{"$f":"SUM('Aug Voeropname'!E76:E78)/('Aug vee+melk'!E21*'Aug vee+melk'!E2)*100","v":14.281447186648244}]
[]
[]
[{"$f":"A12","v":"Streefwaarde RE"},null,{"$f":"$C$12","v":160},null,{"$f":"$C$12","v":160}]
[{"$f":"A13","v":"Streefwaarde P"},null,{"$f":"$C$13","v":3.6},null,{"$f":"$C$13","v":3.6}]
[]
[]
[]
[]
[{"$f":"A2","v":"Datum"},null,{"$f":"C2","v":"Augustus gerealiseerd"},{"$f":"E2","v":"Augustus prognose"},{"$f":"#REF!","v":{"$error":"#REF!"}},{"$f":"#REF!","v":{"$error":"#REF!"}}]
["00:00:00"]
["DS opname/koe",null,{"$f":"C4","v":20.110117276774957},{"$f":"E4","v":21.198291746327076},{"$f":"#REF!","v":{"$error":"#REF!"}},{"$f":"#REF!","v":{"$error":"#REF!"}}]
["VEM",null,930.84044670886408,940.36680652541133,{"$f":"#REF!","v":{"$error":"#REF!"}},{"$f":"#REF!","v":{"$error":"#REF!"}}]
["DVE",null,{"$error":"#N/A"},{"$error":"#N/A"},{"$f":"#REF!","v":{"$error":"#REF!"}},{"$f":"#REF!","v":{"$error":"#REF!"}}]
["OEB",null,{"$error":"#N/A"},{"$error":"#N/A"},{"$f":"#REF!","v":{"$error":"#REF!"}},{"$f":"#REF!","v":{"$error":"#REF!"}}]
["RE",null,160.07890434233684,125.00177125787523,{"$f":"#REF!","v":{"$error":"#REF!"}},{"$f":"#REF!","v":{"$error":"#REF!"}}]
["N",null,25.612624694773896,20.000283401260035,{"$f":"#REF!","v":{"$error":"#REF!"}},{"$f":"#REF!","v":{"$error":"#REF!"}}]
["P",null,3.8609379403293511,3.1563996044838079,{"$f":"#REF!","v":{"$error":"#REF!"}},{"$f":"#REF!","v":{"$error":"#REF!"}}]
[{"$f":"A15","v":"00:00:00"}]
["N excretie per ton meetmelk (kg)",null,{"$f":"C16","v":12.51151691842562},{"$f":"E16","v":12.263409515249375},{"$f":"#REF!","v":{"$error":"#REF!"}},{"$f":"#REF!","v":{"$error":"#REF!"}}]
["P excretie per ton meetmelk (kg)",null,2.0436993263919043,{"$f":"E17","v":1.7995058444199357},{"$f":"#REF!","v":{"$error":"#REF!"}},{"$f":"#REF!","v":{"$error":"#REF!"}}]
["00:00:00",null,{"$f":"1000/C45/2.29","v":213.67195118587841},{"$f":"1000/D45/2.29","v":242.66729894849897},{"$f":"1000/E45/2.29","v":{"$error":"#REF!"}},{"$f":"1000/F45/2.29","v":{"$error":"#REF!"}}]
[]
[]
["Rantsoen"]
[]
["Kuilgras",null,{"$f":"IF('Aug Voeropname'!$A66='Aug kengetallen'!$A51,'Aug Voeropname'!C66,\"\")","v":166.65599999999998},null,{"$f":"IF('Aug Voeropname'!$A66='Aug kengetallen'!$A51,'Aug Voeropname'!E66,\"\")","v":166.65599999999998}]
["Kuilgras",null,{"$f":"IF('Aug Voeropname'!$A67='Aug kengetallen'!$A52,'Aug Voeropname'!C67,\"\")","v":""},null,{"$f":"IF('Aug Voeropname'!$A67='Aug kengetallen'!$A52,'Aug Voeropname'!E67,\"\")","v":""}]
["Kuilgras",null,{"$f":"IF('Aug Voeropname'!$A68='Aug kengetallen'!$A53,'Aug Voeropname'!C68,\"\")","v":80.352000000000004},null,{"$f":"IF('Aug Voeropname'!$A68='Aug kengetallen'!$A53,'Aug Voeropname'!E68,\"\")","v":80.352000000000004}]
["Kuilgras",null,{"$f":"IF('Aug Voeropname'!$A69='Aug kengetallen'!$A54,'Aug Voeropname'!C69,\"\")","v":""},null,{"$f":"IF('Aug Voeropname'!$A69='Aug kengetallen'!$A54,'Aug Voeropname'!E69,\"\")","v":""}]
["Kuilgras",null,{"$f":"IF('Aug Voeropname'!$A70='Aug kengetallen'!$A55,'Aug Voeropname'!C70,\"\")","v":""},null,{"$f":"IF('Aug Voeropname'!$A70='Aug kengetallen'!$A55,'Aug Voeropname'!E70,\"\")","v":""}]
["Kuilgras",null,{"$f":"IF('Aug Voeropname'!$A71='Aug kengetallen'!$A56,'Aug Voeropname'!C71,\"\")","v":""},null,{"$f":"IF('Aug Voeropname'!$A71='Aug kengetallen'!$A56,'Aug Voeropname'!E71,\"\")","v":""}]
["Kuilgras",null,{"$f":"IF('Aug Voeropname'!$A72='Aug kengetallen'!$A57,'Aug Voeropname'!C72,\"\")","v":""},null,{"$f":"IF('Aug Voeropname'!$A72='Aug kengetallen'!$A57,'Aug Voeropname'!E72,\"\")","v":""}]
["Kuilgras",null,{"$f":"IF('Aug Voeropname'!$A73='Aug kengetallen'!$A58,'Aug Voeropname'!C73,\"\")","v":""},null,{"$f":"IF('Aug Voeropname'!$A73='Aug kengetallen'!$A58,'Aug Voeropname'!E73,\"\")","v":""}]
["Kuilgras",null,{"$f":"IF('Aug Voeropname'!$A74='Aug kengetallen'!$A59,'Aug Voeropname'!C74,\"\")","v":""},null,{"$f":"IF('Aug Voeropname'!$A74='Aug kengetallen'!$A59,'Aug Voeropname'!E74,\"\")","v":""}]
["Totaal kuilgras",null,{"$f":"SUM(C51:C59)","v":247.00799999999998},null,{"$f":"SUM(E51:E59)","v":247.00799999999998}]
[]
["Snijmais",null,{"$f":"IF('Aug Voeropname'!$A66='Aug kengetallen'!$A62,'Aug Voeropname'!C66,\"\")","v":""},null,{"$f":"IF('Aug Voeropname'!$A66='Aug kengetallen'!$A62,'Aug Voeropname'!E66,\"\")","v":""}]
["Snijmais",null,{"$f":"IF('Aug Voeropname'!$A67='Aug kengetallen'!$A63,'Aug Voeropname'!C67,\"\")","v":322.35839999999996},null,{"$f":"IF('Aug Voeropname'!$A67='Aug kengetallen'!$A63,'Aug Voeropname'!E67,\"\")","v":322.35839999999996}]
["Snijmais",null,{"$f":"IF('Aug Voeropname'!$A68='Aug kengetallen'!$A64,'Aug Voeropname'!C68,\"\")","v":""},null,{"$f":"IF('Aug Voeropname'!$A68='Aug kengetallen'!$A64,'Aug Voeropname'!E68,\"\")","v":""}]
["Snijmais",null,{"$f":"IF('Aug Voeropname'!$A69='Aug kengetallen'!$A65,'Aug Voeropname'!C69,\"\")","v":""},null,{"$f":"IF('Aug Voeropname'!$A69='Aug kengetallen'!$A65,'Aug Voeropname'!E69,\"\")","v":""}]
["Snijmais",null,{"$f":"IF('Aug Voeropname'!$A70='Aug kengetallen'!$A66,'Aug Voeropname'!C70,\"\")","v":""},null,{"$f":"IF('Aug Voeropname'!$A70='Aug kengetallen'!$A66,'Aug Voeropname'!E70,\"\")","v":""}]
["Snijmais",null,{"$f":"IF('Aug Voeropname'!$A71='Aug kengetallen'!$A67,'Aug Voeropname'!C71,\"\")","v":""},null,{"$f":"IF('Aug Voeropname'!$A71='Aug kengetallen'!$A67,'Aug Voeropname'!E71,\"\")","v":""}]
["Snijmais",null,{"$f":"IF('Aug Voeropname'!$A72='Aug kengetallen'!$A68,'Aug Voeropname'!C72,\"\")","v":""},null,{"$f":"IF('Aug Voeropname'!$A72='Aug kengetallen'!$A68,'Aug Voeropname'!E72,\"\")","v":""}]
["Snijmais",null,{"$f":"IF('Aug Voeropname'!$A73='Aug kengetallen'!$A69,'Aug Voeropname'!C73,\"\")","v":""},null,{"$f":"IF('Aug Voeropname'!$A73='Aug kengetallen'!$A69,'Aug Voeropname'!E73,\"\")","v":""}]
["Snijmais",null,{"$f":"IF('Aug Voeropname'!$A74='Aug kengetallen'!$A70,'Aug Voeropname'!C74,\"\")","v":""},null,{"$f":"IF('Aug Voeropname'!$A74='Aug kengetallen'!$A70,'Aug Voeropname'!E74,\"\")","v":""}]
["Totaal snijmais",null,{"$f":"SUM(C62:C70)","v":322.35839999999996},null,{"$f":"SUM(E62:E70)","v":322.35839999999996}]
[]
["OverigRuwvoer",null,{"$f":"IF('Aug Voeropname'!$A66='Aug kengetallen'!$A73,'Aug Voeropname'!C66,\"\")","v":""},null,{"$f":"IF('Aug Voeropname'!$A66='Aug kengetallen'!$A73,'Aug Voeropname'!E66,\"\")","v":""}]
["OverigRuwvoer",null,{"$f":"IF('Aug Voeropname'!$A67='Aug kengetallen'!$A74,'Aug Voeropname'!C67,\"\")","v":""},null,{"$f":"IF('Aug Voeropname'!$A67='Aug kengetallen'!$A74,'Aug Voeropname'!E67,\"\")","v":""}]
["OverigRuwvoer",null,{"$f":"IF('Aug Voeropname'!$A68='Aug kengetallen'!$A75,'Aug Voeropname'!C68,\"\")","v":""},null,{"$f":"IF('Aug Voeropname'!$A68='Aug kengetallen'!$A75,'Aug Voeropname'!E68,\"\")","v":""}]
["OverigRuwvoer",null,{"$f":"IF('Aug Voeropname'!$A69='Aug kengetallen'!$A76,'Aug Voeropname'!C69,\"\")","v":""},null,{"$f":"IF('Aug Voeropname'!$A69='Aug kengetallen'!$A76,'Aug Voeropname'!E69,\"\")","v":""}]
["OverigRuwvoer",null,{"$f":"IF('Aug Voeropname'!$A70='Aug kengetallen'!$A77,'Aug Voeropname'!C70,\"\")","v":""},null,{"$f":"IF('Aug Voeropname'!$A70='Aug kengetallen'!$A77,'Aug Voeropname'!E70,\"\")","v":""}]
["OverigRuwvoer",null,{"$f":"IF('Aug Voeropname'!$A71='Aug kengetallen'!$A78,'Aug Voeropname'!C71,\"\")","v":""},null,{"$f":"IF('Aug Voeropname'!$A71='Aug kengetallen'!$A78,'Aug Voeropname'!E71,\"\")","v":""}]
["OverigRuwvoer",null,{"$f":"IF('Aug Voeropname'!$A72='Aug kengetallen'!$A79,'Aug Voeropname'!C72,\"\")","v":""},null,{"$f":"IF('Aug Voeropname'!$A72='Aug kengetallen'!$A79,'Aug Voeropname'!E72,\"\")","v":""}]
["OverigRuwvoer",null,{"$f":"IF('Aug Voeropname'!$A73='Aug kengetallen'!$A80,'Aug Voeropname'!C73,\"\")","v":""},null,{"$f":"IF('Aug Voeropname'!$A73='Aug kengetallen'!$A80,'Aug Voeropname'!E73,\"\")","v":""}]
["OverigRuwvoer",null,{"$f":"IF('Aug Voeropname'!$A74='Aug kengetallen'!$A81,'Aug Voeropname'!C74,\"\")","v":""},null,{"$f":"IF('Aug Voeropname'!$A74='Aug kengetallen'!$A81,'Aug Voeropname'!E74,\"\")","v":""}]
["Totaal overig Ruwvoer",null,{"$f":"SUM(C73:C81)","v":0},null,{"$f":"SUM(E73:E81)","v":0}]
[]
["Bijproducten",null,{"$f":"IF('Aug Voeropname'!$A66='Aug kengetallen'!$A84,'Aug Voeropname'!C66,\"\")","v":""},null,{"$f":"IF('Aug Voeropname'!$A66='Aug kengetallen'!$A84,'Aug Voeropname'!E66,\"\")","v":""}]
["Bijproducten",null,{"$f":"IF('Aug Voeropname'!$A67='Aug kengetallen'!$A85,'Aug Voeropname'!C67,\"\")","v":""},null,{"$f":"IF('Aug Voeropname'!$A67='Aug kengetallen'!$A85,'Aug Voeropname'!E67,\"\")","v":""}]
["Bijproducten",null,{"$f":"IF('Aug Voeropname'!$A68='Aug kengetallen'!$A86,'Aug Voeropname'!C68,\"\")","v":""},null,{"$f":"IF('Aug Voeropname'!$A68='Aug kengetallen'!$A86,'Aug Voeropname'!E68,\"\")","v":""}]
["Bijproducten",null,{"$f":"IF('Aug Voeropname'!$A69='Aug kengetallen'!$A87,'Aug Voeropname'!C69,\"\")","v":36.792000000000002},null,{"$f":"IF('Aug Voeropname'!$A69='Aug kengetallen'!$A87,'Aug Voeropname'!E69,\"\")","v":36.792000000000002}]
["Bijproducten",null,{"$f":"IF('Aug Voeropname'!$A70='Aug kengetallen'!$A88,'Aug Voeropname'!C70,\"\")","v":""},null,{"$f":"IF('Aug Voeropname'!$A70='Aug kengetallen'!$A88,'Aug Voeropname'!E70,\"\")","v":""}]
["Bijproducten",null,{"$f":"IF('Aug Voeropname'!$A71='Aug kengetallen'!$A89,'Aug Voeropname'!C71,\"\")","v":""},null,{"$f":"IF('Aug Voeropname'!$A71='Aug kengetallen'!$A89,'Aug Voeropname'!E71,\"\")","v":""}]
["Bijproducten",null,{"$f":"IF('Aug Voeropname'!$A72='Aug kengetallen'!$A90,'Aug Voeropname'!C72,\"\")","v":""},null,{"$f":"IF('Aug Voeropname'!$A72='Aug kengetallen'!$A90,'Aug Voeropname'!E72,\"\")","v":""}]
["Bijproducten",null,{"$f":"IF('Aug Voeropname'!$A73='Aug kengetallen'!$A91,'Aug Voeropname'!C73,\"\")","v":""},null,{"$f":"IF('Aug Voeropname'!$A73='Aug kengetallen'!$A91,'Aug Voeropname'!E73,\"\")","v":""}]
["Bijproducten",null,{"$f":"IF('Aug Voeropname'!$A74='Aug kengetallen'!$A92,'Aug Voeropname'!C74,\"\")","v":""},null,{"$f":"IF('Aug Voeropname'!$A74='Aug kengetallen'!$A92,'Aug Voeropname'!E74,\"\")","v":""}]
["Totaal Bijproducten",null,{"$f":"SUM(C84:C92)","v":36.792000000000002},null,{"$f":"SUM(E84:E92)","v":36.792000000000002}]
[]
["Krachtvoer",null,{"$f":"SUM('Aug Voeropname'!C76:C78)","v":315},null,{"$f":"SUM('Aug Voeropname'!E76:E78)","v":285.08999999999997}]
[]
["Vers gras",null,{"$f":"'Aug Voeropname'!C31*('Aug vee+melk'!C2+'Aug vee+melk'!C3)","v":506.65992665102203},null,{"$f":"'Aug Voeropname'!E31*('Aug vee+melk'!E2+'Aug vee+melk'!E3)","v":635.02860573554949}]
[]
["Totaal",null,{"$f":"C95+C93+C82+C71+C60+C97","v":1427.8183266510221},null,{"$f":"E95+E93+E82+E71+E60+E97","v":1526.2770057355494}]
[]
["Vers gras",null,{"$f":"C97/C99","v":0.35484901488791193},null,{"$f":"E97/E99","v":0.41606379664320109}]
["Aandeel kuilgras",null,{"$f":"C60/C$99","v":0.17299679895506206},null,{"$f":"E60/E$99","v":0.16183693986856659}]
["Aandeel snijmais",null,{"$f":"C71/C$99","v":0.22576989942137693},null,{"$f":"E71/E$99","v":0.21120569777872511}]
["Aandeel overig ruwvoer",null,{"$f":"C82/C$99","v":0},null,{"$f":"E82/E$99","v":0}]
["Aandeel bijproducten",null,{"$f":"C93/C$99","v":2.5767984142840084E-2},null,{"$f":"E93/E$99","v":2.4105715975370444E-2}]
["Aandeel krachtvoer",null,{"$f":"C95/C$99","v":0.22061630259280893},null,{"$f":"E95/E$99","v":0.18678784973413676}]

{"sheet":"Juli Voeropname","index":44,"n_rows":162,"n_cols":18,"rows_kept":162,"cut":false,"hidden":true,"merged":[]}
["Gem rantsoen gehaltes (d dgn)",null,{"$f":"'Juli voer'!B3","v":"Juli gerealiseerd"},null,{"$f":"'Juli voer'!G3","v":"Juli prognose"}]
["DS opname/koe",null,{"$f":"C34","v":20.229125733309392},null,{"$f":"E34","v":20.664676712430968}]
["VEM",null,{"$f":"C12","v":944.01802885931102},null,{"$f":"AVERAGE(E12:E12)","v":954.72149295327529}]
["DVE",null,{"$f":"AVERAGE(C13)","v":61.924887695399597},null,{"$error":"#N/A"},null,null,null,null,null,null,null,1,null,null,null,null,"Voedermiddelen"]
["OEB",null,{"$f":"AVERAGE(C14)","v":{"$error":"#N/A"}},null,{"$error":"#N/A"},null,null,null,null,null,null,null,2,null,null,null,null,"Kuilgras"]
["RE",null,{"$f":"AVERAGE(C15)","v":153.77372442830011},null,118.40211845881642,null,null,null,null,null,null,null,null,null,null,null,null,"Snijmais"]
["N",null,{"$f":"AVERAGE(C16)","v":24.603795908528017},null,18.944338953410629,null,null,null,null,null,null,null,"Vem toeslag weidegang",null,1.03,null,null,"OverigRuwvoer"]
["P",null,3.7485596877889029,null,3.0482798348151383,null,null,null,null,null,null,null,null,null,null,null,null,"Bijproducten"]
[null,null,null,null,null,null,null,null,null,null,null,null,null,null,null,null,null,"Krachtvoer"]
[]
["Rantsoen gehaltes (incl. weidegras)"]
["VEM",null,{"$f":"C35/C34","v":944.01802885931102},null,{"$f":"E35/E34","v":954.72149295327529},null,null,null,null,null,null,null,null,null,null,null,null,"Let op bij beperkt weiden is deze opname niet realistisch!"]
["DVE",null,{"$f":"C36/C34","v":61.924887695399597},null,{"$f":"E36/E34","v":{"$error":"#N/A"}},null,null,null,null,null,null,null,null,null,null,null,null,"Let op VEM dekking te laag!"]
["OEB",null,{"$f":"C37","v":{"$error":"#N/A"}},null,{"$f":"E37","v":{"$error":"#N/A"}}]
["RE",null,{"$f":"C38/C34","v":153.77372442830011},null,{"$f":"E38/E34","v":118.40211845881642}]
["N",null,{"$f":"C39/C34","v":24.603795908528017},null,{"$f":"E39/E34","v":18.944338953410629}]
["P",null,{"$f":"C40/C34","v":3.7485596877889029},null,{"$f":"E40/E34","v":3.0482798348151383}]
[]
[]
[]
[]
["kg ds",null,{"$f":"C55/SUM('Juli vee+melk'!C2:C3)","v":11.77104718309859},null,{"$f":"E55/SUM('Juli vee+melk'!E2:E3)","v":10.708249315068493}]
["Vemopname ex weidegras",null,{"$f":"C22*C45","v":11061.484777605634},null,{"$f":"E22*E45","v":10270.404974794519}]
[]
[]
[]
["VEM behoefte",null,{"$f":"IF('Juli voer'!B4=1,'Juli vee+melk'!C27*'Juli Voeropname'!O7,'Juli vee+melk'!C27)","v":19096.659400305896},null,{"$f":"IF('Juli voer'!G4=1,'Juli vee+melk'!E27*'Juli Voeropname'!O7,'Juli vee+melk'!E27)","v":19729.011002288873}]
["Behoefte-opname",null,{"$f":"C27-'Juli Voeropname'!C23","v":8035.1746227002623},null,{"$f":"E27-'Juli Voeropname'!E23","v":9458.6060274943538}]
[null,null,{"$f":"C28/VLOOKUP('Juli voer'!B5,Weidegras!$A$5:$J$119,4,FALSE)","v":8.4580785502108018},null,{"$f":"E28/VLOOKUP('Juli voer'!G5,Weidegras!$A$5:$J$119,4,FALSE)","v":9.9564273973624768}]
[null,null,{"$f":"IF(C29>0,C29,0)","v":8.4580785502108018},null,{"$f":"IF(E29>0,E29,0)","v":9.9564273973624768}]
["Weidegrasopname/koe",null,{"$f":"IF('Juli voer'!B4=1,C30,0)","v":8.4580785502108018},null,{"$f":"IF('Juli voer'!G4=1,E30,0)","v":9.9564273973624768}]
[]
["Rantsoenopname incl weidegras"]
["droge stof",null,{"$f":"C22+C31","v":20.229125733309392},null,{"$f":"E22+E31","v":20.664676712430968}]
["VEM",null,{"$f":"C45*C22+C31*VLOOKUP('Juli voer'!B5,Weidegras!$A$6:$J$180,4,FALSE)","v":19096.659400305896},null,{"$f":"E45*E22+E31*VLOOKUP('Juli voer'!G5,Weidegras!$A$6:$J$180,4,FALSE)","v":19729.011002288873}]
["DVE",null,{"$f":"C46*C22+$C$31*VLOOKUP('Juli voer'!B5,Weidegras!$A$5:$J$150,5,FALSE)","v":1252.6863392113021},null,{"$f":"E46*E22+$C$31*VLOOKUP('Juli voer'!G5,Weidegras!$A$5:$J$150,5,FALSE)","v":{"$error":"#N/A"}}]
["OEB",null,{"$f":"C22*C47+$C$31*VLOOKUP('Juli voer'!B5,Weidegras!$A$6:$J$151,6,FALSE)","v":{"$error":"#N/A"}},null,{"$f":"E22*E47+$C$31*VLOOKUP('Juli voer'!G5,Weidegras!$A$6:$J$151,6,FALSE)","v":{"$error":"#N/A"}}]
["RE",null,{"$f":"C48*C22+C31*VLOOKUP('Juli voer'!$B$5,Weidegras!$A$6:$J$181,7,FALSE)","v":3110.7080059393529},null,{"$f":"E48*E22+E31*VLOOKUP('Juli voer'!$B$5,Weidegras!$A$6:$J$181,7,FALSE)","v":2446.7415000183964}]
["N",null,{"$f":"C38/6.25","v":497.71328095029645},null,{"$f":"E38/6.25","v":391.47864000294345}]
["P",null,{"$f":"C50*C22+C31*VLOOKUP('Juli voer'!$B$5,Weidegras!$A$6:$J$183,10,FALSE)","v":75.830085243096718},null,{"$f":"E50*E22+E31*VLOOKUP('Juli voer'!$B$5,Weidegras!$A$6:$J$183,10,FALSE)","v":62.991717315477302}]
[]
[]
["Stalrantsoen gehaltes"]
["droge stof"]
["VEM",null,{"$f":"C56/C$55","v":939.71968725843033},null,{"$f":"E56/E$55","v":959.11149176758101}]
["DVE",null,{"$f":"C57/C$55*1000","v":51.09267523017057},null,{"$f":"E57/E$55*1000","v":{"$error":"#N/A"}}]
["OEB",null,{"$f":"C58/C$55","v":{"$error":"#N/A"}},null,{"$f":"E58/E$55","v":{"$error":"#N/A"}}]
["RE",null,{"$f":"C59/C$55","v":134.92885061083575},null,61.128999636946133]
["N",null,{"$f":"C60/C$55","v":21.58861609773372},null,9.7806399419113816]
["P",null,{"$f":"C61/C$55","v":3.5678874095888293},null,2.1633795632147379]
[]
[]
[]
["Stalrantsoen opname"]
["droge stof (kg)",null,{"$f":"C80","v":835.74434999999983},null,781.70219999999995]
["VEM",null,{"$f":"C96","v":785365.41920999996},null,749739.5631599999]
["DVE",null,{"$f":"C112","v":42.700414649999992},null,{"$f":"E112","v":{"$error":"#N/A"}}]
["OEB",null,{"$f":"C128","v":{"$error":"#N/A"}},null,{"$f":"E128","v":{"$error":"#N/A"}}]
["RE",null,{"$f":"C144","v":112766.02455},null,{"$f":"E144","v":47784.67349999999}]
["N",null,{"$f":"C146","v":18042.563928},null,{"$f":"E146","v":7645.5477599999986}]
["P",null,{"$f":"C162","v":2981.8417439999994},null,{"$f":"E162","v":1691.1185639999994}]
[]
[]
[]
["Drogestof opname"]
[{"$f":"'Juli voer'!A9","v":"Kuilgras"},{"$f":"'Juli voer'!B9","v":"Gkuil balen 2016 2e snede"},{"$f":"IF('Juli voer'!C9>0,VLOOKUP('Juli voer'!B9,Voedermiddelen!$A$4:$K$75,3,FALSE)*'Juli voer'!C9*(1-'Juli voer'!$B$6),\"\")","v":151.55279999999999},{"$f":"'Juli voer'!G9","v":"Gkuil balen 2016 2e snede"},{"$f":"IF('Juli voer'!H9>0,VLOOKUP('Juli voer'!G9,Voedermiddelen!$A$4:$K$75,3,FALSE)*'Juli voer'!H9*(1-'Juli voer'!$G$6),\"\")","v":151.55279999999999}]
[{"$f":"'Juli voer'!A10","v":"Snijmais"},{"$f":"'Juli voer'!B10","v":"Mkuil 1"},{"$f":"IF('Juli voer'!C10>0,VLOOKUP('Juli voer'!B10,Voedermiddelen!$A$4:$K$75,3,FALSE)*'Juli voer'!C10*(1-'Juli voer'!$B$6),\"\")","v":325.71629999999993},{"$f":"'Juli voer'!G10","v":"Mkuil 1"},{"$f":"IF('Juli voer'!H10>0,VLOOKUP('Juli voer'!G10,Voedermiddelen!$A$4:$K$75,3,FALSE)*'Juli voer'!H10*(1-'Juli voer'!$G$6),\"\")","v":325.71629999999993}]
[{"$f":"'Juli voer'!A11","v":"OverigRuwvoer"},{"$f":"'Juli voer'!B11","v":"Overig 1"},{"$f":"IF('Juli voer'!C11>0,VLOOKUP('Juli voer'!B11,Voedermiddelen!$A$4:$K$75,3,FALSE)*'Juli voer'!C11*(1-'Juli voer'!$B$6),\"\")","v":""},{"$f":"'Juli voer'!G11","v":"Overig 1"},{"$f":"IF('Juli voer'!H11>0,VLOOKUP('Juli voer'!G11,Voedermiddelen!$A$4:$K$75,3,FALSE)*'Juli voer'!H11*(1-'Juli voer'!$G$6),\"\")","v":""}]
[{"$f":"'Juli voer'!A12","v":"Bijproducten"},{"$f":"'Juli voer'!B12","v":"Bierbostel"},{"$f":"IF('Juli voer'!C12>0,VLOOKUP('Juli voer'!B12,Voedermiddelen!$A$4:$K$75,3,FALSE)*'Juli voer'!C12*(1-'Juli voer'!$B$6),\"\")","v":37.175249999999998},{"$f":"'Juli voer'!G12","v":"Bierbostel"},{"$f":"IF('Juli voer'!H12>0,VLOOKUP('Juli voer'!G12,Voedermiddelen!$A$4:$K$75,3,FALSE)*'Juli voer'!H12*(1-'Juli voer'!$G$6),\"\")","v":36.113099999999996}]
[{"$f":"'Juli voer'!A13","v":"OverigRuwvoer"},{"$f":"'Juli voer'!B13","v":"Overig 2"},{"$f":"IF('Juli voer'!C13>0,VLOOKUP('Juli voer'!B13,Voedermiddelen!$A$4:$K$75,3,FALSE)*'Juli voer'!C13*(1-'Juli voer'!$B$6),\"\")","v":""},{"$f":"'Juli voer'!G13","v":"Overig 2"},{"$f":"IF('Juli voer'!H13>0,VLOOKUP('Juli voer'!G13,Voedermiddelen!$A$4:$K$75,3,FALSE)*'Juli voer'!H13*(1-'Juli voer'!$G$6),\"\")","v":""}]
[{"$f":"'Juli voer'!A14","v":"Bijproducten"},{"$f":"'Juli voer'!B14","v":"BP 6"},{"$f":"IF('Juli voer'!C14>0,VLOOKUP('Juli voer'!B14,Voedermiddelen!$A$4:$K$75,3,FALSE)*'Juli voer'!C14*(1-'Juli voer'!$B$6),\"\")","v":""},{"$f":"'Juli voer'!G14","v":"BP 6"},{"$f":"IF('Juli voer'!H14>0,VLOOKUP('Juli voer'!G14,Voedermiddelen!$A$4:$K$75,3,FALSE)*'Juli voer'!H14*(1-'Juli voer'!$G$6),\"\")","v":""}]
[{"$f":"'Juli voer'!A15","v":0},{"$f":"'Juli voer'!B15","v":0},{"$f":"IF('Juli voer'!C15>0,VLOOKUP('Juli voer'!B15,Voedermiddelen!$A$4:$K$75,3,FALSE)*'Juli voer'!C15*(1-'Juli voer'!$B$6),\"\")","v":""},{"$f":"'Juli voer'!G15","v":0},{"$f":"IF('Juli voer'!H15>0,VLOOKUP('Juli voer'!G15,Voedermiddelen!$A$4:$K$75,3,FALSE)*'Juli voer'!H15*(1-'Juli voer'!$G$6),\"\")","v":""}]
[{"$f":"'Juli voer'!A16","v":0},{"$f":"'Juli voer'!B16","v":0},{"$f":"IF('Juli voer'!C16>0,VLOOKUP('Juli voer'!B16,Voedermiddelen!$A$4:$K$75,3,FALSE)*'Juli voer'!C16*(1-'Juli voer'!$B$6),\"\")","v":""},{"$f":"'Juli voer'!G16","v":0},{"$f":"IF('Juli voer'!H16>0,VLOOKUP('Juli voer'!G16,Voedermiddelen!$A$4:$K$75,3,FALSE)*'Juli voer'!H16*(1-'Juli voer'!$G$6),\"\")","v":""}]
[{"$f":"'Juli voer'!A17","v":0},{"$f":"'Juli voer'!B17","v":0},{"$f":"IF('Juli voer'!C17>0,VLOOKUP('Juli voer'!B17,Voedermiddelen!$A$4:$K$75,3,FALSE)*'Juli voer'!C17*(1-'Juli voer'!$B$6),\"\")","v":""},{"$f":"'Juli voer'!G17","v":0},{"$f":"IF('Juli voer'!H17>0,VLOOKUP('Juli voer'!G17,Voedermiddelen!$A$4:$K$75,3,FALSE)*'Juli voer'!H17*(1-'Juli voer'!$G$6),\"\")","v":""}]
[null,{"$f":"'Juli voer'!B18","v":0},{"$f":"IF('Juli voer'!C18>0,VLOOKUP('Juli voer'!B18,Voedermiddelen!$A$4:$K$75,3,FALSE)*'Juli voer'!C18*(1-'Juli voer'!$B$6),\"\")","v":""},{"$f":"'Juli voer'!G18","v":0},{"$f":"IF('Juli voer'!H18>0,VLOOKUP('Juli voer'!G18,Voedermiddelen!$A$4:$K$75,3,FALSE)*'Juli voer'!H18*(1-'Juli voer'!$G$6),\"\")","v":""}]
[null,{"$f":"'Juli voer'!B20","v":"KV 1"},{"$f":"IF('Juli voer'!C20>0,VLOOKUP('Juli voer'!B20,Voedermiddelen!$A$4:$K$75,3,FALSE)*'Juli voer'!C20,\"\")","v":91.8},null,{"$f":"'Juli voer'!H22*'Juli vee+melk'!E15/100*0.9","v":268.32}]
[null,{"$f":"'Juli voer'!B21","v":"Melkbrok BM"},{"$f":"IF('Juli voer'!C21>0,VLOOKUP('Juli voer'!B21,Voedermiddelen!$A$4:$K$75,3,FALSE)*'Juli voer'!C21,\"\")","v":229.5}]
[null,{"$f":"'Juli voer'!B22","v":0},{"$f":"IF('Juli voer'!C22>0,VLOOKUP('Juli voer'!B22,Voedermiddelen!$A$4:$K$75,3,FALSE)*'Juli voer'!C22,\"\")","v":""}]
[]
["Totaal",null,{"$f":"SUM(C66:C78)","v":835.74434999999983},null,{"$f":"SUM(E66:E78)","v":781.70219999999995}]
[]
["VEM",{"$f":"B66","v":"Gkuil balen 2016 2e snede"},{"$f":"IF('Juli voer'!C9>0,VLOOKUP('Juli voer'!B9,Voedermiddelen!$A$4:$K$75,4,FALSE)*C66,\"\")","v":120787.58159999999},{"$f":"D66","v":"Gkuil balen 2016 2e snede"},{"$f":"IF('Juli voer'!H9>0,VLOOKUP('Juli voer'!G9,Voedermiddelen!$A$4:$K$75,4,FALSE)*E66,\"\")","v":120787.58159999999}]
[null,{"$f":"B67","v":"Mkuil 1"},{"$f":"IF('Juli voer'!C10>0,VLOOKUP('Juli voer'!B10,Voedermiddelen!$A$4:$K$75,4,FALSE)*C67,\"\")","v":326432.87585999997},"Mkuil 1",{"$f":"IF('Juli voer'!H10>0,VLOOKUP('Juli voer'!G10,Voedermiddelen!$A$4:$K$75,4,FALSE)*E67,\"\")","v":326432.87585999997}]
[null,"Overig 1",{"$f":"IF('Juli voer'!C11>0,VLOOKUP('Juli voer'!B11,Voedermiddelen!$A$4:$K$75,4,FALSE)*C68,\"\")","v":""},"Overig 1",{"$f":"IF('Juli voer'!H11>0,VLOOKUP('Juli voer'!G11,Voedermiddelen!$A$4:$K$75,4,FALSE)*E68,\"\")","v":""}]
[null,"Bierbostel",{"$f":"IF('Juli voer'!C12>0,VLOOKUP('Juli voer'!B12,Voedermiddelen!$A$4:$K$75,4,FALSE)*C69,\"\")","v":35204.961749999995},"Bierbostel",{"$f":"IF('Juli voer'!H12>0,VLOOKUP('Juli voer'!G12,Voedermiddelen!$A$4:$K$75,4,FALSE)*E69,\"\")","v":34199.105699999993}]
[null,"Overig 2",{"$f":"IF('Juli voer'!C13>0,VLOOKUP('Juli voer'!B13,Voedermiddelen!$A$4:$K$75,4,FALSE)*C70,\"\")","v":""},"Overig 2",{"$f":"IF('Juli voer'!H13>0,VLOOKUP('Juli voer'!G13,Voedermiddelen!$A$4:$K$75,4,FALSE)*E70,\"\")","v":""}]
[null,"BP 6",{"$f":"IF('Juli voer'!C14>0,VLOOKUP('Juli voer'!B14,Voedermiddelen!$A$4:$K$75,4,FALSE)*C71,\"\")","v":""},"BP 6",{"$f":"IF('Juli voer'!H14>0,VLOOKUP('Juli voer'!G14,Voedermiddelen!$A$4:$K$75,4,FALSE)*E71,\"\")","v":""}]
[null,0,{"$f":"IF('Juli voer'!C15>0,VLOOKUP('Juli voer'!B15,Voedermiddelen!$A$4:$K$75,4,FALSE)*C72,\"\")","v":""},0,{"$f":"IF('Juli voer'!H15>0,VLOOKUP('Juli voer'!G15,Voedermiddelen!$A$4:$K$75,4,FALSE)*E72,\"\")","v":""}]
[null,0,{"$f":"IF('Juli voer'!C16>0,VLOOKUP('Juli voer'!B16,Voedermiddelen!$A$4:$K$75,4,FALSE)*C73,\"\")","v":""},0,{"$f":"IF('Juli voer'!H16>0,VLOOKUP('Juli voer'!G16,Voedermiddelen!$A$4:$K$75,4,FALSE)*E73,\"\")","v":""}]
[null,0,{"$f":"IF('Juli voer'!C17>0,VLOOKUP('Juli voer'!B17,Voedermiddelen!$A$4:$K$75,4,FALSE)*C74,\"\")","v":""},0,{"$f":"IF('Juli voer'!H17>0,VLOOKUP('Juli voer'!G17,Voedermiddelen!$A$4:$K$75,4,FALSE)*E74,\"\")","v":""}]
[null,0,{"$f":"IF('Juli voer'!C18>0,VLOOKUP('Juli voer'!B18,Voedermiddelen!$A$4:$K$75,4,FALSE)*C75,\"\")","v":""},0,{"$f":"IF('Juli voer'!H18>0,VLOOKUP('Juli voer'!G18,Voedermiddelen!$A$4:$K$75,4,FALSE)*E75,\"\")","v":""}]
[null,"KV 1",{"$f":"IF('Juli voer'!C20>0,VLOOKUP('Juli voer'!B20,Voedermiddelen!$A$4:$K$75,4,FALSE)*C76,\"\")","v":82620},0,{"$f":"E76*1000","v":268320}]
[null,"Melkbrok BM",{"$f":"IF('Juli voer'!C21>0,VLOOKUP('Juli voer'!B21,Voedermiddelen!$A$4:$K$75,4,FALSE)*C77,\"\")","v":220320},0]
[null,0,{"$f":"IF('Juli voer'!C22>0,VLOOKUP('Juli voer'!B22,Voedermiddelen!$A$4:$K$75,4,FALSE)*C78,\"\")","v":""},0]
[]
["Totaal",null,{"$f":"SUM(C82:C94)","v":785365.41920999996},null,{"$f":"SUM(E82:E94)","v":749739.5631599999}]
[]
["DVE",{"$f":"B82","v":"Gkuil balen 2016 2e snede"},{"$f":"IF('Juli voer'!C9>0,VLOOKUP('Juli voer'!B9,Voedermiddelen!$A$4:$K$75,5,FALSE)*C66,\"\")","v":10305.590399999999},{"$f":"D82","v":"Gkuil balen 2016 2e snede"},{"$f":"IF('Juli voer'!H9>0,VLOOKUP('Juli voer'!G9,[2]Voedermiddelen!$A$4:$K$75,5,FALSE)*E66,\"\")","v":{"$error":"#N/A"}}]
[null,{"$f":"B83","v":"Mkuil 1"},{"$f":"IF('Juli voer'!C10>0,VLOOKUP('Juli voer'!B10,Voedermiddelen!$A$4:$K$75,5,FALSE)*C67,\"\")","v":16285.814999999997},"Mkuil 1",{"$f":"IF('Juli voer'!H10>0,VLOOKUP('Juli voer'!G10,[2]Voedermiddelen!$A$4:$K$75,5,FALSE)*E67,\"\")","v":23256.143819999998}]
[null,"Overig 1",{"$f":"IF('Juli voer'!C11>0,VLOOKUP('Juli voer'!B11,Voedermiddelen!$A$4:$K$75,5,FALSE)*C68,\"\")","v":""},"Overig 1",{"$f":"IF('Juli voer'!H11>0,VLOOKUP('Juli voer'!G11,[2]Voedermiddelen!$A$4:$K$75,5,FALSE)*E68,\"\")","v":""}]
[null,"Bierbostel",{"$f":"IF('Juli voer'!C12>0,VLOOKUP('Juli voer'!B12,Voedermiddelen!$A$4:$K$75,5,FALSE)*C69,\"\")","v":5093.0092500000001},"Bierbostel",{"$f":"IF('Juli voer'!H12>0,VLOOKUP('Juli voer'!G12,[2]Voedermiddelen!$A$4:$K$75,5,FALSE)*E69,\"\")","v":4947.4946999999993}]
[null,"Overig 2",{"$f":"IF('Juli voer'!C13>0,VLOOKUP('Juli voer'!B13,Voedermiddelen!$A$4:$K$75,5,FALSE)*C70,\"\")","v":""},"Overig 2",{"$f":"IF('Juli voer'!H13>0,VLOOKUP('Juli voer'!G13,[2]Voedermiddelen!$A$4:$K$75,5,FALSE)*E70,\"\")","v":""}]
[null,"BP 6",{"$f":"IF('Juli voer'!C14>0,VLOOKUP('Juli voer'!B14,Voedermiddelen!$A$4:$K$75,5,FALSE)*C71,\"\")","v":""},"BP 6",{"$f":"IF('Juli voer'!H14>0,VLOOKUP('Juli voer'!G14,[2]Voedermiddelen!$A$4:$K$75,5,FALSE)*E71,\"\")","v":""}]
[null,0,{"$f":"IF('Juli voer'!C15>0,VLOOKUP('Juli voer'!B15,Voedermiddelen!$A$4:$K$75,5,FALSE)*C72,\"\")","v":""},0,{"$f":"IF('Juli voer'!H15>0,VLOOKUP('Juli voer'!G15,[2]Voedermiddelen!$A$4:$K$75,5,FALSE)*E72,\"\")","v":""}]
[null,0,{"$f":"IF('Juli voer'!C16>0,VLOOKUP('Juli voer'!B16,Voedermiddelen!$A$4:$K$75,5,FALSE)*C73,\"\")","v":""},0,{"$f":"IF('Juli voer'!H16>0,VLOOKUP('Juli voer'!G16,[2]Voedermiddelen!$A$4:$K$75,5,FALSE)*E73,\"\")","v":""}]
[null,0,{"$f":"IF('Juli voer'!C17>0,VLOOKUP('Juli voer'!B17,Voedermiddelen!$A$4:$K$75,5,FALSE)*C74,\"\")","v":""},0,{"$f":"IF('Juli voer'!H17>0,VLOOKUP('Juli voer'!G17,[2]Voedermiddelen!$A$4:$K$75,5,FALSE)*E74,\"\")","v":""}]
[null,0,{"$f":"IF('Juli voer'!C18>0,VLOOKUP('Juli voer'!B18,Voedermiddelen!$A$4:$K$75,5,FALSE)*C75,\"\")","v":""},0,{"$f":"IF('Juli voer'!H18>0,VLOOKUP('Juli voer'!G18,[2]Voedermiddelen!$A$4:$K$75,5,FALSE)*E75,\"\")","v":""}]
[null,"KV 1",{"$f":"IF('Juli voer'!C20>0,VLOOKUP('Juli voer'!B20,Voedermiddelen!$A$4:$K$75,5,FALSE)*C76,\"\")","v":11016},0]
[null,"Melkbrok BM",{"$f":"IF('Juli voer'!C21>0,VLOOKUP('Juli voer'!B21,Voedermiddelen!$A$4:$K$75,5,FALSE)*C77,\"\")","v":0},0]
[null,0,{"$f":"IF('Juli voer'!C22>0,VLOOKUP('Juli voer'!B22,Voedermiddelen!$A$4:$K$75,5,FALSE)*C78,\"\")","v":""},0]
[]
["Totaal",null,{"$f":"SUM(C98:C110)/1000","v":42.700414649999992},null,{"$f":"SUM(E98:E110)/1000","v":{"$error":"#N/A"}}]
[]
["OEB",{"$f":"B98","v":"Gkuil balen 2016 2e snede"},{"$f":"IF('Juli voer'!C9>0,VLOOKUP('Juli voer'!B9,[2]Voedermiddelen!$A$4:$K$75,6,FALSE)*C66,\"\")","v":{"$error":"#N/A"}},{"$f":"D98","v":"Gkuil balen 2016 2e snede"},{"$f":"IF('Juli voer'!H9>0,VLOOKUP('Juli voer'!G9,[2]Voedermiddelen!$A$4:$K$75,6,FALSE)*E66,\"\")","v":{"$error":"#N/A"}}]
[null,{"$f":"B99","v":"Mkuil 1"},{"$f":"IF('Juli voer'!C10>0,VLOOKUP('Juli voer'!B10,[2]Voedermiddelen!$A$4:$K$75,6,FALSE)*C67,\"\")","v":-8924.6266199999973},"Mkuil 1",{"$f":"IF('Juli voer'!H10>0,VLOOKUP('Juli voer'!G10,[2]Voedermiddelen!$A$4:$K$75,6,FALSE)*E67,\"\")","v":-8924.6266199999973}]
[null,"Overig 1",{"$f":"IF('Juli voer'!C11>0,VLOOKUP('Juli voer'!B11,[2]Voedermiddelen!$A$4:$K$75,6,FALSE)*C68,\"\")","v":""},"Overig 1",{"$f":"IF('Juli voer'!H11>0,VLOOKUP('Juli voer'!G11,[2]Voedermiddelen!$A$4:$K$75,6,FALSE)*E68,\"\")","v":""}]
[null,"Bierbostel",{"$f":"IF('Juli voer'!C12>0,VLOOKUP('Juli voer'!B12,[2]Voedermiddelen!$A$4:$K$75,6,FALSE)*C69,\"\")","v":2044.6387499999998},"Bierbostel",{"$f":"IF('Juli voer'!H12>0,VLOOKUP('Juli voer'!G12,[2]Voedermiddelen!$A$4:$K$75,6,FALSE)*E69,\"\")","v":1986.2204999999997}]
[null,"Overig 2",{"$f":"IF('Juli voer'!C13>0,VLOOKUP('Juli voer'!B13,[2]Voedermiddelen!$A$4:$K$75,6,FALSE)*C70,\"\")","v":""},"Overig 2",{"$f":"IF('Juli voer'!H13>0,VLOOKUP('Juli voer'!G13,[2]Voedermiddelen!$A$4:$K$75,6,FALSE)*E70,\"\")","v":""}]
[null,"BP 6",{"$f":"IF('Juli voer'!C14>0,VLOOKUP('Juli voer'!B14,[2]Voedermiddelen!$A$4:$K$75,6,FALSE)*C71,\"\")","v":""},"BP 6",{"$f":"IF('Juli voer'!H14>0,VLOOKUP('Juli voer'!G14,[2]Voedermiddelen!$A$4:$K$75,6,FALSE)*E71,\"\")","v":""}]
[null,0,{"$f":"IF('Juli voer'!C15>0,VLOOKUP('Juli voer'!B15,[2]Voedermiddelen!$A$4:$K$75,6,FALSE)*C72,\"\")","v":""},0,{"$f":"IF('Juli voer'!H15>0,VLOOKUP('Juli voer'!G15,[2]Voedermiddelen!$A$4:$K$75,6,FALSE)*E72,\"\")","v":""}]
[null,0,{"$f":"IF('Juli voer'!C16>0,VLOOKUP('Juli voer'!B16,[2]Voedermiddelen!$A$4:$K$75,6,FALSE)*C73,\"\")","v":""},0,{"$f":"IF('Juli voer'!H16>0,VLOOKUP('Juli voer'!G16,[2]Voedermiddelen!$A$4:$K$75,6,FALSE)*E73,\"\")","v":""}]
[null,0,{"$f":"IF('Juli voer'!C17>0,VLOOKUP('Juli voer'!B17,[2]Voedermiddelen!$A$4:$K$75,6,FALSE)*C74,\"\")","v":""},0,{"$f":"IF('Juli voer'!H17>0,VLOOKUP('Juli voer'!G17,[2]Voedermiddelen!$A$4:$K$75,6,FALSE)*E74,\"\")","v":""}]
[null,0,{"$f":"IF('Juli voer'!C18>0,VLOOKUP('Juli voer'!B18,[2]Voedermiddelen!$A$4:$K$75,6,FALSE)*C75,\"\")","v":""},0,{"$f":"IF('Juli voer'!H18>0,VLOOKUP('Juli voer'!G18,[2]Voedermiddelen!$A$4:$K$75,6,FALSE)*E75,\"\")","v":""}]
[null,"KV 1",{"$f":"IF('Juli voer'!C20>0,VLOOKUP('Juli voer'!B20,[2]Voedermiddelen!$A$4:$K$75,6,FALSE)*C76,\"\")","v":5508},0]
[null,"Melkbrok BM",{"$f":"IF('Juli voer'!C21>0,VLOOKUP('Juli voer'!B21,[2]Voedermiddelen!$A$4:$K$75,6,FALSE)*C77,\"\")","v":{"$error":"#N/A"}},0]
[null,0,{"$f":"IF('Juli voer'!C22>0,VLOOKUP('Juli voer'!B22,[2]Voedermiddelen!$A$4:$K$75,6,FALSE)*C78,\"\")","v":""},0]
[]
["Totaal",null,{"$f":"SUM(C114:C126)","v":{"$error":"#N/A"}},null,{"$f":"SUM(E114:E126)","v":{"$error":"#N/A"}}]
[]
["RE",{"$f":"B114","v":"Gkuil balen 2016 2e snede"},{"$f":"IF('Juli voer'!C9>0,VLOOKUP('Juli voer'!B9,Voedermiddelen!$A$4:$K$75,7,FALSE)*C66,\"\")","v":16064.596799999999},{"$f":"D114","v":"Gkuil balen 2016 2e snede"},{"$f":"IF('Juli voer'!H9>0,VLOOKUP('Juli voer'!G9,Voedermiddelen!$A$4:$K$75,7,FALSE)*E66,\"\")","v":16064.596799999999}]
[null,{"$f":"B115","v":"Mkuil 1"},{"$f":"IF('Juli voer'!C10>0,VLOOKUP('Juli voer'!B10,Voedermiddelen!$A$4:$K$75,7,FALSE)*C67,\"\")","v":22800.140999999996},"Mkuil 1",{"$f":"IF('Juli voer'!H10>0,VLOOKUP('Juli voer'!G10,Voedermiddelen!$A$4:$K$75,7,FALSE)*E67,\"\")","v":22800.140999999996}]
[null,"Overig 1",{"$f":"IF('Juli voer'!C11>0,VLOOKUP('Juli voer'!B11,Voedermiddelen!$A$4:$K$75,7,FALSE)*C68,\"\")","v":""},"Overig 1",{"$f":"IF('Juli voer'!H11>0,VLOOKUP('Juli voer'!G11,Voedermiddelen!$A$4:$K$75,7,FALSE)*E68,\"\")","v":""}]
[null,"Bierbostel",{"$f":"IF('Juli voer'!C12>0,VLOOKUP('Juli voer'!B12,Voedermiddelen!$A$4:$K$75,7,FALSE)*C69,\"\")","v":9182.2867499999993},"Bierbostel",{"$f":"IF('Juli voer'!H12>0,VLOOKUP('Juli voer'!G12,Voedermiddelen!$A$4:$K$75,7,FALSE)*E69,\"\")","v":8919.9356999999982}]
[null,"Overig 2",{"$f":"IF('Juli voer'!C13>0,VLOOKUP('Juli voer'!B13,Voedermiddelen!$A$4:$K$75,7,FALSE)*C70,\"\")","v":""},"Overig 2",{"$f":"IF('Juli voer'!H13>0,VLOOKUP('Juli voer'!G13,Voedermiddelen!$A$4:$K$75,7,FALSE)*E70,\"\")","v":""}]
[null,"BP 6",{"$f":"IF('Juli voer'!C14>0,VLOOKUP('Juli voer'!B14,Voedermiddelen!$A$4:$K$75,7,FALSE)*C71,\"\")","v":""},"BP 6",{"$f":"IF('Juli voer'!H14>0,VLOOKUP('Juli voer'!G14,Voedermiddelen!$A$4:$K$75,7,FALSE)*E71,\"\")","v":""}]
[null,0,{"$f":"IF('Juli voer'!C15>0,VLOOKUP('Juli voer'!B15,Voedermiddelen!$A$4:$K$75,7,FALSE)*C72,\"\")","v":""},0,{"$f":"IF('Juli voer'!H15>0,VLOOKUP('Juli voer'!G15,Voedermiddelen!$A$4:$K$75,7,FALSE)*E72,\"\")","v":""}]
[null,0,{"$f":"IF('Juli voer'!C16>0,VLOOKUP('Juli voer'!B16,Voedermiddelen!$A$4:$K$75,7,FALSE)*C73,\"\")","v":""},0,{"$f":"IF('Juli voer'!H16>0,VLOOKUP('Juli voer'!G16,Voedermiddelen!$A$4:$K$75,7,FALSE)*E73,\"\")","v":""}]
[null,0,{"$f":"IF('Juli voer'!C17>0,VLOOKUP('Juli voer'!B17,Voedermiddelen!$A$4:$K$75,7,FALSE)*C74,\"\")","v":""},0,{"$f":"IF('Juli voer'!H17>0,VLOOKUP('Juli voer'!G17,Voedermiddelen!$A$4:$K$75,7,FALSE)*E74,\"\")","v":""}]
[null,0,{"$f":"IF('Juli voer'!C18>0,VLOOKUP('Juli voer'!B18,Voedermiddelen!$A$4:$K$75,7,FALSE)*C75,\"\")","v":""},0,{"$f":"IF('Juli voer'!H18>0,VLOOKUP('Juli voer'!G18,Voedermiddelen!$A$4:$K$75,7,FALSE)*E75,\"\")","v":""}]
[null,"KV 1",{"$f":"IF('Juli voer'!C20>0,VLOOKUP('Juli voer'!B20,Voedermiddelen!$A$4:$K$75,7,FALSE)*C76,\"\")","v":15606},0]
[null,"Melkbrok BM",{"$f":"IF('Juli voer'!C21>0,VLOOKUP('Juli voer'!B21,Voedermiddelen!$A$4:$K$75,7,FALSE)*C77,\"\")","v":49113},0]
[null,{"$f":"B126","v":0},{"$f":"IF('Juli voer'!C22>0,VLOOKUP('Juli voer'!B22,Voedermiddelen!$A$4:$K$75,7,FALSE)*C78,\"\")","v":""},0]
[]
["Totaal",null,{"$f":"SUM(C130:C142)","v":112766.02455},null,{"$f":"SUM(E130:E142)","v":47784.67349999999}]
[]
["N opname",null,{"$f":"C144/6.25","v":18042.563928},null,{"$f":"E144/6.25","v":7645.5477599999986},null,{"$f":"(E76/0.9*'Juli voer'!M6/6.25)","v":10040.207119976125}]
[]
["P",{"$f":"B130","v":"Gkuil balen 2016 2e snede"},{"$f":"IF('Juli voer'!C9>0,VLOOKUP('Juli voer'!B9,Voedermiddelen!$A$4:$K$75,10,FALSE)*C66,\"\")","v":500.12423999999993},{"$f":"D130","v":"Gkuil balen 2016 2e snede"},{"$f":"IF('Juli voer'!H9>0,VLOOKUP('Juli voer'!G9,Voedermiddelen!$A$4:$K$75,10,FALSE)*E66,\"\")","v":500.12423999999993}]
[null,{"$f":"B131","v":"Mkuil 1"},{"$f":"IF('Juli voer'!C10>0,VLOOKUP('Juli voer'!B10,Voedermiddelen!$A$4:$K$75,10,FALSE)*C67,\"\")","v":1003.2062039999996},"Mkuil 1",{"$f":"IF('Juli voer'!H10>0,VLOOKUP('Juli voer'!G10,Voedermiddelen!$A$4:$K$75,10,FALSE)*E67,\"\")","v":1003.2062039999996}]
[null,"Overig 1",{"$f":"IF('Juli voer'!C11>0,VLOOKUP('Juli voer'!B11,Voedermiddelen!$A$4:$K$75,10,FALSE)*C68,\"\")","v":""},"Overig 1",{"$f":"IF('Juli voer'!H11>0,VLOOKUP('Juli voer'!G11,Voedermiddelen!$A$4:$K$75,10,FALSE)*E68,\"\")","v":""}]
[null,"Bierbostel",{"$f":"IF('Juli voer'!C12>0,VLOOKUP('Juli voer'!B12,Voedermiddelen!$A$4:$K$75,10,FALSE)*C69,\"\")","v":193.31129999999999},"Bierbostel",{"$f":"IF('Juli voer'!H12>0,VLOOKUP('Juli voer'!G12,Voedermiddelen!$A$4:$K$75,10,FALSE)*E69,\"\")","v":187.78811999999999}]
[null,"Overig 2",{"$f":"IF('Juli voer'!C13>0,VLOOKUP('Juli voer'!B13,Voedermiddelen!$A$4:$K$75,10,FALSE)*C70,\"\")","v":""},"Overig 2",{"$f":"IF('Juli voer'!H13>0,VLOOKUP('Juli voer'!G13,Voedermiddelen!$A$4:$K$75,10,FALSE)*E70,\"\")","v":""}]
[null,"BP 6",{"$f":"IF('Juli voer'!C14>0,VLOOKUP('Juli voer'!B14,Voedermiddelen!$A$4:$K$75,10,FALSE)*C71,\"\")","v":""},"BP 6",{"$f":"IF('Juli voer'!H14>0,VLOOKUP('Juli voer'!G14,Voedermiddelen!$A$4:$K$75,10,FALSE)*E71,\"\")","v":""}]
[null,0,{"$f":"IF('Juli voer'!C15>0,VLOOKUP('Juli voer'!B15,Voedermiddelen!$A$4:$K$75,10,FALSE)*C72,\"\")","v":""},0,{"$f":"IF('Juli voer'!H15>0,VLOOKUP('Juli voer'!G15,Voedermiddelen!$A$4:$K$75,10,FALSE)*E72,\"\")","v":""}]
[null,0,{"$f":"IF('Juli voer'!C16>0,VLOOKUP('Juli voer'!B16,Voedermiddelen!$A$4:$K$75,10,FALSE)*C73,\"\")","v":""},0,{"$f":"IF('Juli voer'!H16>0,VLOOKUP('Juli voer'!G16,Voedermiddelen!$A$4:$K$75,10,FALSE)*E73,\"\")","v":""}]
[null,0,{"$f":"IF('Juli voer'!C17>0,VLOOKUP('Juli voer'!B17,Voedermiddelen!$A$4:$K$75,10,FALSE)*C74,\"\")","v":""},0,{"$f":"IF('Juli voer'!H17>0,VLOOKUP('Juli voer'!G17,Voedermiddelen!$A$4:$K$75,10,FALSE)*E74,\"\")","v":""}]
[null,0,{"$f":"IF('Juli voer'!C18>0,VLOOKUP('Juli voer'!B18,Voedermiddelen!$A$4:$K$75,10,FALSE)*C75,\"\")","v":""},0,{"$f":"IF('Juli voer'!H18>0,VLOOKUP('Juli voer'!G18,Voedermiddelen!$A$4:$K$75,10,FALSE)*E75,\"\")","v":""}]
[null,{"$f":"B140","v":"KV 1"},{"$f":"IF('Juli voer'!C20>0,VLOOKUP('Juli voer'!B20,Voedermiddelen!$A$4:$K$75,10,FALSE)*C76,\"\")","v":367.2},0]
[null,{"$f":"B141","v":"Melkbrok BM"},{"$f":"IF('Juli voer'!C21>0,VLOOKUP('Juli voer'!B21,Voedermiddelen!$A$4:$K$75,10,FALSE)*C77,\"\")","v":918},0]
[null,{"$f":"B142","v":0},{"$f":"IF('Juli voer'!C22>0,VLOOKUP('Juli voer'!B22,Voedermiddelen!$A$4:$K$75,10,FALSE)*C78,\"\")","v":""},0]
[]
["Totaal",null,{"$f":"SUM(C148:C160)","v":2981.8417439999994},null,{"$f":"SUM(E148:E160)","v":1691.1185639999994},null,{"$f":"(E76/0.9*'Juli voer'!M7)","v":832.28167599701544}]

{"sheet":"Juli Excretie","index":45,"n_rows":25,"n_cols":5,"rows_kept":25,"cut":false,"hidden":true,"merged":[]}
["Veestapel"]
[null,null,{"$f":"'Juli vee+melk'!C6","v":"Juli gerealiseerd"},null,{"$f":"'Juli vee+melk'!E6","v":"Juli prognose"}]
[]
[]
["Excretie (kg/dier/dag)"]
[null,null,"N",null,"N"]
["Opname",null,{"$f":"'Juli Voeropname'!C2*'Juli Voeropname'!C7*0.001","v":0.49771328095029649},null,{"$f":"'Juli Voeropname'!E2*'Juli Voeropname'!E7*0.001+'Juli Voeropname'!G146*0.001/'Juli vee+melk'!E2","v":0.53491017028831667}]
["Gem opname 7 dgn",null,{"$f":"AVERAGE(C7:F7)","v":0.51631172561930661},null,{"$f":"AVERAGE(E7)","v":0.53491017028831667}]
["Productie",null,{"$f":"'Juli vee+melk'!C22*'Juli vee+melk'!C10/6.38","v":0.14088248929312555},null,{"$f":"'Juli vee+melk'!E22*'Juli vee+melk'!E10/6.38","v":0.1400280557106254}]
["Vastlegging",null,{"$f":"1.4/365","v":3.8356164383561643E-3},null,{"$f":"1.4/365","v":3.8356164383561643E-3}]
["Onder de staart",null,{"$f":"C7-C9-C10","v":0.35299517521881474},null,{"$f":"E7-E9-E10","v":0.39104649813933512}]
["Vervluchtiging",null,{"$f":"C11*0.1175","v":4.1476933088210731E-2},null,{"$f":"E11*0.1175","v":4.5947963531371872E-2}]
["Gemeten netto excretie",null,{"$f":"C11-C12","v":0.31151824213060403},null,{"$f":"E11-E12","v":0.34509853460796325}]
[]
[null,null,"P",null,"P"]
["Opname",null,{"$f":"'Juli Voeropname'!C2*'Juli Voeropname'!C8/1000","v":7.5830085243096715E-2},null,{"$f":"'Juli Voeropname'!E2*'Juli Voeropname'!E8/1000+'Juli Voeropname'!G162*0.001/'Juli vee+melk'!E2","v":7.488145554400609E-2}]
["Gem opname 7 dgn",null,{"$f":"AVERAGE(C16:F16)","v":7.5355770393551402E-2},null,{"$f":"AVERAGE(E16)","v":7.488145554400609E-2}]
["Productie",null,{"$f":"'Juli vee+melk'!C22*0.9/1000","v":2.3447746478873242E-2},null,{"$f":"'Juli vee+melk'!E22*0.9/1000","v":2.2972602739726029E-2}]
["Vastlegging",null,{"$f":"0.5/365","v":1.3698630136986301E-3},null,{"$f":"0.5/365","v":1.3698630136986301E-3}]
["Onder de staart",null,{"$f":"C16-C18-C19","v":5.1012475750524845E-2},null,{"$f":"E16-E18-E19","v":5.0538989790581433E-2}]
["Vervluchtiging"]
["Gemeten netto excretie",null,{"$f":"C20","v":5.1012475750524845E-2},null,{"$f":"E20","v":5.0538989790581433E-2}]
[]
["N excretie per ton meetmelk (kg)",null,{"$f":"C13/'Juli vee+melk'!C21*1000","v":11.435907282517627},null,{"$f":"E13/'Juli vee+melk'!E21*1000","v":12.101282217318499}]
["P excretie per ton meetmelk (kg)",null,{"$f":"C22/'Juli vee+melk'!C21*1000","v":1.8726798756462599},null,{"$f":"E22/'Juli vee+melk'!E21*1000","v":1.7722085639360221}]

{"sheet":"Juli kengetallen","index":46,"n_rows":106,"n_cols":6,"rows_kept":106,"cut":false,"hidden":true,"merged":[]}
["Rantsoen"]
["Datum",null,{"$f":"'Juli voer'!B3","v":"Juli gerealiseerd"},null,{"$f":"'Juli voer'!G3","v":"Juli prognose"}]
[]
[{"$f":"'Juli Voeropname'!A2","v":"DS opname/koe"},null,{"$f":"'Juli Voeropname'!C2","v":20.229125733309392},null,{"$f":"'Juli Voeropname'!E2","v":20.664676712430968}]
[{"$f":"'Juli Voeropname'!A3","v":"VEM"},null,{"$f":"'Juli Voeropname'!C3","v":944.01802885931102},null,{"$f":"'Juli Voeropname'!E3","v":954.72149295327529}]
[{"$f":"'Juli Voeropname'!A4","v":"DVE"},null,{"$f":"'Juli Voeropname'!C4","v":61.924887695399597},null,{"$f":"'Juli Voeropname'!E4","v":{"$error":"#N/A"}}]
[{"$f":"'Juli Voeropname'!A5","v":"OEB"},null,{"$f":"'Juli Voeropname'!C5","v":{"$error":"#N/A"}},null,{"$f":"'Juli Voeropname'!E5","v":{"$error":"#N/A"}}]
[{"$f":"'Juli Voeropname'!A6","v":"RE"},null,{"$f":"'Juli Voeropname'!C6","v":153.77372442830011},null,{"$f":"'Juli Voeropname'!E6","v":118.40211845881642}]
[{"$f":"'Juli Voeropname'!A7","v":"N"},null,{"$f":"'Juli Voeropname'!C7","v":24.603795908528017},null,{"$f":"'Juli Voeropname'!E7","v":18.944338953410629}]
[{"$f":"'Juli Voeropname'!A8","v":"P"},null,{"$f":"'Juli Voeropname'!C8","v":3.7485596877889029},null,{"$f":"'Juli Voeropname'!E8","v":3.0482798348151383}]
[]
["Streefwaarde RE",null,{"$f":"'Juli voer'!H20","v":160}]
["Streefwaarde P",null,{"$f":"'Juli voer'!H21","v":3.6}]
[]
[]
[{"$f":"'Juli Excretie'!A24","v":"N excretie per ton meetmelk (kg)"},null,{"$f":"'Juli Excretie'!C24","v":11.435907282517627},null,{"$f":"'Juli Excretie'!E24","v":12.101282217318499}]
[{"$f":"'Juli Excretie'!A25","v":"P excretie per ton meetmelk (kg)"},null,{"$f":"'Juli Excretie'!C25","v":1.8726798756462599},null,{"$f":"'Juli Excretie'!E25","v":1.7722085639360221}]
[]
[]
["VEM dekking",null,{"$f":"'Juli Voeropname'!C35/'Juli vee+melk'!C27","v":1.03},null,{"$f":"'Juli Voeropname'!E35/'Juli vee+melk'!E27","v":1.03}]
["DVE dekking",null,{"$f":"'Juli Voeropname'!C36/'Juli vee+melk'!C28","v":0.7868919843928831},null,{"$f":"'Juli Voeropname'!E36/'Juli vee+melk'!E28","v":{"$error":"#N/A"}}]
[]
[]
["Voerefficientie kg meetmelk/kg voer (ds)",null,{"$f":"'Juli vee+melk'!C21/'Juli Voeropname'!C2","v":1.3465911135252759},null,{"$f":"'Juli vee+melk'!E21/'Juli Voeropname'!E2","v":1.3800127866545913}]
["kg krachtvoer per 100 kg (excl bijprod)",null,{"$f":"SUM('Juli Voeropname'!C76:C78)/('Juli vee+melk'!C21*'Juli vee+melk'!C2)*100/0.9","v":18.993555384862386},null,{"$f":"SUM('Juli Voeropname'!E76:E78)/('Juli vee+melk'!E21*'Juli vee+melk'!E2)*100","v":13.441362058021877}]
[]
[]
[{"$f":"A12","v":"Streefwaarde RE"},null,{"$f":"$C$12","v":160},null,{"$f":"$C$12","v":160}]
[{"$f":"A13","v":"Streefwaarde P"},null,{"$f":"$C$13","v":3.6},null,{"$f":"$C$13","v":3.6}]
[]
[]
[]
[]
[{"$f":"A2","v":"Datum"},null,{"$f":"C2","v":"Juli gerealiseerd"},{"$f":"E2","v":"Juli prognose"},{"$f":"#REF!","v":{"$error":"#REF!"}},{"$f":"#REF!","v":{"$error":"#REF!"}}]
["00:00:00"]
["DS opname/koe",null,{"$f":"C4","v":20.229125733309392},{"$f":"E4","v":20.664676712430968},{"$f":"#REF!","v":{"$error":"#REF!"}},{"$f":"#REF!","v":{"$error":"#REF!"}}]
["VEM",null,944.01802885931102,954.72149295327529,{"$f":"#REF!","v":{"$error":"#REF!"}},{"$f":"#REF!","v":{"$error":"#REF!"}}]
["DVE",null,61.924887695399597,{"$error":"#N/A"},{"$f":"#REF!","v":{"$error":"#REF!"}},{"$f":"#REF!","v":{"$error":"#REF!"}}]
["OEB",null,{"$error":"#N/A"},{"$error":"#N/A"},{"$f":"#REF!","v":{"$error":"#REF!"}},{"$f":"#REF!","v":{"$error":"#REF!"}}]
["RE",null,153.77372442830011,118.40211845881642,{"$f":"#REF!","v":{"$error":"#REF!"}},{"$f":"#REF!","v":{"$error":"#REF!"}}]
["N",null,24.603795908528017,18.944338953410629,{"$f":"#REF!","v":{"$error":"#REF!"}},{"$f":"#REF!","v":{"$error":"#REF!"}}]
["P",null,3.7485596877889029,3.0482798348151383,{"$f":"#REF!","v":{"$error":"#REF!"}},{"$f":"#REF!","v":{"$error":"#REF!"}}]
[{"$f":"A15","v":"00:00:00"}]
["N excretie per ton meetmelk (kg)",null,{"$f":"C16","v":11.435907282517627},{"$f":"E16","v":12.101282217318499},{"$f":"#REF!","v":{"$error":"#REF!"}},{"$f":"#REF!","v":{"$error":"#REF!"}}]
["P excretie per ton meetmelk (kg)",null,1.8726798756462599,{"$f":"E17","v":1.7722085639360221},{"$f":"#REF!","v":{"$error":"#REF!"}},{"$f":"#REF!","v":{"$error":"#REF!"}}]
["00:00:00",null,{"$f":"1000/C45/2.29","v":233.18519539103039},{"$f":"1000/D45/2.29","v":246.40509677798173},{"$f":"1000/E45/2.29","v":{"$error":"#REF!"}},{"$f":"1000/F45/2.29","v":{"$error":"#REF!"}}]
[]
[]
["Rantsoen"]
[]
["Kuilgras",null,{"$f":"IF('Juli Voeropname'!$A66='Juli kengetallen'!$A51,'Juli Voeropname'!C66,\"\")","v":151.55279999999999},null,{"$f":"IF('Juli Voeropname'!$A66='Juli kengetallen'!$A51,'Juli Voeropname'!E66,\"\")","v":151.55279999999999}]
["Kuilgras",null,{"$f":"IF('Juli Voeropname'!$A67='Juli kengetallen'!$A52,'Juli Voeropname'!C67,\"\")","v":""},null,{"$f":"IF('Juli Voeropname'!$A67='Juli kengetallen'!$A52,'Juli Voeropname'!E67,\"\")","v":""}]
["Kuilgras",null,{"$f":"IF('Juli Voeropname'!$A68='Juli kengetallen'!$A53,'Juli Voeropname'!C68,\"\")","v":""},null,{"$f":"IF('Juli Voeropname'!$A68='Juli kengetallen'!$A53,'Juli Voeropname'!E68,\"\")","v":""}]
["Kuilgras",null,{"$f":"IF('Juli Voeropname'!$A69='Juli kengetallen'!$A54,'Juli Voeropname'!C69,\"\")","v":""},null,{"$f":"IF('Juli Voeropname'!$A69='Juli kengetallen'!$A54,'Juli Voeropname'!E69,\"\")","v":""}]
["Kuilgras",null,{"$f":"IF('Juli Voeropname'!$A70='Juli kengetallen'!$A55,'Juli Voeropname'!C70,\"\")","v":""},null,{"$f":"IF('Juli Voeropname'!$A70='Juli kengetallen'!$A55,'Juli Voeropname'!E70,\"\")","v":""}]
["Kuilgras",null,{"$f":"IF('Juli Voeropname'!$A71='Juli kengetallen'!$A56,'Juli Voeropname'!C71,\"\")","v":""},null,{"$f":"IF('Juli Voeropname'!$A71='Juli kengetallen'!$A56,'Juli Voeropname'!E71,\"\")","v":""}]
["Kuilgras",null,{"$f":"IF('Juli Voeropname'!$A72='Juli kengetallen'!$A57,'Juli Voeropname'!C72,\"\")","v":""},null,{"$f":"IF('Juli Voeropname'!$A72='Juli kengetallen'!$A57,'Juli Voeropname'!E72,\"\")","v":""}]
["Kuilgras",null,{"$f":"IF('Juli Voeropname'!$A73='Juli kengetallen'!$A58,'Juli Voeropname'!C73,\"\")","v":""},null,{"$f":"IF('Juli Voeropname'!$A73='Juli kengetallen'!$A58,'Juli Voeropname'!E73,\"\")","v":""}]
["Kuilgras",null,{"$f":"IF('Juli Voeropname'!$A74='Juli kengetallen'!$A59,'Juli Voeropname'!C74,\"\")","v":""},null,{"$f":"IF('Juli Voeropname'!$A74='Juli kengetallen'!$A59,'Juli Voeropname'!E74,\"\")","v":""}]
["Totaal kuilgras",null,{"$f":"SUM(C51:C59)","v":151.55279999999999},null,{"$f":"SUM(E51:E59)","v":151.55279999999999}]
[]
["Snijmais",null,{"$f":"IF('Juli Voeropname'!$A66='Juli kengetallen'!$A62,'Juli Voeropname'!C66,\"\")","v":""},null,{"$f":"IF('Juli Voeropname'!$A66='Juli kengetallen'!$A62,'Juli Voeropname'!E66,\"\")","v":""}]
["Snijmais",null,{"$f":"IF('Juli Voeropname'!$A67='Juli kengetallen'!$A63,'Juli Voeropname'!C67,\"\")","v":325.71629999999993},null,{"$f":"IF('Juli Voeropname'!$A67='Juli kengetallen'!$A63,'Juli Voeropname'!E67,\"\")","v":325.71629999999993}]
["Snijmais",null,{"$f":"IF('Juli Voeropname'!$A68='Juli kengetallen'!$A64,'Juli Voeropname'!C68,\"\")","v":""},null,{"$f":"IF('Juli Voeropname'!$A68='Juli kengetallen'!$A64,'Juli Voeropname'!E68,\"\")","v":""}]
["Snijmais",null,{"$f":"IF('Juli Voeropname'!$A69='Juli kengetallen'!$A65,'Juli Voeropname'!C69,\"\")","v":""},null,{"$f":"IF('Juli Voeropname'!$A69='Juli kengetallen'!$A65,'Juli Voeropname'!E69,\"\")","v":""}]
["Snijmais",null,{"$f":"IF('Juli Voeropname'!$A70='Juli kengetallen'!$A66,'Juli Voeropname'!C70,\"\")","v":""},null,{"$f":"IF('Juli Voeropname'!$A70='Juli kengetallen'!$A66,'Juli Voeropname'!E70,\"\")","v":""}]
["Snijmais",null,{"$f":"IF('Juli Voeropname'!$A71='Juli kengetallen'!$A67,'Juli Voeropname'!C71,\"\")","v":""},null,{"$f":"IF('Juli Voeropname'!$A71='Juli kengetallen'!$A67,'Juli Voeropname'!E71,\"\")","v":""}]
["Snijmais",null,{"$f":"IF('Juli Voeropname'!$A72='Juli kengetallen'!$A68,'Juli Voeropname'!C72,\"\")","v":""},null,{"$f":"IF('Juli Voeropname'!$A72='Juli kengetallen'!$A68,'Juli Voeropname'!E72,\"\")","v":""}]
["Snijmais",null,{"$f":"IF('Juli Voeropname'!$A73='Juli kengetallen'!$A69,'Juli Voeropname'!C73,\"\")","v":""},null,{"$f":"IF('Juli Voeropname'!$A73='Juli kengetallen'!$A69,'Juli Voeropname'!E73,\"\")","v":""}]
["Snijmais",null,{"$f":"IF('Juli Voeropname'!$A74='Juli kengetallen'!$A70,'Juli Voeropname'!C74,\"\")","v":""},null,{"$f":"IF('Juli Voeropname'!$A74='Juli kengetallen'!$A70,'Juli Voeropname'!E74,\"\")","v":""}]
["Totaal snijmais",null,{"$f":"SUM(C62:C70)","v":325.71629999999993},null,{"$f":"SUM(E62:E70)","v":325.71629999999993}]
[]
["OverigRuwvoer",null,{"$f":"IF('Juli Voeropname'!$A66='Juli kengetallen'!$A73,'Juli Voeropname'!C66,\"\")","v":""},null,{"$f":"IF('Juli Voeropname'!$A66='Juli kengetallen'!$A73,'Juli Voeropname'!E66,\"\")","v":""}]
["OverigRuwvoer",null,{"$f":"IF('Juli Voeropname'!$A67='Juli kengetallen'!$A74,'Juli Voeropname'!C67,\"\")","v":""},null,{"$f":"IF('Juli Voeropname'!$A67='Juli kengetallen'!$A74,'Juli Voeropname'!E67,\"\")","v":""}]
["OverigRuwvoer",null,{"$f":"IF('Juli Voeropname'!$A68='Juli kengetallen'!$A75,'Juli Voeropname'!C68,\"\")","v":""},null,{"$f":"IF('Juli Voeropname'!$A68='Juli kengetallen'!$A75,'Juli Voeropname'!E68,\"\")","v":""}]
["OverigRuwvoer",null,{"$f":"IF('Juli Voeropname'!$A69='Juli kengetallen'!$A76,'Juli Voeropname'!C69,\"\")","v":""},null,{"$f":"IF('Juli Voeropname'!$A69='Juli kengetallen'!$A76,'Juli Voeropname'!E69,\"\")","v":""}]
["OverigRuwvoer",null,{"$f":"IF('Juli Voeropname'!$A70='Juli kengetallen'!$A77,'Juli Voeropname'!C70,\"\")","v":""},null,{"$f":"IF('Juli Voeropname'!$A70='Juli kengetallen'!$A77,'Juli Voeropname'!E70,\"\")","v":""}]
["OverigRuwvoer",null,{"$f":"IF('Juli Voeropname'!$A71='Juli kengetallen'!$A78,'Juli Voeropname'!C71,\"\")","v":""},null,{"$f":"IF('Juli Voeropname'!$A71='Juli kengetallen'!$A78,'Juli Voeropname'!E71,\"\")","v":""}]
["OverigRuwvoer",null,{"$f":"IF('Juli Voeropname'!$A72='Juli kengetallen'!$A79,'Juli Voeropname'!C72,\"\")","v":""},null,{"$f":"IF('Juli Voeropname'!$A72='Juli kengetallen'!$A79,'Juli Voeropname'!E72,\"\")","v":""}]
["OverigRuwvoer",null,{"$f":"IF('Juli Voeropname'!$A73='Juli kengetallen'!$A80,'Juli Voeropname'!C73,\"\")","v":""},null,{"$f":"IF('Juli Voeropname'!$A73='Juli kengetallen'!$A80,'Juli Voeropname'!E73,\"\")","v":""}]
["OverigRuwvoer",null,{"$f":"IF('Juli Voeropname'!$A74='Juli kengetallen'!$A81,'Juli Voeropname'!C74,\"\")","v":""},null,{"$f":"IF('Juli Voeropname'!$A74='Juli kengetallen'!$A81,'Juli Voeropname'!E74,\"\")","v":""}]
["Totaal overig Ruwvoer",null,{"$f":"SUM(C73:C81)","v":0},null,{"$f":"SUM(E73:E81)","v":0}]
[]
["Bijproducten",null,{"$f":"IF('Juli Voeropname'!$A66='Juli kengetallen'!$A84,'Juli Voeropname'!C66,\"\")","v":""},null,{"$f":"IF('Juli Voeropname'!$A66='Juli kengetallen'!$A84,'Juli Voeropname'!E66,\"\")","v":""}]
["Bijproducten",null,{"$f":"IF('Juli Voeropname'!$A67='Juli kengetallen'!$A85,'Juli Voeropname'!C67,\"\")","v":""},null,{"$f":"IF('Juli Voeropname'!$A67='Juli kengetallen'!$A85,'Juli Voeropname'!E67,\"\")","v":""}]
["Bijproducten",null,{"$f":"IF('Juli Voeropname'!$A68='Juli kengetallen'!$A86,'Juli Voeropname'!C68,\"\")","v":""},null,{"$f":"IF('Juli Voeropname'!$A68='Juli kengetallen'!$A86,'Juli Voeropname'!E68,\"\")","v":""}]
["Bijproducten",null,{"$f":"IF('Juli Voeropname'!$A69='Juli kengetallen'!$A87,'Juli Voeropname'!C69,\"\")","v":37.175249999999998},null,{"$f":"IF('Juli Voeropname'!$A69='Juli kengetallen'!$A87,'Juli Voeropname'!E69,\"\")","v":36.113099999999996}]
["Bijproducten",null,{"$f":"IF('Juli Voeropname'!$A70='Juli kengetallen'!$A88,'Juli Voeropname'!C70,\"\")","v":""},null,{"$f":"IF('Juli Voeropname'!$A70='Juli kengetallen'!$A88,'Juli Voeropname'!E70,\"\")","v":""}]
["Bijproducten",null,{"$f":"IF('Juli Voeropname'!$A71='Juli kengetallen'!$A89,'Juli Voeropname'!C71,\"\")","v":""},null,{"$f":"IF('Juli Voeropname'!$A71='Juli kengetallen'!$A89,'Juli Voeropname'!E71,\"\")","v":""}]
["Bijproducten",null,{"$f":"IF('Juli Voeropname'!$A72='Juli kengetallen'!$A90,'Juli Voeropname'!C72,\"\")","v":""},null,{"$f":"IF('Juli Voeropname'!$A72='Juli kengetallen'!$A90,'Juli Voeropname'!E72,\"\")","v":""}]
["Bijproducten",null,{"$f":"IF('Juli Voeropname'!$A73='Juli kengetallen'!$A91,'Juli Voeropname'!C73,\"\")","v":""},null,{"$f":"IF('Juli Voeropname'!$A73='Juli kengetallen'!$A91,'Juli Voeropname'!E73,\"\")","v":""}]
["Bijproducten",null,{"$f":"IF('Juli Voeropname'!$A74='Juli kengetallen'!$A92,'Juli Voeropname'!C74,\"\")","v":""},null,{"$f":"IF('Juli Voeropname'!$A74='Juli kengetallen'!$A92,'Juli Voeropname'!E74,\"\")","v":""}]
["Totaal Bijproducten",null,{"$f":"SUM(C84:C92)","v":37.175249999999998},null,{"$f":"SUM(E84:E92)","v":36.113099999999996}]
[]
["Krachtvoer",null,{"$f":"SUM('Juli Voeropname'!C76:C78)","v":321.3},null,{"$f":"SUM('Juli Voeropname'!E76:E78)","v":268.32}]
[]
["Vers gras",null,{"$f":"'Juli Voeropname'!C31*('Juli vee+melk'!C2+'Juli vee+melk'!C3)","v":600.52357706496696},null,{"$f":"'Juli Voeropname'!E31*('Juli vee+melk'!E2+'Juli vee+melk'!E3)","v":726.81920000746084}]
[]
["Totaal",null,{"$f":"C95+C93+C82+C71+C60+C97","v":1436.2679270649669},null,{"$f":"E95+E93+E82+E71+E60+E97","v":1508.5214000074607}]
[]
["Vers gras",null,{"$f":"C97/C99","v":0.41811389487206962},null,{"$f":"E97/E99","v":0.48180900847934027}]
["Aandeel kuilgras",null,{"$f":"C60/C$99","v":0.10551847405636927},null,{"$f":"E60/E$99","v":0.10046446805411607}]
["Aandeel snijmais",null,{"$f":"C71/C$99","v":0.22677962367760007},null,{"$f":"E71/E$99","v":0.21591758658404783}]
["Aandeel overig ruwvoer",null,{"$f":"C82/C$99","v":0},null,{"$f":"E82/E$99","v":0}]
["Aandeel bijproducten",null,{"$f":"C93/C$99","v":2.5883227843128218E-2},null,{"$f":"E93/E$99","v":2.3939401853908995E-2}]
["Aandeel krachtvoer",null,{"$f":"C95/C$99","v":0.22370477955083279},null,{"$f":"E95/E$99","v":0.17786953502858691}]

{"sheet":"Juni Voeropname","index":47,"n_rows":162,"n_cols":18,"rows_kept":162,"cut":false,"hidden":true,"merged":[]}
["Gem rantsoen gehaltes (d dgn)",null,{"$f":"'Juni voer'!B3","v":"Juni gerealiseerd"},null,{"$f":"'Juni voer'!G3","v":"Juni prognose"}]
["DS opname/koe",null,{"$f":"C34","v":20.562956601269363},null,{"$f":"E34","v":21.465286717081646}]
["VEM",null,{"$f":"C12","v":937.9897013112901},null,{"$f":"AVERAGE(E12:E12)","v":948.64472177800985}]
["DVE",null,{"$f":"AVERAGE(C13)","v":{"$error":"#N/A"}},null,{"$error":"#N/A"},null,null,null,null,null,null,null,1,null,null,null,null,"Voedermiddelen"]
["OEB",null,{"$f":"AVERAGE(C14)","v":{"$error":"#N/A"}},null,{"$error":"#N/A"},null,null,null,null,null,null,null,2,null,null,null,null,"Kuilgras"]
["RE",null,{"$f":"AVERAGE(C15)","v":152.0573982533823},null,117.89912332142829,null,null,null,null,null,null,null,null,null,null,null,null,"Snijmais"]
["N",null,{"$f":"AVERAGE(C16)","v":24.329183720541167},null,18.863859731428526,null,null,null,null,null,null,null,"Vem toeslag weidegang",null,1.03,null,null,"OverigRuwvoer"]
["P",null,3.7385224756257287,null,3.0408028082223866,null,null,null,null,null,null,null,null,null,null,null,null,"Bijproducten"]
[null,null,null,null,null,null,null,null,null,null,null,null,null,null,null,null,null,"Krachtvoer"]
[]
["Rantsoen gehaltes (incl. weidegras)"]
["VEM",null,{"$f":"C35/C34","v":937.9897013112901},null,{"$f":"E35/E34","v":948.64472177800985},null,null,null,null,null,null,null,null,null,null,null,null,"Let op bij beperkt weiden is deze opname niet realistisch!"]
["DVE",null,{"$f":"C36/C34","v":{"$error":"#N/A"}},null,{"$f":"E36/E34","v":{"$error":"#N/A"}},null,null,null,null,null,null,null,null,null,null,null,null,"Let op VEM dekking te laag!"]
["OEB",null,{"$f":"C37","v":{"$error":"#N/A"}},null,{"$f":"E37","v":{"$error":"#N/A"}}]
["RE",null,{"$f":"C38/C34","v":152.0573982533823},null,{"$f":"E38/E34","v":117.89912332142829}]
["N",null,{"$f":"C39/C34","v":24.329183720541167},null,{"$f":"E39/E34","v":18.863859731428526}]
["P",null,{"$f":"C40/C34","v":3.7385224756257287},null,{"$f":"E40/E34","v":3.0408028082223866}]
[]
[]
[]
[]
["kg ds",null,{"$f":"C55/SUM('Juni vee+melk'!C2:C3)","v":11.671577464788731},null,{"$f":"E55/SUM('Juni vee+melk'!E2:E3)","v":11.554821917808219}]
["Vemopname ex weidegras",null,{"$f":"C22*C45","v":10841.031340845071},null,{"$f":"E22*E45","v":10947.989386301371}]
[]
[]
[]
["VEM behoefte",null,{"$f":"IF('Juni voer'!B4=1,'Juni vee+melk'!C27*'Juni Voeropname'!O7,'Juni vee+melk'!C27)","v":19287.841520501672},null,{"$f":"IF('Juni voer'!G4=1,'Juni vee+melk'!E27*'Juni Voeropname'!O7,'Juni vee+melk'!E27)","v":20362.93094561113}]
["Behoefte-opname",null,{"$f":"C27-'Juni Voeropname'!C23","v":8446.8101796566007},null,{"$f":"E27-'Juni Voeropname'!E23","v":9414.9415593097583}]
[null,null,{"$f":"C28/VLOOKUP('Juni voer'!B5,Weidegras!$A$5:$J$119,4,FALSE)","v":8.8913791364806318},null,{"$f":"E28/VLOOKUP('Juni voer'!G5,Weidegras!$A$5:$J$119,4,FALSE)","v":9.9104647992734289}]
[null,null,{"$f":"IF(C29>0,C29,0)","v":8.8913791364806318},null,{"$f":"IF(E29>0,E29,0)","v":9.9104647992734289}]
["Weidegrasopname/koe",null,{"$f":"IF('Juni voer'!B4=1,C30,0)","v":8.8913791364806318},null,{"$f":"IF('Juni voer'!G4=1,E30,0)","v":9.9104647992734289}]
[]
["Rantsoenopname incl weidegras"]
["droge stof",null,{"$f":"C22+C31","v":20.562956601269363},null,{"$f":"E22+E31","v":21.465286717081646}]
["VEM",null,{"$f":"C45*C22+C31*VLOOKUP('Juni voer'!B5,Weidegras!$A$6:$J$180,4,FALSE)","v":19287.841520501672},null,{"$f":"E45*E22+E31*VLOOKUP('Juni voer'!G5,Weidegras!$A$6:$J$180,4,FALSE)","v":20362.93094561113}]
["DVE",null,{"$f":"C46*C22+$C$31*VLOOKUP('Juni voer'!B5,Weidegras!$A$5:$J$150,5,FALSE)","v":{"$error":"#N/A"}},null,{"$f":"E46*E22+$C$31*VLOOKUP('Juni voer'!G5,Weidegras!$A$5:$J$150,5,FALSE)","v":{"$error":"#N/A"}}]
["OEB",null,{"$f":"C22*C47+$C$31*VLOOKUP('Juni voer'!B5,Weidegras!$A$6:$J$151,6,FALSE)","v":{"$error":"#N/A"}},null,{"$f":"E22*E47+$C$31*VLOOKUP('Juni voer'!G5,Weidegras!$A$6:$J$151,6,FALSE)","v":{"$error":"#N/A"}}]
["RE",null,{"$f":"C48*C22+C31*VLOOKUP('Juni voer'!$B$5,Weidegras!$A$6:$J$181,7,FALSE)","v":3126.749681186232},null,{"$f":"E48*E22+E31*VLOOKUP('Juni voer'!$B$5,Weidegras!$A$6:$J$181,7,FALSE)","v":2530.7384857870256}]
["N",null,{"$f":"C38/6.25","v":500.27994898979711},null,{"$f":"E38/6.25","v":404.91815772592412}]
["P",null,{"$f":"C50*C22+C31*VLOOKUP('Juni voer'!$B$5,Weidegras!$A$6:$J$183,10,FALSE)","v":76.875075419161959},null,{"$f":"E50*E22+E31*VLOOKUP('Juni voer'!$B$5,Weidegras!$A$6:$J$183,10,FALSE)","v":65.271704128600561}]
[]
[]
["Stalrantsoen gehaltes"]
["droge stof"]
["VEM",null,{"$f":"C56/C$55","v":928.84028517573699},null,{"$f":"E56/E$55","v":947.48231207513447}]
["DVE",null,{"$f":"C57/C$55*1000","v":{"$error":"#N/A"}},null,{"$f":"E57/E$55*1000","v":{"$error":"#N/A"}}]
["OEB",null,{"$f":"C58/C$55","v":{"$error":"#N/A"}},null,{"$f":"E58/E$55","v":{"$error":"#N/A"}}]
["RE",null,{"$f":"C59/C$55","v":130.77079265629035},null,64.635770869541517]
["N",null,{"$f":"C60/C$55","v":20.923326825006455},null,10.341723339126641]
["P",null,{"$f":"C61/C$55","v":3.5393295377478937},null,2.2181081728318364]
[]
[]
[]
["Stalrantsoen opname"]
["droge stof (kg)",null,{"$f":"C80","v":828.6819999999999},null,843.50199999999995]
["VEM",null,{"$f":"C96","v":769713.22519999999},null,799203.22519999999]
["DVE",null,{"$f":"C112","v":{"$error":"#N/A"}},null,{"$f":"E112","v":{"$error":"#N/A"}}]
["OEB",null,{"$f":"C128","v":{"$error":"#N/A"}},null,{"$f":"E128","v":{"$error":"#N/A"}}]
["RE",null,{"$f":"C144","v":108367.402},null,{"$f":"E144","v":54520.402000000002}]
["N",null,{"$f":"C146","v":17338.784319999999},null,{"$f":"E146","v":8723.2643200000002}]
["P",null,{"$f":"C162","v":2932.9786799999997},null,{"$f":"E162","v":1870.9786799999997}]
[]
[]
[]
["Drogestof opname"]
[{"$f":"'Juni voer'!A9","v":"Kuilgras"},{"$f":"'Juni voer'!B9","v":"Gkuil balen 2016 2e snede"},{"$f":"IF('Juni voer'!C9>0,VLOOKUP('Juni voer'!B9,Voedermiddelen!$A$4:$K$75,3,FALSE)*'Juni voer'!C9*(1-'Juni voer'!$B$6),\"\")","v":210.48999999999998},{"$f":"'Juni voer'!G9","v":"Gkuil balen 2016 2e snede"},{"$f":"IF('Juni voer'!H9>0,VLOOKUP('Juni voer'!G9,Voedermiddelen!$A$4:$K$75,3,FALSE)*'Juni voer'!H9*(1-'Juni voer'!$G$6),\"\")","v":210.48999999999998}]
[{"$f":"'Juni voer'!A10","v":"Snijmais"},{"$f":"'Juni voer'!B10","v":"Mkuil 1"},{"$f":"IF('Juni voer'!C10>0,VLOOKUP('Juni voer'!B10,Voedermiddelen!$A$4:$K$75,3,FALSE)*'Juni voer'!C10*(1-'Juni voer'!$B$6),\"\")","v":310.20599999999996},{"$f":"'Juni voer'!G10","v":"Mkuil 1"},{"$f":"IF('Juni voer'!H10>0,VLOOKUP('Juni voer'!G10,Voedermiddelen!$A$4:$K$75,3,FALSE)*'Juni voer'!H10*(1-'Juni voer'!$G$6),\"\")","v":310.20599999999996}]
[{"$f":"'Juni voer'!A11","v":"OverigRuwvoer"},{"$f":"'Juni voer'!B11","v":"Overig 1"},{"$f":"IF('Juni voer'!C11>0,VLOOKUP('Juni voer'!B11,Voedermiddelen!$A$4:$K$75,3,FALSE)*'Juni voer'!C11*(1-'Juni voer'!$B$6),\"\")","v":""},{"$f":"'Juni voer'!G11","v":"Overig 1"},{"$f":"IF('Juni voer'!H11>0,VLOOKUP('Juni voer'!G11,Voedermiddelen!$A$4:$K$75,3,FALSE)*'Juni voer'!H11*(1-'Juni voer'!$G$6),\"\")","v":""}]
[{"$f":"'Juni voer'!A12","v":"Bijproducten"},{"$f":"'Juni voer'!B12","v":"Bierbostel"},{"$f":"IF('Juni voer'!C12>0,VLOOKUP('Juni voer'!B12,Voedermiddelen!$A$4:$K$75,3,FALSE)*'Juni voer'!C12*(1-'Juni voer'!$B$6),\"\")","v":42.485999999999997},{"$f":"'Juni voer'!G12","v":"Bierbostel"},{"$f":"IF('Juni voer'!H12>0,VLOOKUP('Juni voer'!G12,Voedermiddelen!$A$4:$K$75,3,FALSE)*'Juni voer'!H12*(1-'Juni voer'!$G$6),\"\")","v":42.485999999999997}]
[{"$f":"'Juni voer'!A13","v":"OverigRuwvoer"},{"$f":"'Juni voer'!B13","v":"Overig 2"},{"$f":"IF('Juni voer'!C13>0,VLOOKUP('Juni voer'!B13,Voedermiddelen!$A$4:$K$75,3,FALSE)*'Juni voer'!C13*(1-'Juni voer'!$B$6),\"\")","v":""},{"$f":"'Juni voer'!G13","v":"Overig 2"},{"$f":"IF('Juni voer'!H13>0,VLOOKUP('Juni voer'!G13,Voedermiddelen!$A$4:$K$75,3,FALSE)*'Juni voer'!H13*(1-'Juni voer'!$G$6),\"\")","v":""}]
[{"$f":"'Juni voer'!A14","v":"Bijproducten"},{"$f":"'Juni voer'!B14","v":"BP 6"},{"$f":"IF('Juni voer'!C14>0,VLOOKUP('Juni voer'!B14,Voedermiddelen!$A$4:$K$75,3,FALSE)*'Juni voer'!C14*(1-'Juni voer'!$B$6),\"\")","v":""},{"$f":"'Juni voer'!G14","v":"BP 6"},{"$f":"IF('Juni voer'!H14>0,VLOOKUP('Juni voer'!G14,Voedermiddelen!$A$4:$K$75,3,FALSE)*'Juni voer'!H14*(1-'Juni voer'!$G$6),\"\")","v":""}]
[{"$f":"'Juni voer'!A15","v":0},{"$f":"'Juni voer'!B15","v":0},{"$f":"IF('Juni voer'!C15>0,VLOOKUP('Juni voer'!B15,Voedermiddelen!$A$4:$K$75,3,FALSE)*'Juni voer'!C15*(1-'Juni voer'!$B$6),\"\")","v":""},{"$f":"'Juni voer'!G15","v":0},{"$f":"IF('Juni voer'!H15>0,VLOOKUP('Juni voer'!G15,Voedermiddelen!$A$4:$K$75,3,FALSE)*'Juni voer'!H15*(1-'Juni voer'!$G$6),\"\")","v":""}]
[{"$f":"'Juni voer'!A16","v":0},{"$f":"'Juni voer'!B16","v":0},{"$f":"IF('Juni voer'!C16>0,VLOOKUP('Juni voer'!B16,Voedermiddelen!$A$4:$K$75,3,FALSE)*'Juni voer'!C16*(1-'Juni voer'!$B$6),\"\")","v":""},{"$f":"'Juni voer'!G16","v":0},{"$f":"IF('Juni voer'!H16>0,VLOOKUP('Juni voer'!G16,Voedermiddelen!$A$4:$K$75,3,FALSE)*'Juni voer'!H16*(1-'Juni voer'!$G$6),\"\")","v":""}]
[{"$f":"'Juni voer'!A17","v":0},{"$f":"'Juni voer'!B17","v":0},{"$f":"IF('Juni voer'!C17>0,VLOOKUP('Juni voer'!B17,Voedermiddelen!$A$4:$K$75,3,FALSE)*'Juni voer'!C17*(1-'Juni voer'!$B$6),\"\")","v":""},{"$f":"'Juni voer'!G17","v":0},{"$f":"IF('Juni voer'!H17>0,VLOOKUP('Juni voer'!G17,Voedermiddelen!$A$4:$K$75,3,FALSE)*'Juni voer'!H17*(1-'Juni voer'!$G$6),\"\")","v":""}]
[null,{"$f":"'Juni voer'!B18","v":0},{"$f":"IF('Juni voer'!C18>0,VLOOKUP('Juni voer'!B18,Voedermiddelen!$A$4:$K$75,3,FALSE)*'Juni voer'!C18*(1-'Juni voer'!$B$6),\"\")","v":""},{"$f":"'Juni voer'!G18","v":0},{"$f":"IF('Juni voer'!H18>0,VLOOKUP('Juni voer'!G18,Voedermiddelen!$A$4:$K$75,3,FALSE)*'Juni voer'!H18*(1-'Juni voer'!$G$6),\"\")","v":""}]
[null,{"$f":"'Juni voer'!B20","v":"KV 1"},{"$f":"IF('Juni voer'!C20>0,VLOOKUP('Juni voer'!B20,Voedermiddelen!$A$4:$K$75,3,FALSE)*'Juni voer'!C20,\"\")","v":67.5},null,{"$f":"'Juni voer'!H22*'Juni vee+melk'!E15/100*0.9","v":280.32000000000005}]
[null,{"$f":"'Juni voer'!B21","v":"Melkbrok BM"},{"$f":"IF('Juni voer'!C21>0,VLOOKUP('Juni voer'!B21,Voedermiddelen!$A$4:$K$75,3,FALSE)*'Juni voer'!C21,\"\")","v":198}]
[null,{"$f":"'Juni voer'!B22","v":0},{"$f":"IF('Juni voer'!C22>0,VLOOKUP('Juni voer'!B22,Voedermiddelen!$A$4:$K$75,3,FALSE)*'Juni voer'!C22,\"\")","v":""}]
[]
["Totaal",null,{"$f":"SUM(C66:C78)","v":828.6819999999999},null,{"$f":"SUM(E66:E78)","v":843.50199999999995}]
[]
["VEM",{"$f":"B66","v":"Gkuil balen 2016 2e snede"},{"$f":"IF('Juni voer'!C9>0,VLOOKUP('Juni voer'!B9,Voedermiddelen!$A$4:$K$75,4,FALSE)*C66,\"\")","v":167760.53},{"$f":"D66","v":"Gkuil balen 2016 2e snede"},{"$f":"IF('Juni voer'!H9>0,VLOOKUP('Juni voer'!G9,Voedermiddelen!$A$4:$K$75,4,FALSE)*E66,\"\")","v":167760.53}]
[null,{"$f":"B67","v":"Mkuil 1"},{"$f":"IF('Juni voer'!C10>0,VLOOKUP('Juni voer'!B10,Voedermiddelen!$A$4:$K$75,4,FALSE)*C67,\"\")","v":310888.45319999999},"Mkuil 1",{"$f":"IF('Juni voer'!H10>0,VLOOKUP('Juni voer'!G10,Voedermiddelen!$A$4:$K$75,4,FALSE)*E67,\"\")","v":310888.45319999999}]
[null,"Overig 1",{"$f":"IF('Juni voer'!C11>0,VLOOKUP('Juni voer'!B11,Voedermiddelen!$A$4:$K$75,4,FALSE)*C68,\"\")","v":""},"Overig 1",{"$f":"IF('Juni voer'!H11>0,VLOOKUP('Juni voer'!G11,Voedermiddelen!$A$4:$K$75,4,FALSE)*E68,\"\")","v":""}]
[null,"Bierbostel",{"$f":"IF('Juni voer'!C12>0,VLOOKUP('Juni voer'!B12,Voedermiddelen!$A$4:$K$75,4,FALSE)*C69,\"\")","v":40234.241999999998},"Bierbostel",{"$f":"IF('Juni voer'!H12>0,VLOOKUP('Juni voer'!G12,Voedermiddelen!$A$4:$K$75,4,FALSE)*E69,\"\")","v":40234.241999999998}]
[null,"Overig 2",{"$f":"IF('Juni voer'!C13>0,VLOOKUP('Juni voer'!B13,Voedermiddelen!$A$4:$K$75,4,FALSE)*C70,\"\")","v":""},"Overig 2",{"$f":"IF('Juni voer'!H13>0,VLOOKUP('Juni voer'!G13,Voedermiddelen!$A$4:$K$75,4,FALSE)*E70,\"\")","v":""}]
[null,"BP 6",{"$f":"IF('Juni voer'!C14>0,VLOOKUP('Juni voer'!B14,Voedermiddelen!$A$4:$K$75,4,FALSE)*C71,\"\")","v":""},"BP 6",{"$f":"IF('Juni voer'!H14>0,VLOOKUP('Juni voer'!G14,Voedermiddelen!$A$4:$K$75,4,FALSE)*E71,\"\")","v":""}]
[null,0,{"$f":"IF('Juni voer'!C15>0,VLOOKUP('Juni voer'!B15,Voedermiddelen!$A$4:$K$75,4,FALSE)*C72,\"\")","v":""},0,{"$f":"IF('Juni voer'!H15>0,VLOOKUP('Juni voer'!G15,Voedermiddelen!$A$4:$K$75,4,FALSE)*E72,\"\")","v":""}]
[null,0,{"$f":"IF('Juni voer'!C16>0,VLOOKUP('Juni voer'!B16,Voedermiddelen!$A$4:$K$75,4,FALSE)*C73,\"\")","v":""},0,{"$f":"IF('Juni voer'!H16>0,VLOOKUP('Juni voer'!G16,Voedermiddelen!$A$4:$K$75,4,FALSE)*E73,\"\")","v":""}]
[null,0,{"$f":"IF('Juni voer'!C17>0,VLOOKUP('Juni voer'!B17,Voedermiddelen!$A$4:$K$75,4,FALSE)*C74,\"\")","v":""},0,{"$f":"IF('Juni voer'!H17>0,VLOOKUP('Juni voer'!G17,Voedermiddelen!$A$4:$K$75,4,FALSE)*E74,\"\")","v":""}]
[null,0,{"$f":"IF('Juni voer'!C18>0,VLOOKUP('Juni voer'!B18,Voedermiddelen!$A$4:$K$75,4,FALSE)*C75,\"\")","v":""},0,{"$f":"IF('Juni voer'!H18>0,VLOOKUP('Juni voer'!G18,Voedermiddelen!$A$4:$K$75,4,FALSE)*E75,\"\")","v":""}]
[null,"KV 1",{"$f":"IF('Juni voer'!C20>0,VLOOKUP('Juni voer'!B20,Voedermiddelen!$A$4:$K$75,4,FALSE)*C76,\"\")","v":60750},0,{"$f":"E76*1000","v":280320.00000000006}]
[null,"Melkbrok BM",{"$f":"IF('Juni voer'!C21>0,VLOOKUP('Juni voer'!B21,Voedermiddelen!$A$4:$K$75,4,FALSE)*C77,\"\")","v":190080},0]
[null,0,{"$f":"IF('Juni voer'!C22>0,VLOOKUP('Juni voer'!B22,Voedermiddelen!$A$4:$K$75,4,FALSE)*C78,\"\")","v":""},0]
[]
["Totaal",null,{"$f":"SUM(C82:C94)","v":769713.22519999999},null,{"$f":"SUM(E82:E94)","v":799203.22519999999}]
[]
["DVE",{"$f":"B82","v":"Gkuil balen 2016 2e snede"},{"$f":"IF('Juni voer'!C9>0,VLOOKUP('Juni voer'!B9,[2]Voedermiddelen!$A$4:$K$75,5,FALSE)*C66,\"\")","v":{"$error":"#N/A"}},{"$f":"D82","v":"Gkuil balen 2016 2e snede"},{"$f":"IF('Juni voer'!H9>0,VLOOKUP('Juni voer'!G9,[2]Voedermiddelen!$A$4:$K$75,5,FALSE)*E66,\"\")","v":{"$error":"#N/A"}}]
[null,{"$f":"B83","v":"Mkuil 1"},{"$f":"IF('Juni voer'!C10>0,VLOOKUP('Juni voer'!B10,[2]Voedermiddelen!$A$4:$K$75,5,FALSE)*C67,\"\")","v":22148.7084},"Mkuil 1",{"$f":"IF('Juni voer'!H10>0,VLOOKUP('Juni voer'!G10,[2]Voedermiddelen!$A$4:$K$75,5,FALSE)*E67,\"\")","v":22148.7084}]
[null,"Overig 1",{"$f":"IF('Juni voer'!C11>0,VLOOKUP('Juni voer'!B11,[2]Voedermiddelen!$A$4:$K$75,5,FALSE)*C68,\"\")","v":""},"Overig 1",{"$f":"IF('Juni voer'!H11>0,VLOOKUP('Juni voer'!G11,[2]Voedermiddelen!$A$4:$K$75,5,FALSE)*E68,\"\")","v":""}]
[null,"Bierbostel",{"$f":"IF('Juni voer'!C12>0,VLOOKUP('Juni voer'!B12,[2]Voedermiddelen!$A$4:$K$75,5,FALSE)*C69,\"\")","v":5820.5819999999994},"Bierbostel",{"$f":"IF('Juni voer'!H12>0,VLOOKUP('Juni voer'!G12,[2]Voedermiddelen!$A$4:$K$75,5,FALSE)*E69,\"\")","v":5820.5819999999994}]
[null,"Overig 2",{"$f":"IF('Juni voer'!C13>0,VLOOKUP('Juni voer'!B13,[2]Voedermiddelen!$A$4:$K$75,5,FALSE)*C70,\"\")","v":""},"Overig 2",{"$f":"IF('Juni voer'!H13>0,VLOOKUP('Juni voer'!G13,[2]Voedermiddelen!$A$4:$K$75,5,FALSE)*E70,\"\")","v":""}]
[null,"BP 6",{"$f":"IF('Juni voer'!C14>0,VLOOKUP('Juni voer'!B14,[2]Voedermiddelen!$A$4:$K$75,5,FALSE)*C71,\"\")","v":""},"BP 6",{"$f":"IF('Juni voer'!H14>0,VLOOKUP('Juni voer'!G14,[2]Voedermiddelen!$A$4:$K$75,5,FALSE)*E71,\"\")","v":""}]
[null,0,{"$f":"IF('Juni voer'!C15>0,VLOOKUP('Juni voer'!B15,[2]Voedermiddelen!$A$4:$K$75,5,FALSE)*C72,\"\")","v":""},0,{"$f":"IF('Juni voer'!H15>0,VLOOKUP('Juni voer'!G15,[2]Voedermiddelen!$A$4:$K$75,5,FALSE)*E72,\"\")","v":""}]
[null,0,{"$f":"IF('Juni voer'!C16>0,VLOOKUP('Juni voer'!B16,[2]Voedermiddelen!$A$4:$K$75,5,FALSE)*C73,\"\")","v":""},0,{"$f":"IF('Juni voer'!H16>0,VLOOKUP('Juni voer'!G16,[2]Voedermiddelen!$A$4:$K$75,5,FALSE)*E73,\"\")","v":""}]
[null,0,{"$f":"IF('Juni voer'!C17>0,VLOOKUP('Juni voer'!B17,[2]Voedermiddelen!$A$4:$K$75,5,FALSE)*C74,\"\")","v":""},0,{"$f":"IF('Juni voer'!H17>0,VLOOKUP('Juni voer'!G17,[2]Voedermiddelen!$A$4:$K$75,5,FALSE)*E74,\"\")","v":""}]
[null,0,{"$f":"IF('Juni voer'!C18>0,VLOOKUP('Juni voer'!B18,[2]Voedermiddelen!$A$4:$K$75,5,FALSE)*C75,\"\")","v":""},0,{"$f":"IF('Juni voer'!H18>0,VLOOKUP('Juni voer'!G18,[2]Voedermiddelen!$A$4:$K$75,5,FALSE)*E75,\"\")","v":""}]
[null,"KV 1",{"$f":"IF('Juni voer'!C20>0,VLOOKUP('Juni voer'!B20,[2]Voedermiddelen!$A$4:$K$75,5,FALSE)*C76,\"\")","v":8100},0]
[null,"Melkbrok BM",{"$f":"IF('Juni voer'!C21>0,VLOOKUP('Juni voer'!B21,[2]Voedermiddelen!$A$4:$K$75,5,FALSE)*C77,\"\")","v":{"$error":"#N/A"}},0]
[null,0,{"$f":"IF('Juni voer'!C22>0,VLOOKUP('Juni voer'!B22,[2]Voedermiddelen!$A$4:$K$75,5,FALSE)*C78,\"\")","v":""},0]
[]
["Totaal",null,{"$f":"SUM(C98:C110)/1000","v":{"$error":"#N/A"}},null,{"$f":"SUM(E98:E110)/1000","v":{"$error":"#N/A"}}]
[]
["OEB",{"$f":"B98","v":"Gkuil balen 2016 2e snede"},{"$f":"IF('Juni voer'!C9>0,VLOOKUP('Juni voer'!B9,[2]Voedermiddelen!$A$4:$K$75,6,FALSE)*C66,\"\")","v":{"$error":"#N/A"}},{"$f":"D98","v":"Gkuil balen 2016 2e snede"},{"$f":"IF('Juni voer'!H9>0,VLOOKUP('Juni voer'!G9,[2]Voedermiddelen!$A$4:$K$75,6,FALSE)*E66,\"\")","v":{"$error":"#N/A"}}]
[null,{"$f":"B99","v":"Mkuil 1"},{"$f":"IF('Juni voer'!C10>0,VLOOKUP('Juni voer'!B10,[2]Voedermiddelen!$A$4:$K$75,6,FALSE)*C67,\"\")","v":-8499.6443999999992},"Mkuil 1",{"$f":"IF('Juni voer'!H10>0,VLOOKUP('Juni voer'!G10,[2]Voedermiddelen!$A$4:$K$75,6,FALSE)*E67,\"\")","v":-8499.6443999999992}]
[null,"Overig 1",{"$f":"IF('Juni voer'!C11>0,VLOOKUP('Juni voer'!B11,[2]Voedermiddelen!$A$4:$K$75,6,FALSE)*C68,\"\")","v":""},"Overig 1",{"$f":"IF('Juni voer'!H11>0,VLOOKUP('Juni voer'!G11,[2]Voedermiddelen!$A$4:$K$75,6,FALSE)*E68,\"\")","v":""}]
[null,"Bierbostel",{"$f":"IF('Juni voer'!C12>0,VLOOKUP('Juni voer'!B12,[2]Voedermiddelen!$A$4:$K$75,6,FALSE)*C69,\"\")","v":2336.73},"Bierbostel",{"$f":"IF('Juni voer'!H12>0,VLOOKUP('Juni voer'!G12,[2]Voedermiddelen!$A$4:$K$75,6,FALSE)*E69,\"\")","v":2336.73}]
[null,"Overig 2",{"$f":"IF('Juni voer'!C13>0,VLOOKUP('Juni voer'!B13,[2]Voedermiddelen!$A$4:$K$75,6,FALSE)*C70,\"\")","v":""},"Overig 2",{"$f":"IF('Juni voer'!H13>0,VLOOKUP('Juni voer'!G13,[2]Voedermiddelen!$A$4:$K$75,6,FALSE)*E70,\"\")","v":""}]
[null,"BP 6",{"$f":"IF('Juni voer'!C14>0,VLOOKUP('Juni voer'!B14,[2]Voedermiddelen!$A$4:$K$75,6,FALSE)*C71,\"\")","v":""},"BP 6",{"$f":"IF('Juni voer'!H14>0,VLOOKUP('Juni voer'!G14,[2]Voedermiddelen!$A$4:$K$75,6,FALSE)*E71,\"\")","v":""}]
[null,0,{"$f":"IF('Juni voer'!C15>0,VLOOKUP('Juni voer'!B15,[2]Voedermiddelen!$A$4:$K$75,6,FALSE)*C72,\"\")","v":""},0,{"$f":"IF('Juni voer'!H15>0,VLOOKUP('Juni voer'!G15,[2]Voedermiddelen!$A$4:$K$75,6,FALSE)*E72,\"\")","v":""}]
[null,0,{"$f":"IF('Juni voer'!C16>0,VLOOKUP('Juni voer'!B16,[2]Voedermiddelen!$A$4:$K$75,6,FALSE)*C73,\"\")","v":""},0,{"$f":"IF('Juni voer'!H16>0,VLOOKUP('Juni voer'!G16,[2]Voedermiddelen!$A$4:$K$75,6,FALSE)*E73,\"\")","v":""}]
[null,0,{"$f":"IF('Juni voer'!C17>0,VLOOKUP('Juni voer'!B17,[2]Voedermiddelen!$A$4:$K$75,6,FALSE)*C74,\"\")","v":""},0,{"$f":"IF('Juni voer'!H17>0,VLOOKUP('Juni voer'!G17,[2]Voedermiddelen!$A$4:$K$75,6,FALSE)*E74,\"\")","v":""}]
[null,0,{"$f":"IF('Juni voer'!C18>0,VLOOKUP('Juni voer'!B18,[2]Voedermiddelen!$A$4:$K$75,6,FALSE)*C75,\"\")","v":""},0,{"$f":"IF('Juni voer'!H18>0,VLOOKUP('Juni voer'!G18,[2]Voedermiddelen!$A$4:$K$75,6,FALSE)*E75,\"\")","v":""}]
[null,"KV 1",{"$f":"IF('Juni voer'!C20>0,VLOOKUP('Juni voer'!B20,[2]Voedermiddelen!$A$4:$K$75,6,FALSE)*C76,\"\")","v":4050},0]
[null,"Melkbrok BM",{"$f":"IF('Juni voer'!C21>0,VLOOKUP('Juni voer'!B21,[2]Voedermiddelen!$A$4:$K$75,6,FALSE)*C77,\"\")","v":{"$error":"#N/A"}},0]
[null,0,{"$f":"IF('Juni voer'!C22>0,VLOOKUP('Juni voer'!B22,[2]Voedermiddelen!$A$4:$K$75,6,FALSE)*C78,\"\")","v":""},0]
[]
["Totaal",null,{"$f":"SUM(C114:C126)","v":{"$error":"#N/A"}},null,{"$f":"SUM(E114:E126)","v":{"$error":"#N/A"}}]
[]
["RE",{"$f":"B114","v":"Gkuil balen 2016 2e snede"},{"$f":"IF('Juni voer'!C9>0,VLOOKUP('Juni voer'!B9,Voedermiddelen!$A$4:$K$75,7,FALSE)*C66,\"\")","v":22311.94},{"$f":"D114","v":"Gkuil balen 2016 2e snede"},{"$f":"IF('Juni voer'!H9>0,VLOOKUP('Juni voer'!G9,Voedermiddelen!$A$4:$K$75,7,FALSE)*E66,\"\")","v":22311.94}]
[null,{"$f":"B115","v":"Mkuil 1"},{"$f":"IF('Juni voer'!C10>0,VLOOKUP('Juni voer'!B10,Voedermiddelen!$A$4:$K$75,7,FALSE)*C67,\"\")","v":21714.42},"Mkuil 1",{"$f":"IF('Juni voer'!H10>0,VLOOKUP('Juni voer'!G10,Voedermiddelen!$A$4:$K$75,7,FALSE)*E67,\"\")","v":21714.42}]
[null,"Overig 1",{"$f":"IF('Juni voer'!C11>0,VLOOKUP('Juni voer'!B11,Voedermiddelen!$A$4:$K$75,7,FALSE)*C68,\"\")","v":""},"Overig 1",{"$f":"IF('Juni voer'!H11>0,VLOOKUP('Juni voer'!G11,Voedermiddelen!$A$4:$K$75,7,FALSE)*E68,\"\")","v":""}]
[null,"Bierbostel",{"$f":"IF('Juni voer'!C12>0,VLOOKUP('Juni voer'!B12,Voedermiddelen!$A$4:$K$75,7,FALSE)*C69,\"\")","v":10494.041999999999},"Bierbostel",{"$f":"IF('Juni voer'!H12>0,VLOOKUP('Juni voer'!G12,Voedermiddelen!$A$4:$K$75,7,FALSE)*E69,\"\")","v":10494.041999999999}]
[null,"Overig 2",{"$f":"IF('Juni voer'!C13>0,VLOOKUP('Juni voer'!B13,Voedermiddelen!$A$4:$K$75,7,FALSE)*C70,\"\")","v":""},"Overig 2",{"$f":"IF('Juni voer'!H13>0,VLOOKUP('Juni voer'!G13,Voedermiddelen!$A$4:$K$75,7,FALSE)*E70,\"\")","v":""}]
[null,"BP 6",{"$f":"IF('Juni voer'!C14>0,VLOOKUP('Juni voer'!B14,Voedermiddelen!$A$4:$K$75,7,FALSE)*C71,\"\")","v":""},"BP 6",{"$f":"IF('Juni voer'!H14>0,VLOOKUP('Juni voer'!G14,Voedermiddelen!$A$4:$K$75,7,FALSE)*E71,\"\")","v":""}]
[null,0,{"$f":"IF('Juni voer'!C15>0,VLOOKUP('Juni voer'!B15,Voedermiddelen!$A$4:$K$75,7,FALSE)*C72,\"\")","v":""},0,{"$f":"IF('Juni voer'!H15>0,VLOOKUP('Juni voer'!G15,Voedermiddelen!$A$4:$K$75,7,FALSE)*E72,\"\")","v":""}]
[null,0,{"$f":"IF('Juni voer'!C16>0,VLOOKUP('Juni voer'!B16,Voedermiddelen!$A$4:$K$75,7,FALSE)*C73,\"\")","v":""},0,{"$f":"IF('Juni voer'!H16>0,VLOOKUP('Juni voer'!G16,Voedermiddelen!$A$4:$K$75,7,FALSE)*E73,\"\")","v":""}]
[null,0,{"$f":"IF('Juni voer'!C17>0,VLOOKUP('Juni voer'!B17,Voedermiddelen!$A$4:$K$75,7,FALSE)*C74,\"\")","v":""},0,{"$f":"IF('Juni voer'!H17>0,VLOOKUP('Juni voer'!G17,Voedermiddelen!$A$4:$K$75,7,FALSE)*E74,\"\")","v":""}]
[null,0,{"$f":"IF('Juni voer'!C18>0,VLOOKUP('Juni voer'!B18,Voedermiddelen!$A$4:$K$75,7,FALSE)*C75,\"\")","v":""},0,{"$f":"IF('Juni voer'!H18>0,VLOOKUP('Juni voer'!G18,Voedermiddelen!$A$4:$K$75,7,FALSE)*E75,\"\")","v":""}]
[null,"KV 1",{"$f":"IF('Juni voer'!C20>0,VLOOKUP('Juni voer'!B20,Voedermiddelen!$A$4:$K$75,7,FALSE)*C76,\"\")","v":11475},0]
[null,"Melkbrok BM",{"$f":"IF('Juni voer'!C21>0,VLOOKUP('Juni voer'!B21,Voedermiddelen!$A$4:$K$75,7,FALSE)*C77,\"\")","v":42372},0]
[null,{"$f":"B126","v":0},{"$f":"IF('Juni voer'!C22>0,VLOOKUP('Juni voer'!B22,Voedermiddelen!$A$4:$K$75,7,FALSE)*C78,\"\")","v":""},0]
[]
["Totaal",null,{"$f":"SUM(C130:C142)","v":108367.402},null,{"$f":"SUM(E130:E142)","v":54520.402000000002}]
[]
["N opname",null,{"$f":"C144/6.25","v":17338.784319999999},null,{"$f":"E144/6.25","v":8723.2643200000002},null,{"$f":"(E76/0.9*'Juni voer'!M6/6.25)","v":10555.302302889724}]
[]
["P",{"$f":"B130","v":"Gkuil balen 2016 2e snede"},{"$f":"IF('Juni voer'!C9>0,VLOOKUP('Juni voer'!B9,Voedermiddelen!$A$4:$K$75,10,FALSE)*C66,\"\")","v":694.61699999999985},{"$f":"D130","v":"Gkuil balen 2016 2e snede"},{"$f":"IF('Juni voer'!H9>0,VLOOKUP('Juni voer'!G9,Voedermiddelen!$A$4:$K$75,10,FALSE)*E66,\"\")","v":694.61699999999985}]
[null,{"$f":"B131","v":"Mkuil 1"},{"$f":"IF('Juni voer'!C10>0,VLOOKUP('Juni voer'!B10,Voedermiddelen!$A$4:$K$75,10,FALSE)*C67,\"\")","v":955.43447999999978},"Mkuil 1",{"$f":"IF('Juni voer'!H10>0,VLOOKUP('Juni voer'!G10,Voedermiddelen!$A$4:$K$75,10,FALSE)*E67,\"\")","v":955.43447999999978}]
[null,"Overig 1",{"$f":"IF('Juni voer'!C11>0,VLOOKUP('Juni voer'!B11,Voedermiddelen!$A$4:$K$75,10,FALSE)*C68,\"\")","v":""},"Overig 1",{"$f":"IF('Juni voer'!H11>0,VLOOKUP('Juni voer'!G11,Voedermiddelen!$A$4:$K$75,10,FALSE)*E68,\"\")","v":""}]
[null,"Bierbostel",{"$f":"IF('Juni voer'!C12>0,VLOOKUP('Juni voer'!B12,Voedermiddelen!$A$4:$K$75,10,FALSE)*C69,\"\")","v":220.9272},"Bierbostel",{"$f":"IF('Juni voer'!H12>0,VLOOKUP('Juni voer'!G12,Voedermiddelen!$A$4:$K$75,10,FALSE)*E69,\"\")","v":220.9272}]
[null,"Overig 2",{"$f":"IF('Juni voer'!C13>0,VLOOKUP('Juni voer'!B13,Voedermiddelen!$A$4:$K$75,10,FALSE)*C70,\"\")","v":""},"Overig 2",{"$f":"IF('Juni voer'!H13>0,VLOOKUP('Juni voer'!G13,Voedermiddelen!$A$4:$K$75,10,FALSE)*E70,\"\")","v":""}]
[null,"BP 6",{"$f":"IF('Juni voer'!C14>0,VLOOKUP('Juni voer'!B14,Voedermiddelen!$A$4:$K$75,10,FALSE)*C71,\"\")","v":""},"BP 6",{"$f":"IF('Juni voer'!H14>0,VLOOKUP('Juni voer'!G14,Voedermiddelen!$A$4:$K$75,10,FALSE)*E71,\"\")","v":""}]
[null,0,{"$f":"IF('Juni voer'!C15>0,VLOOKUP('Juni voer'!B15,Voedermiddelen!$A$4:$K$75,10,FALSE)*C72,\"\")","v":""},0,{"$f":"IF('Juni voer'!H15>0,VLOOKUP('Juni voer'!G15,Voedermiddelen!$A$4:$K$75,10,FALSE)*E72,\"\")","v":""}]
[null,0,{"$f":"IF('Juni voer'!C16>0,VLOOKUP('Juni voer'!B16,Voedermiddelen!$A$4:$K$75,10,FALSE)*C73,\"\")","v":""},0,{"$f":"IF('Juni voer'!H16>0,VLOOKUP('Juni voer'!G16,Voedermiddelen!$A$4:$K$75,10,FALSE)*E73,\"\")","v":""}]
[null,0,{"$f":"IF('Juni voer'!C17>0,VLOOKUP('Juni voer'!B17,Voedermiddelen!$A$4:$K$75,10,FALSE)*C74,\"\")","v":""},0,{"$f":"IF('Juni voer'!H17>0,VLOOKUP('Juni voer'!G17,Voedermiddelen!$A$4:$K$75,10,FALSE)*E74,\"\")","v":""}]
[null,0,{"$f":"IF('Juni voer'!C18>0,VLOOKUP('Juni voer'!B18,Voedermiddelen!$A$4:$K$75,10,FALSE)*C75,\"\")","v":""},0,{"$f":"IF('Juni voer'!H18>0,VLOOKUP('Juni voer'!G18,Voedermiddelen!$A$4:$K$75,10,FALSE)*E75,\"\")","v":""}]
[null,{"$f":"B140","v":"KV 1"},{"$f":"IF('Juni voer'!C20>0,VLOOKUP('Juni voer'!B20,Voedermiddelen!$A$4:$K$75,10,FALSE)*C76,\"\")","v":270},0]
[null,{"$f":"B141","v":"Melkbrok BM"},{"$f":"IF('Juni voer'!C21>0,VLOOKUP('Juni voer'!B21,Voedermiddelen!$A$4:$K$75,10,FALSE)*C77,\"\")","v":792},0]
[null,{"$f":"B142","v":0},{"$f":"IF('Juni voer'!C22>0,VLOOKUP('Juni voer'!B22,Voedermiddelen!$A$4:$K$75,10,FALSE)*C78,\"\")","v":""},0]
[]
["Totaal",null,{"$f":"SUM(C148:C160)","v":2932.9786799999997},null,{"$f":"SUM(E148:E160)","v":1870.9786799999997},null,{"$f":"(E76/0.9*'Juni voer'!M7)","v":876.24294786121573}]

{"sheet":"Juni Excretie","index":48,"n_rows":25,"n_cols":5,"rows_kept":25,"cut":false,"hidden":true,"merged":[]}
["Veestapel"]
[null,null,{"$f":"'Juni vee+melk'!C6","v":"Juni gerealiseerd"},null,{"$f":"'Juni vee+melk'!E6","v":"Juni prognose"}]
[]
[]
["Excretie (kg/dier/dag)"]
[null,null,"N",null,"N"]
["Opname",null,{"$f":"'Juni Voeropname'!C2*'Juni Voeropname'!C7*0.001","v":0.50027994898979711},null,{"$f":"'Juni Voeropname'!E2*'Juni Voeropname'!E7*0.001+'Juni Voeropname'!G146*0.001/'Juni vee+melk'!E2","v":0.55570819062434873}]
["Gem opname 7 dgn",null,{"$f":"AVERAGE(C7:F7)","v":0.52799406980707286},null,{"$f":"AVERAGE(E7)","v":0.55570819062434873}]
["Productie",null,{"$f":"'Juni vee+melk'!C22*'Juni vee+melk'!C10/6.38","v":0.1511141330743079},null,{"$f":"'Juni vee+melk'!E22*'Juni vee+melk'!E10/6.38","v":0.14629049111807735}]
["Vastlegging",null,{"$f":"1.4/365","v":3.8356164383561643E-3},null,{"$f":"1.4/365","v":3.8356164383561643E-3}]
["Onder de staart",null,{"$f":"C7-C9-C10","v":0.34533019947713306},null,{"$f":"E7-E9-E10","v":0.40558208306791521}]
["Vervluchtiging",null,{"$f":"C11*0.1175","v":4.0576298438563134E-2},null,{"$f":"E11*0.1175","v":4.7655894760480037E-2}]
["Gemeten netto excretie",null,{"$f":"C11-C12","v":0.30475390103856992},null,{"$f":"E11-E12","v":0.35792618830743517}]
[]
[null,null,"P",null,"P"]
["Opname",null,{"$f":"'Juni Voeropname'!C2*'Juni Voeropname'!C8/1000","v":7.6875075419161956E-2},null,{"$f":"'Juni Voeropname'!E2*'Juni Voeropname'!E8/1000+'Juni Voeropname'!G162*0.001/'Juni vee+melk'!E2","v":7.7789460526617921E-2}]
["Gem opname 7 dgn",null,{"$f":"AVERAGE(C16:F16)","v":7.7332267972889945E-2},null,{"$f":"AVERAGE(E16)","v":7.7789460526617921E-2}]
["Productie",null,{"$f":"'Juni vee+melk'!C22*0.9/1000","v":2.4373521126760563E-2},null,{"$f":"'Juni vee+melk'!E22*0.9/1000","v":2.4E-2}]
["Vastlegging",null,{"$f":"0.5/365","v":1.3698630136986301E-3},null,{"$f":"0.5/365","v":1.3698630136986301E-3}]
["Onder de staart",null,{"$f":"C16-C18-C19","v":5.1131691278702762E-2},null,{"$f":"E16-E18-E19","v":5.2419597512919289E-2}]
["Vervluchtiging"]
["Gemeten netto excretie",null,{"$f":"C20","v":5.1131691278702762E-2},null,{"$f":"E20","v":5.2419597512919289E-2}]
[]
["N excretie per ton meetmelk (kg)",null,{"$f":"C13/'Juni vee+melk'!C21*1000","v":11.031011472777244},null,{"$f":"E13/'Juni vee+melk'!E21*1000","v":12.013808650690521}]
["P excretie per ton meetmelk (kg)",null,{"$f":"C22/'Juni vee+melk'!C21*1000","v":1.8507860644136256},null,{"$f":"E22/'Juni vee+melk'!E21*1000","v":1.759466154305265}]

{"sheet":"Juni kengetallen","index":49,"n_rows":106,"n_cols":6,"rows_kept":106,"cut":false,"hidden":true,"merged":[]}
["Rantsoen"]
["Datum",null,{"$f":"'Juni voer'!B3","v":"Juni gerealiseerd"},null,{"$f":"'Juni voer'!G3","v":"Juni prognose"}]
[]
[{"$f":"'Juni Voeropname'!A2","v":"DS opname/koe"},null,{"$f":"'Juni Voeropname'!C2","v":20.562956601269363},null,{"$f":"'Juni Voeropname'!E2","v":21.465286717081646}]
[{"$f":"'Juni Voeropname'!A3","v":"VEM"},null,{"$f":"'Juni Voeropname'!C3","v":937.9897013112901},null,{"$f":"'Juni Voeropname'!E3","v":948.64472177800985}]
[{"$f":"'Juni Voeropname'!A4","v":"DVE"},null,{"$f":"'Juni Voeropname'!C4","v":{"$error":"#N/A"}},null,{"$f":"'Juni Voeropname'!E4","v":{"$error":"#N/A"}}]
[{"$f":"'Juni Voeropname'!A5","v":"OEB"},null,{"$f":"'Juni Voeropname'!C5","v":{"$error":"#N/A"}},null,{"$f":"'Juni Voeropname'!E5","v":{"$error":"#N/A"}}]
[{"$f":"'Juni Voeropname'!A6","v":"RE"},null,{"$f":"'Juni Voeropname'!C6","v":152.0573982533823},null,{"$f":"'Juni Voeropname'!E6","v":117.89912332142829}]
[{"$f":"'Juni Voeropname'!A7","v":"N"},null,{"$f":"'Juni Voeropname'!C7","v":24.329183720541167},null,{"$f":"'Juni Voeropname'!E7","v":18.863859731428526}]
[{"$f":"'Juni Voeropname'!A8","v":"P"},null,{"$f":"'Juni Voeropname'!C8","v":3.7385224756257287},null,{"$f":"'Juni Voeropname'!E8","v":3.0408028082223866}]
[]
["Streefwaarde RE",null,{"$f":"'Juni voer'!H20","v":160}]
["Streefwaarde P",null,{"$f":"'Juni voer'!H21","v":3.6}]
[]
[]
[{"$f":"'Juni Excretie'!A24","v":"N excretie per ton meetmelk (kg)"},null,{"$f":"'Juni Excretie'!C24","v":11.031011472777244},null,{"$f":"'Juni Excretie'!E24","v":12.013808650690521}]
[{"$f":"'Juni Excretie'!A25","v":"P excretie per ton meetmelk (kg)"},null,{"$f":"'Juni Excretie'!C25","v":1.8507860644136256},null,{"$f":"'Juni Excretie'!E25","v":1.759466154305265}]
[]
[]
["VEM dekking",null,{"$f":"'Juni Voeropname'!C35/'Juni vee+melk'!C27","v":1.03},null,{"$f":"'Juni Voeropname'!E35/'Juni vee+melk'!E27","v":1.03}]
["DVE dekking",null,{"$f":"'Juni Voeropname'!C36/'Juni vee+melk'!C28","v":{"$error":"#N/A"}},null,{"$f":"'Juni Voeropname'!E36/'Juni vee+melk'!E28","v":{"$error":"#N/A"}}]
[]
[]
["Voerefficientie kg meetmelk/kg voer (ds)",null,{"$f":"'Juni vee+melk'!C21/'Juni Voeropname'!C2","v":1.3435331245910378},null,{"$f":"'Juni vee+melk'!E21/'Juni Voeropname'!E2","v":1.3879571906165342}]
["kg krachtvoer per 100 kg (excl bijprod)",null,{"$f":"SUM('Juni Voeropname'!C76:C78)/('Juni vee+melk'!C21*'Juni vee+melk'!C2)*100/0.9","v":15.47529683088163},null,{"$f":"SUM('Juni Voeropname'!E76:E78)/('Juni vee+melk'!E21*'Juni vee+melk'!E2)*100","v":13.44136205802188}]
[]
[]
[{"$f":"A12","v":"Streefwaarde RE"},null,{"$f":"$C$12","v":160},null,{"$f":"$C$12","v":160}]
[{"$f":"A13","v":"Streefwaarde P"},null,{"$f":"$C$13","v":3.6},null,{"$f":"$C$13","v":3.6}]
[]
[]
[]
[]
[{"$f":"A2","v":"Datum"},null,{"$f":"C2","v":"Juni gerealiseerd"},{"$f":"E2","v":"Juni prognose"},{"$f":"#REF!","v":{"$error":"#REF!"}},{"$f":"#REF!","v":{"$error":"#REF!"}}]
["00:00:00"]
["DS opname/koe",null,{"$f":"C4","v":20.562956601269363},{"$f":"E4","v":21.465286717081646},{"$f":"#REF!","v":{"$error":"#REF!"}},{"$f":"#REF!","v":{"$error":"#REF!"}}]
["VEM",null,937.9897013112901,948.64472177800985,{"$f":"#REF!","v":{"$error":"#REF!"}},{"$f":"#REF!","v":{"$error":"#REF!"}}]
["DVE",null,{"$error":"#N/A"},{"$error":"#N/A"},{"$f":"#REF!","v":{"$error":"#REF!"}},{"$f":"#REF!","v":{"$error":"#REF!"}}]
["OEB",null,{"$error":"#N/A"},{"$error":"#N/A"},{"$f":"#REF!","v":{"$error":"#REF!"}},{"$f":"#REF!","v":{"$error":"#REF!"}}]
["RE",null,152.0573982533823,117.89912332142829,{"$f":"#REF!","v":{"$error":"#REF!"}},{"$f":"#REF!","v":{"$error":"#REF!"}}]
["N",null,24.329183720541167,18.863859731428526,{"$f":"#REF!","v":{"$error":"#REF!"}},{"$f":"#REF!","v":{"$error":"#REF!"}}]
["P",null,3.7385224756257287,3.0408028082223866,{"$f":"#REF!","v":{"$error":"#REF!"}},{"$f":"#REF!","v":{"$error":"#REF!"}}]
[{"$f":"A15","v":"00:00:00"}]
["N excretie per ton meetmelk (kg)",null,{"$f":"C16","v":11.031011472777244},{"$f":"E16","v":12.013808650690521},{"$f":"#REF!","v":{"$error":"#REF!"}},{"$f":"#REF!","v":{"$error":"#REF!"}}]
["P excretie per ton meetmelk (kg)",null,1.8507860644136256,{"$f":"E17","v":1.759466154305265},{"$f":"#REF!","v":{"$error":"#REF!"}},{"$f":"#REF!","v":{"$error":"#REF!"}}]
["00:00:00",null,{"$f":"1000/C45/2.29","v":235.94365178331668},{"$f":"1000/D45/2.29","v":248.18961230876849},{"$f":"1000/E45/2.29","v":{"$error":"#REF!"}},{"$f":"1000/F45/2.29","v":{"$error":"#REF!"}}]
[]
[]
["Rantsoen"]
[]
["Kuilgras",null,{"$f":"IF('Juni Voeropname'!$A66='Juni kengetallen'!$A51,'Juni Voeropname'!C66,\"\")","v":210.48999999999998},null,{"$f":"IF('Juni Voeropname'!$A66='Juni kengetallen'!$A51,'Juni Voeropname'!E66,\"\")","v":210.48999999999998}]
["Kuilgras",null,{"$f":"IF('Juni Voeropname'!$A67='Juni kengetallen'!$A52,'Juni Voeropname'!C67,\"\")","v":""},null,{"$f":"IF('Juni Voeropname'!$A67='Juni kengetallen'!$A52,'Juni Voeropname'!E67,\"\")","v":""}]
["Kuilgras",null,{"$f":"IF('Juni Voeropname'!$A68='Juni kengetallen'!$A53,'Juni Voeropname'!C68,\"\")","v":""},null,{"$f":"IF('Juni Voeropname'!$A68='Juni kengetallen'!$A53,'Juni Voeropname'!E68,\"\")","v":""}]
["Kuilgras",null,{"$f":"IF('Juni Voeropname'!$A69='Juni kengetallen'!$A54,'Juni Voeropname'!C69,\"\")","v":""},null,{"$f":"IF('Juni Voeropname'!$A69='Juni kengetallen'!$A54,'Juni Voeropname'!E69,\"\")","v":""}]
["Kuilgras",null,{"$f":"IF('Juni Voeropname'!$A70='Juni kengetallen'!$A55,'Juni Voeropname'!C70,\"\")","v":""},null,{"$f":"IF('Juni Voeropname'!$A70='Juni kengetallen'!$A55,'Juni Voeropname'!E70,\"\")","v":""}]
["Kuilgras",null,{"$f":"IF('Juni Voeropname'!$A71='Juni kengetallen'!$A56,'Juni Voeropname'!C71,\"\")","v":""},null,{"$f":"IF('Juni Voeropname'!$A71='Juni kengetallen'!$A56,'Juni Voeropname'!E71,\"\")","v":""}]
["Kuilgras",null,{"$f":"IF('Juni Voeropname'!$A72='Juni kengetallen'!$A57,'Juni Voeropname'!C72,\"\")","v":""},null,{"$f":"IF('Juni Voeropname'!$A72='Juni kengetallen'!$A57,'Juni Voeropname'!E72,\"\")","v":""}]
["Kuilgras",null,{"$f":"IF('Juni Voeropname'!$A73='Juni kengetallen'!$A58,'Juni Voeropname'!C73,\"\")","v":""},null,{"$f":"IF('Juni Voeropname'!$A73='Juni kengetallen'!$A58,'Juni Voeropname'!E73,\"\")","v":""}]
["Kuilgras",null,{"$f":"IF('Juni Voeropname'!$A74='Juni kengetallen'!$A59,'Juni Voeropname'!C74,\"\")","v":""},null,{"$f":"IF('Juni Voeropname'!$A74='Juni kengetallen'!$A59,'Juni Voeropname'!E74,\"\")","v":""}]
["Totaal kuilgras",null,{"$f":"SUM(C51:C59)","v":210.48999999999998},null,{"$f":"SUM(E51:E59)","v":210.48999999999998}]
[]
["Snijmais",null,{"$f":"IF('Juni Voeropname'!$A66='Juni kengetallen'!$A62,'Juni Voeropname'!C66,\"\")","v":""},null,{"$f":"IF('Juni Voeropname'!$A66='Juni kengetallen'!$A62,'Juni Voeropname'!E66,\"\")","v":""}]
["Snijmais",null,{"$f":"IF('Juni Voeropname'!$A67='Juni kengetallen'!$A63,'Juni Voeropname'!C67,\"\")","v":310.20599999999996},null,{"$f":"IF('Juni Voeropname'!$A67='Juni kengetallen'!$A63,'Juni Voeropname'!E67,\"\")","v":310.20599999999996}]
["Snijmais",null,{"$f":"IF('Juni Voeropname'!$A68='Juni kengetallen'!$A64,'Juni Voeropname'!C68,\"\")","v":""},null,{"$f":"IF('Juni Voeropname'!$A68='Juni kengetallen'!$A64,'Juni Voeropname'!E68,\"\")","v":""}]
["Snijmais",null,{"$f":"IF('Juni Voeropname'!$A69='Juni kengetallen'!$A65,'Juni Voeropname'!C69,\"\")","v":""},null,{"$f":"IF('Juni Voeropname'!$A69='Juni kengetallen'!$A65,'Juni Voeropname'!E69,\"\")","v":""}]
["Snijmais",null,{"$f":"IF('Juni Voeropname'!$A70='Juni kengetallen'!$A66,'Juni Voeropname'!C70,\"\")","v":""},null,{"$f":"IF('Juni Voeropname'!$A70='Juni kengetallen'!$A66,'Juni Voeropname'!E70,\"\")","v":""}]
["Snijmais",null,{"$f":"IF('Juni Voeropname'!$A71='Juni kengetallen'!$A67,'Juni Voeropname'!C71,\"\")","v":""},null,{"$f":"IF('Juni Voeropname'!$A71='Juni kengetallen'!$A67,'Juni Voeropname'!E71,\"\")","v":""}]
["Snijmais",null,{"$f":"IF('Juni Voeropname'!$A72='Juni kengetallen'!$A68,'Juni Voeropname'!C72,\"\")","v":""},null,{"$f":"IF('Juni Voeropname'!$A72='Juni kengetallen'!$A68,'Juni Voeropname'!E72,\"\")","v":""}]
["Snijmais",null,{"$f":"IF('Juni Voeropname'!$A73='Juni kengetallen'!$A69,'Juni Voeropname'!C73,\"\")","v":""},null,{"$f":"IF('Juni Voeropname'!$A73='Juni kengetallen'!$A69,'Juni Voeropname'!E73,\"\")","v":""}]
["Snijmais",null,{"$f":"IF('Juni Voeropname'!$A74='Juni kengetallen'!$A70,'Juni Voeropname'!C74,\"\")","v":""},null,{"$f":"IF('Juni Voeropname'!$A74='Juni kengetallen'!$A70,'Juni Voeropname'!E74,\"\")","v":""}]
["Totaal snijmais",null,{"$f":"SUM(C62:C70)","v":310.20599999999996},null,{"$f":"SUM(E62:E70)","v":310.20599999999996}]
[]
["OverigRuwvoer",null,{"$f":"IF('Juni Voeropname'!$A66='Juni kengetallen'!$A73,'Juni Voeropname'!C66,\"\")","v":""},null,{"$f":"IF('Juni Voeropname'!$A66='Juni kengetallen'!$A73,'Juni Voeropname'!E66,\"\")","v":""}]
["OverigRuwvoer",null,{"$f":"IF('Juni Voeropname'!$A67='Juni kengetallen'!$A74,'Juni Voeropname'!C67,\"\")","v":""},null,{"$f":"IF('Juni Voeropname'!$A67='Juni kengetallen'!$A74,'Juni Voeropname'!E67,\"\")","v":""}]
["OverigRuwvoer",null,{"$f":"IF('Juni Voeropname'!$A68='Juni kengetallen'!$A75,'Juni Voeropname'!C68,\"\")","v":""},null,{"$f":"IF('Juni Voeropname'!$A68='Juni kengetallen'!$A75,'Juni Voeropname'!E68,\"\")","v":""}]
["OverigRuwvoer",null,{"$f":"IF('Juni Voeropname'!$A69='Juni kengetallen'!$A76,'Juni Voeropname'!C69,\"\")","v":""},null,{"$f":"IF('Juni Voeropname'!$A69='Juni kengetallen'!$A76,'Juni Voeropname'!E69,\"\")","v":""}]
["OverigRuwvoer",null,{"$f":"IF('Juni Voeropname'!$A70='Juni kengetallen'!$A77,'Juni Voeropname'!C70,\"\")","v":""},null,{"$f":"IF('Juni Voeropname'!$A70='Juni kengetallen'!$A77,'Juni Voeropname'!E70,\"\")","v":""}]
["OverigRuwvoer",null,{"$f":"IF('Juni Voeropname'!$A71='Juni kengetallen'!$A78,'Juni Voeropname'!C71,\"\")","v":""},null,{"$f":"IF('Juni Voeropname'!$A71='Juni kengetallen'!$A78,'Juni Voeropname'!E71,\"\")","v":""}]
["OverigRuwvoer",null,{"$f":"IF('Juni Voeropname'!$A72='Juni kengetallen'!$A79,'Juni Voeropname'!C72,\"\")","v":""},null,{"$f":"IF('Juni Voeropname'!$A72='Juni kengetallen'!$A79,'Juni Voeropname'!E72,\"\")","v":""}]
["OverigRuwvoer",null,{"$f":"IF('Juni Voeropname'!$A73='Juni kengetallen'!$A80,'Juni Voeropname'!C73,\"\")","v":""},null,{"$f":"IF('Juni Voeropname'!$A73='Juni kengetallen'!$A80,'Juni Voeropname'!E73,\"\")","v":""}]
["OverigRuwvoer",null,{"$f":"IF('Juni Voeropname'!$A74='Juni kengetallen'!$A81,'Juni Voeropname'!C74,\"\")","v":""},null,{"$f":"IF('Juni Voeropname'!$A74='Juni kengetallen'!$A81,'Juni Voeropname'!E74,\"\")","v":""}]
["Totaal overig Ruwvoer",null,{"$f":"SUM(C73:C81)","v":0},null,{"$f":"SUM(E73:E81)","v":0}]
[]
["Bijproducten",null,{"$f":"IF('Juni Voeropname'!$A66='Juni kengetallen'!$A84,'Juni Voeropname'!C66,\"\")","v":""},null,{"$f":"IF('Juni Voeropname'!$A66='Juni kengetallen'!$A84,'Juni Voeropname'!E66,\"\")","v":""}]
["Bijproducten",null,{"$f":"IF('Juni Voeropname'!$A67='Juni kengetallen'!$A85,'Juni Voeropname'!C67,\"\")","v":""},null,{"$f":"IF('Juni Voeropname'!$A67='Juni kengetallen'!$A85,'Juni Voeropname'!E67,\"\")","v":""}]
["Bijproducten",null,{"$f":"IF('Juni Voeropname'!$A68='Juni kengetallen'!$A86,'Juni Voeropname'!C68,\"\")","v":""},null,{"$f":"IF('Juni Voeropname'!$A68='Juni kengetallen'!$A86,'Juni Voeropname'!E68,\"\")","v":""}]
["Bijproducten",null,{"$f":"IF('Juni Voeropname'!$A69='Juni kengetallen'!$A87,'Juni Voeropname'!C69,\"\")","v":42.485999999999997},null,{"$f":"IF('Juni Voeropname'!$A69='Juni kengetallen'!$A87,'Juni Voeropname'!E69,\"\")","v":42.485999999999997}]
["Bijproducten",null,{"$f":"IF('Juni Voeropname'!$A70='Juni kengetallen'!$A88,'Juni Voeropname'!C70,\"\")","v":""},null,{"$f":"IF('Juni Voeropname'!$A70='Juni kengetallen'!$A88,'Juni Voeropname'!E70,\"\")","v":""}]
["Bijproducten",null,{"$f":"IF('Juni Voeropname'!$A71='Juni kengetallen'!$A89,'Juni Voeropname'!C71,\"\")","v":""},null,{"$f":"IF('Juni Voeropname'!$A71='Juni kengetallen'!$A89,'Juni Voeropname'!E71,\"\")","v":""}]
["Bijproducten",null,{"$f":"IF('Juni Voeropname'!$A72='Juni kengetallen'!$A90,'Juni Voeropname'!C72,\"\")","v":""},null,{"$f":"IF('Juni Voeropname'!$A72='Juni kengetallen'!$A90,'Juni Voeropname'!E72,\"\")","v":""}]
["Bijproducten",null,{"$f":"IF('Juni Voeropname'!$A73='Juni kengetallen'!$A91,'Juni Voeropname'!C73,\"\")","v":""},null,{"$f":"IF('Juni Voeropname'!$A73='Juni kengetallen'!$A91,'Juni Voeropname'!E73,\"\")","v":""}]
["Bijproducten",null,{"$f":"IF('Juni Voeropname'!$A74='Juni kengetallen'!$A92,'Juni Voeropname'!C74,\"\")","v":""},null,{"$f":"IF('Juni Voeropname'!$A74='Juni kengetallen'!$A92,'Juni Voeropname'!E74,\"\")","v":""}]
["Totaal Bijproducten",null,{"$f":"SUM(C84:C92)","v":42.485999999999997},null,{"$f":"SUM(E84:E92)","v":42.485999999999997}]
[]
["Krachtvoer",null,{"$f":"SUM('Juni Voeropname'!C76:C78)","v":265.5},null,{"$f":"SUM('Juni Voeropname'!E76:E78)","v":280.32000000000005}]
[]
["Vers gras",null,{"$f":"'Juni Voeropname'!C31*('Juni vee+melk'!C2+'Juni vee+melk'!C3)","v":631.28791869012491},null,{"$f":"'Juni Voeropname'!E31*('Juni vee+melk'!E2+'Juni vee+melk'!E3)","v":723.4639303469603}]
[]
["Totaal",null,{"$f":"C95+C93+C82+C71+C60+C97","v":1459.9699186901248},null,{"$f":"E95+E93+E82+E71+E60+E97","v":1566.9659303469602}]
[]
["Vers gras",null,{"$f":"C97/C99","v":0.43239789437340748},null,{"$f":"E97/E99","v":0.4616972943290284}]
["Aandeel kuilgras",null,{"$f":"C60/C$99","v":0.14417420338964942},null,{"$f":"E60/E$99","v":0.13432965958193674}]
["Aandeel snijmais",null,{"$f":"C71/C$99","v":0.2124742407558059},null,{"$f":"E71/E$99","v":0.19796601444379433}]
["Aandeel overig ruwvoer",null,{"$f":"C82/C$99","v":0},null,{"$f":"E82/E$99","v":0}]
["Aandeel bijproducten",null,{"$f":"C93/C$99","v":2.9100599578187301E-2},null,{"$f":"E93/E$99","v":2.7113544192114421E-2}]
["Aandeel krachtvoer",null,{"$f":"C95/C$99","v":0.18185306190294989},null,{"$f":"E95/E$99","v":0.17889348745312614}]

{"sheet":"Mei Voeropname","index":50,"n_rows":162,"n_cols":18,"rows_kept":162,"cut":false,"hidden":true,"merged":[]}
["Gem rantsoen gehaltes (d dgn)",null,{"$f":"'Mei voer'!B3","v":"Mei gerealiseerd"},null,{"$f":"'Mei voer'!G3","v":"Mei prognose"}]
["DS opname/koe",null,{"$f":"C34","v":20.193413273817811},null,{"$f":"E34","v":20.694308835007863}]
["VEM",null,{"$f":"C12","v":979.23229833117921},null,{"$f":"AVERAGE(E12:E12)","v":563.78390915162686}]
["DVE",null,{"$f":"AVERAGE(C13)","v":{"$error":"#N/A"}},null,{"$error":"#N/A"},null,null,null,null,null,null,null,1,null,null,null,null,"Voedermiddelen"]
["OEB",null,{"$f":"AVERAGE(C14)","v":{"$error":"#N/A"}},null,2.4018331460412128,null,null,null,null,null,null,null,2,null,null,null,null,"Kuilgras"]
["RE",null,{"$f":"AVERAGE(C15)","v":154.20115268135592},null,119.6010648579371,null,null,null,null,null,null,null,null,null,null,null,null,"Snijmais"]
["N",null,{"$f":"AVERAGE(C16)","v":24.672184429016948},null,19.136170377269938,null,null,null,null,null,null,null,"Vem toeslag weidegang",null,1.03,null,null,"OverigRuwvoer"]
["P",null,3.6840199694848619,null,2.9615822143423514,null,null,null,null,null,null,null,null,null,null,null,null,"Bijproducten"]
[null,null,null,null,null,null,null,null,null,null,null,null,null,null,null,null,null,"Krachtvoer"]
[]
["Rantsoen gehaltes (incl. weidegras)"]
["VEM",null,{"$f":"C35/C34","v":979.23229833117921},null,{"$f":"E35/E34","v":563.78390915162686},null,null,null,null,null,null,null,null,null,null,null,null,"Let op bij beperkt weiden is deze opname niet realistisch!"]
["DVE",null,{"$f":"C36/C34","v":{"$error":"#N/A"}},null,{"$f":"E36/E34","v":{"$error":"#N/A"}},null,null,null,null,null,null,null,null,null,null,null,null,"Let op VEM dekking te laag!"]
["OEB",null,{"$f":"C37","v":{"$error":"#N/A"}},null,{"$f":"E37","v":2.4018331460412128}]
["RE",null,{"$f":"C38/C34","v":154.20115268135592},null,{"$f":"E38/E34","v":119.6010648579371}]
["N",null,{"$f":"C39/C34","v":24.672184429016948},null,{"$f":"E39/E34","v":19.136170377269938}]
["P",null,{"$f":"C40/C34","v":3.6840199694848619},null,{"$f":"E40/E34","v":2.9615822143423514}]
[]
[]
[]
[]
["kg ds",null,{"$f":"C55/SUM('Mei vee+melk'!C2:C3)","v":12.482325342465753},null,{"$f":"E55/SUM('Mei vee+melk'!E2:E3)","v":12.486969178082191}]
["Vemopname ex weidegras",null,{"$f":"C22*C45","v":11484.622965068495},null,{"$f":"E22*E45","v":11667.118332191782}]
[]
[]
[]
["VEM behoefte",null,{"$f":"IF('Mei voer'!B4=1,'Mei vee+melk'!C27*'Mei Voeropname'!O7,'Mei vee+melk'!C27)","v":19774.042491271957},null,{"$f":"IF('Mei voer'!G4=1,'Mei vee+melk'!E27*'Mei Voeropname'!O7,'Mei vee+melk'!E27)","v":20490.008463386879}]
["Behoefte-opname",null,{"$f":"C27-'Mei Voeropname'!C23","v":8289.4195262034627},null,{"$f":"E27-'Mei Voeropname'!E23","v":8822.8901311950976}]
[null,null,{"$f":"C28/VLOOKUP('Mei voer'!B5,Weidegras!$A$5:$J$119,4,FALSE)","v":7.7110879313520586},null,{"$f":"E28/VLOOKUP('Mei voer'!G5,Weidegras!$A$5:$J$119,4,FALSE)","v":8.2073396569256722}]
[null,null,{"$f":"IF(C29>0,C29,0)","v":7.7110879313520586},null,{"$f":"IF(E29>0,E29,0)","v":8.2073396569256722}]
["Weidegrasopname/koe",null,{"$f":"IF('Mei voer'!B4=1,C30,0)","v":7.7110879313520586},null,{"$f":"IF('Mei voer'!G4=1,E30,0)","v":8.2073396569256722}]
[]
["Rantsoenopname incl weidegras"]
["droge stof",null,{"$f":"C22+C31","v":20.193413273817811},null,{"$f":"E22+E31","v":20.694308835007863}]
["VEM",null,{"$f":"C45*C22+C31*VLOOKUP('Mei voer'!B5,Weidegras!$A$6:$J$180,4,FALSE)","v":19774.042491271957},null,{"$f":"E45*E22+E31*VLOOKUP('Mei voer'!G5,[2]Weidegras!$A$6:$J$180,4,FALSE)","v":11667.118332191782}]
["DVE",null,{"$f":"C46*C22+$C$31*VLOOKUP('Mei voer'!B5,Weidegras!$A$5:$J$150,5,FALSE)","v":{"$error":"#N/A"}},null,{"$f":"E46*E22+$C$31*VLOOKUP('Mei voer'!G5,Weidegras!$A$5:$J$150,5,FALSE)","v":{"$error":"#N/A"}}]
["OEB",null,{"$f":"C22*C47+$C$31*VLOOKUP('Mei voer'!B5,Weidegras!$A$6:$J$151,6,FALSE)","v":{"$error":"#N/A"}},null,{"$f":"E22*E47+$C$31*VLOOKUP('Mei voer'!G5,Weidegras!$A$6:$J$151,6,FALSE)","v":2.4018331460412128}]
["RE",null,{"$f":"C48*C22+C31*VLOOKUP('Mei voer'!$B$5,Weidegras!$A$6:$J$181,7,FALSE)","v":3113.8476033936995},null,{"$f":"E48*E22+E31*VLOOKUP('Mei voer'!$B$5,Weidegras!$A$6:$J$181,7,FALSE)","v":2475.0613731659564}]
["N",null,{"$f":"C38/6.25","v":498.21561654299194},null,{"$f":"E38/6.25","v":396.009819706553}]
["P",null,{"$f":"C50*C22+C31*VLOOKUP('Mei voer'!$B$5,Weidegras!$A$6:$J$183,10,FALSE)","v":74.392937752805494},null,{"$f":"E50*E22+E31*VLOOKUP('Mei voer'!$B$5,Weidegras!$A$6:$J$183,10,FALSE)","v":61.287896983867071}]
[]
[]
["Stalrantsoen gehaltes"]
["droge stof"]
["VEM",null,{"$f":"C56/C$55","v":920.07079209808728},null,{"$f":"E56/E$55","v":934.3434876631668}]
["DVE",null,{"$f":"C57/C$55*1000","v":{"$error":"#N/A"}},null,{"$f":"E57/E$55*1000","v":{"$error":"#N/A"}}]
["OEB",null,{"$f":"C58/C$55","v":{"$error":"#N/A"}},null,{"$f":"E58/E$55","v":-18.333576509210289}]
["RE",null,{"$f":"C59/C$55","v":125.90843244379244},null,66.757067298923957]
["N",null,{"$f":"C60/C$55","v":20.14534919100679},null,10.681130767827833]
["P",null,{"$f":"C61/C$55","v":3.4888199780566436},null,2.2790589093561917]
[]
[]
[]
["Stalrantsoen opname"]
["droge stof (kg)",null,{"$f":"C80","v":911.20974999999999},null,911.54874999999993]
["VEM",null,{"$f":"C96","v":838377.47645000007},null,851699.63825000008]
["DVE",null,{"$f":"C112","v":{"$error":"#N/A"}},null,{"$f":"E112","v":{"$error":"#N/A"}}]
["OEB",null,{"$f":"C128","v":{"$error":"#N/A"}},null,{"$f":"E128","v":-16711.94875}]
["RE",null,{"$f":"C144","v":114728.99124999999},null,{"$f":"E144","v":60852.321250000001}]
["N",null,{"$f":"C146","v":18356.638599999998},null,{"$f":"E146","v":9736.3714}]
["P",null,{"$f":"C162","v":3179.0467799999997},null,{"$f":"E162","v":2077.4732999999997}]
[]
[]
[]
["Drogestof opname"]
[{"$f":"'Mei voer'!A9","v":"Kuilgras"},{"$f":"'Mei voer'!B9","v":"Gkuil balen 2016 2e snede"},{"$f":"IF('Mei voer'!C9>0,VLOOKUP('Mei voer'!B9,Voedermiddelen!$A$4:$K$75,3,FALSE)*'Mei voer'!C9*(1-'Mei voer'!$B$6),\"\")","v":288.61},{"$f":"'Mei voer'!G9","v":"Gkuil balen 2016 2e snede"},{"$f":"IF('Mei voer'!H9>0,VLOOKUP('Mei voer'!G9,Voedermiddelen!$A$4:$K$75,3,FALSE)*'Mei voer'!H9*(1-'Mei voer'!$G$6),\"\")","v":288.61}]
[{"$f":"'Mei voer'!A10","v":"Snijmais"},{"$f":"'Mei voer'!B10","v":"Mkuil 1"},{"$f":"IF('Mei voer'!C10>0,VLOOKUP('Mei voer'!B10,Voedermiddelen!$A$4:$K$75,3,FALSE)*'Mei voer'!C10*(1-'Mei voer'!$B$6),\"\")","v":334.19099999999997},{"$f":"'Mei voer'!G10","v":"Mkuil 1"},{"$f":"IF('Mei voer'!H10>0,VLOOKUP('Mei voer'!G10,Voedermiddelen!$A$4:$K$75,3,FALSE)*'Mei voer'!H10*(1-'Mei voer'!$G$6),\"\")","v":303.80999999999995}]
[{"$f":"'Mei voer'!A11","v":"OverigRuwvoer"},{"$f":"'Mei voer'!B11","v":"Overig 1"},{"$f":"IF('Mei voer'!C11>0,VLOOKUP('Mei voer'!B11,Voedermiddelen!$A$4:$K$75,3,FALSE)*'Mei voer'!C11*(1-'Mei voer'!$B$6),\"\")","v":""},{"$f":"'Mei voer'!G11","v":"Overig 1"},{"$f":"IF('Mei voer'!H11>0,VLOOKUP('Mei voer'!G11,Voedermiddelen!$A$4:$K$75,3,FALSE)*'Mei voer'!H11*(1-'Mei voer'!$G$6),\"\")","v":""}]
[{"$f":"'Mei voer'!A12","v":"Bijproducten"},{"$f":"'Mei voer'!B12","v":"Bierbostel"},{"$f":"IF('Mei voer'!C12>0,VLOOKUP('Mei voer'!B12,Voedermiddelen!$A$4:$K$75,3,FALSE)*'Mei voer'!C12*(1-'Mei voer'!$B$6),\"\")","v":36.408749999999998},{"$f":"'Mei voer'!G12","v":"Bierbostel"},{"$f":"IF('Mei voer'!H12>0,VLOOKUP('Mei voer'!G12,Voedermiddelen!$A$4:$K$75,3,FALSE)*'Mei voer'!H12*(1-'Mei voer'!$G$6),\"\")","v":36.408749999999998}]
[{"$f":"'Mei voer'!A13","v":"OverigRuwvoer"},{"$f":"'Mei voer'!B13","v":"Overig 2"},{"$f":"IF('Mei voer'!C13>0,VLOOKUP('Mei voer'!B13,Voedermiddelen!$A$4:$K$75,3,FALSE)*'Mei voer'!C13*(1-'Mei voer'!$B$6),\"\")","v":""},{"$f":"'Mei voer'!G13","v":"Overig 2"},{"$f":"IF('Mei voer'!H13>0,VLOOKUP('Mei voer'!G13,Voedermiddelen!$A$4:$K$75,3,FALSE)*'Mei voer'!H13*(1-'Mei voer'!$G$6),\"\")","v":""}]
[{"$f":"'Mei voer'!A14","v":"Bijproducten"},{"$f":"'Mei voer'!B14","v":"BP 6"},{"$f":"IF('Mei voer'!C14>0,VLOOKUP('Mei voer'!B14,Voedermiddelen!$A$4:$K$75,3,FALSE)*'Mei voer'!C14*(1-'Mei voer'!$B$6),\"\")","v":""},{"$f":"'Mei voer'!G14","v":"BP 6"},{"$f":"IF('Mei voer'!H14>0,VLOOKUP('Mei voer'!G14,Voedermiddelen!$A$4:$K$75,3,FALSE)*'Mei voer'!H14*(1-'Mei voer'!$G$6),\"\")","v":""}]
[{"$f":"'Mei voer'!A15","v":0},{"$f":"'Mei voer'!B15","v":0},{"$f":"IF('Mei voer'!C15>0,VLOOKUP('Mei voer'!B15,Voedermiddelen!$A$4:$K$75,3,FALSE)*'Mei voer'!C15*(1-'Mei voer'!$B$6),\"\")","v":""},{"$f":"'Mei voer'!G15","v":0},{"$f":"IF('Mei voer'!H15>0,VLOOKUP('Mei voer'!G15,Voedermiddelen!$A$4:$K$75,3,FALSE)*'Mei voer'!H15*(1-'Mei voer'!$G$6),\"\")","v":""}]
[{"$f":"'Mei voer'!A16","v":0},{"$f":"'Mei voer'!B16","v":0},{"$f":"IF('Mei voer'!C16>0,VLOOKUP('Mei voer'!B16,Voedermiddelen!$A$4:$K$75,3,FALSE)*'Mei voer'!C16*(1-'Mei voer'!$B$6),\"\")","v":""},{"$f":"'Mei voer'!G16","v":0},{"$f":"IF('Mei voer'!H16>0,VLOOKUP('Mei voer'!G16,Voedermiddelen!$A$4:$K$75,3,FALSE)*'Mei voer'!H16*(1-'Mei voer'!$G$6),\"\")","v":""}]
[{"$f":"'Mei voer'!A17","v":0},{"$f":"'Mei voer'!B17","v":0},{"$f":"IF('Mei voer'!C17>0,VLOOKUP('Mei voer'!B17,Voedermiddelen!$A$4:$K$75,3,FALSE)*'Mei voer'!C17*(1-'Mei voer'!$B$6),\"\")","v":""},{"$f":"'Mei voer'!G17","v":0},{"$f":"IF('Mei voer'!H17>0,VLOOKUP('Mei voer'!G17,Voedermiddelen!$A$4:$K$75,3,FALSE)*'Mei voer'!H17*(1-'Mei voer'!$G$6),\"\")","v":""}]
[null,{"$f":"'Mei voer'!B18","v":0},{"$f":"IF('Mei voer'!C18>0,VLOOKUP('Mei voer'!B18,Voedermiddelen!$A$4:$K$75,3,FALSE)*'Mei voer'!C18*(1-'Mei voer'!$B$6),\"\")","v":""},{"$f":"'Mei voer'!G18","v":0},{"$f":"IF('Mei voer'!H18>0,VLOOKUP('Mei voer'!G18,Voedermiddelen!$A$4:$K$75,3,FALSE)*'Mei voer'!H18*(1-'Mei voer'!$G$6),\"\")","v":""}]
[null,{"$f":"'Mei voer'!B20","v":"KV 1"},{"$f":"IF('Mei voer'!C20>0,VLOOKUP('Mei voer'!B20,Voedermiddelen!$A$4:$K$75,3,FALSE)*'Mei voer'!C20,\"\")","v":49.5},null,{"$f":"'Mei voer'!H22*'Mei vee+melk'!E15/100*0.9","v":282.72000000000003}]
[null,{"$f":"'Mei voer'!B21","v":"Melkbrok BM"},{"$f":"IF('Mei voer'!C21>0,VLOOKUP('Mei voer'!B21,Voedermiddelen!$A$4:$K$75,3,FALSE)*'Mei voer'!C21,\"\")","v":202.5}]
[null,{"$f":"'Mei voer'!B22","v":0},{"$f":"IF('Mei voer'!C22>0,VLOOKUP('Mei voer'!B22,Voedermiddelen!$A$4:$K$75,3,FALSE)*'Mei voer'!C22,\"\")","v":""}]
[]
["Totaal",null,{"$f":"SUM(C66:C78)","v":911.20974999999999},null,{"$f":"SUM(E66:E78)","v":911.54874999999993}]
[]
["VEM",{"$f":"B66","v":"Gkuil balen 2016 2e snede"},{"$f":"IF('Mei voer'!C9>0,VLOOKUP('Mei voer'!B9,Voedermiddelen!$A$4:$K$75,4,FALSE)*C66,\"\")","v":230022.17},{"$f":"D66","v":"Gkuil balen 2016 2e snede"},{"$f":"IF('Mei voer'!H9>0,VLOOKUP('Mei voer'!G9,Voedermiddelen!$A$4:$K$75,4,FALSE)*E66,\"\")","v":230022.17}]
[null,{"$f":"B67","v":"Mkuil 1"},{"$f":"IF('Mei voer'!C10>0,VLOOKUP('Mei voer'!B10,Voedermiddelen!$A$4:$K$75,4,FALSE)*C67,\"\")","v":334926.22019999998},"Mkuil 1",{"$f":"IF('Mei voer'!H10>0,VLOOKUP('Mei voer'!G10,Voedermiddelen!$A$4:$K$75,4,FALSE)*E67,\"\")","v":304478.38199999998}]
[null,"Overig 1",{"$f":"IF('Mei voer'!C11>0,VLOOKUP('Mei voer'!B11,Voedermiddelen!$A$4:$K$75,4,FALSE)*C68,\"\")","v":""},"Overig 1",{"$f":"IF('Mei voer'!H11>0,VLOOKUP('Mei voer'!G11,Voedermiddelen!$A$4:$K$75,4,FALSE)*E68,\"\")","v":""}]
[null,"Bierbostel",{"$f":"IF('Mei voer'!C12>0,VLOOKUP('Mei voer'!B12,Voedermiddelen!$A$4:$K$75,4,FALSE)*C69,\"\")","v":34479.08625},"Bierbostel",{"$f":"IF('Mei voer'!H12>0,VLOOKUP('Mei voer'!G12,Voedermiddelen!$A$4:$K$75,4,FALSE)*E69,\"\")","v":34479.08625}]
[null,"Overig 2",{"$f":"IF('Mei voer'!C13>0,VLOOKUP('Mei voer'!B13,Voedermiddelen!$A$4:$K$75,4,FALSE)*C70,\"\")","v":""},"Overig 2",{"$f":"IF('Mei voer'!H13>0,VLOOKUP('Mei voer'!G13,Voedermiddelen!$A$4:$K$75,4,FALSE)*E70,\"\")","v":""}]
[null,"BP 6",{"$f":"IF('Mei voer'!C14>0,VLOOKUP('Mei voer'!B14,Voedermiddelen!$A$4:$K$75,4,FALSE)*C71,\"\")","v":""},"BP 6",{"$f":"IF('Mei voer'!H14>0,VLOOKUP('Mei voer'!G14,Voedermiddelen!$A$4:$K$75,4,FALSE)*E71,\"\")","v":""}]
[null,0,{"$f":"IF('Mei voer'!C15>0,VLOOKUP('Mei voer'!B15,Voedermiddelen!$A$4:$K$75,4,FALSE)*C72,\"\")","v":""},0,{"$f":"IF('Mei voer'!H15>0,VLOOKUP('Mei voer'!G15,Voedermiddelen!$A$4:$K$75,4,FALSE)*E72,\"\")","v":""}]
[null,0,{"$f":"IF('Mei voer'!C16>0,VLOOKUP('Mei voer'!B16,Voedermiddelen!$A$4:$K$75,4,FALSE)*C73,\"\")","v":""},0,{"$f":"IF('Mei voer'!H16>0,VLOOKUP('Mei voer'!G16,Voedermiddelen!$A$4:$K$75,4,FALSE)*E73,\"\")","v":""}]
[null,0,{"$f":"IF('Mei voer'!C17>0,VLOOKUP('Mei voer'!B17,Voedermiddelen!$A$4:$K$75,4,FALSE)*C74,\"\")","v":""},0,{"$f":"IF('Mei voer'!H17>0,VLOOKUP('Mei voer'!G17,Voedermiddelen!$A$4:$K$75,4,FALSE)*E74,\"\")","v":""}]
[null,0,{"$f":"IF('Mei voer'!C18>0,VLOOKUP('Mei voer'!B18,Voedermiddelen!$A$4:$K$75,4,FALSE)*C75,\"\")","v":""},0,{"$f":"IF('Mei voer'!H18>0,VLOOKUP('Mei voer'!G18,Voedermiddelen!$A$4:$K$75,4,FALSE)*E75,\"\")","v":""}]
[null,"KV 1",{"$f":"IF('Mei voer'!C20>0,VLOOKUP('Mei voer'!B20,Voedermiddelen!$A$4:$K$75,4,FALSE)*C76,\"\")","v":44550},0,{"$f":"E76*1000","v":282720}]
[null,"Melkbrok BM",{"$f":"IF('Mei voer'!C21>0,VLOOKUP('Mei voer'!B21,Voedermiddelen!$A$4:$K$75,4,FALSE)*C77,\"\")","v":194400},0]
[null,0,{"$f":"IF('Mei voer'!C22>0,VLOOKUP('Mei voer'!B22,Voedermiddelen!$A$4:$K$75,4,FALSE)*C78,\"\")","v":""},0]
[]
["Totaal",null,{"$f":"SUM(C82:C94)","v":838377.47645000007},null,{"$f":"SUM(E82:E94)","v":851699.63825000008}]
[]
["DVE",{"$f":"B82","v":"Gkuil balen 2016 2e snede"},{"$f":"IF('Mei voer'!C9>0,VLOOKUP('Mei voer'!B9,[2]Voedermiddelen!$A$4:$K$75,5,FALSE)*C66,\"\")","v":{"$error":"#N/A"}},{"$f":"D82","v":"Gkuil balen 2016 2e snede"},{"$f":"IF('Mei voer'!H9>0,VLOOKUP('Mei voer'!G9,[2]Voedermiddelen!$A$4:$K$75,5,FALSE)*E66,\"\")","v":{"$error":"#N/A"}}]
[null,{"$f":"B83","v":"Mkuil 1"},{"$f":"IF('Mei voer'!C10>0,VLOOKUP('Mei voer'!B10,[2]Voedermiddelen!$A$4:$K$75,5,FALSE)*C67,\"\")","v":23861.237400000002},"Mkuil 1",{"$f":"IF('Mei voer'!H10>0,VLOOKUP('Mei voer'!G10,[2]Voedermiddelen!$A$4:$K$75,5,FALSE)*E67,\"\")","v":21692.033999999996}]
[null,"Overig 1",{"$f":"IF('Mei voer'!C11>0,VLOOKUP('Mei voer'!B11,[2]Voedermiddelen!$A$4:$K$75,5,FALSE)*C68,\"\")","v":""},"Overig 1",{"$f":"IF('Mei voer'!H11>0,VLOOKUP('Mei voer'!G11,[2]Voedermiddelen!$A$4:$K$75,5,FALSE)*E68,\"\")","v":""}]
[null,"Bierbostel",{"$f":"IF('Mei voer'!C12>0,VLOOKUP('Mei voer'!B12,[2]Voedermiddelen!$A$4:$K$75,5,FALSE)*C69,\"\")","v":4987.9987499999997},"Bierbostel",{"$f":"IF('Mei voer'!H12>0,VLOOKUP('Mei voer'!G12,[2]Voedermiddelen!$A$4:$K$75,5,FALSE)*E69,\"\")","v":4987.9987499999997}]
[null,"Overig 2",{"$f":"IF('Mei voer'!C13>0,VLOOKUP('Mei voer'!B13,[2]Voedermiddelen!$A$4:$K$75,5,FALSE)*C70,\"\")","v":""},"Overig 2",{"$f":"IF('Mei voer'!H13>0,VLOOKUP('Mei voer'!G13,[2]Voedermiddelen!$A$4:$K$75,5,FALSE)*E70,\"\")","v":""}]
[null,"BP 6",{"$f":"IF('Mei voer'!C14>0,VLOOKUP('Mei voer'!B14,[2]Voedermiddelen!$A$4:$K$75,5,FALSE)*C71,\"\")","v":""},"BP 6",{"$f":"IF('Mei voer'!H14>0,VLOOKUP('Mei voer'!G14,[2]Voedermiddelen!$A$4:$K$75,5,FALSE)*E71,\"\")","v":""}]
[null,0,{"$f":"IF('Mei voer'!C15>0,VLOOKUP('Mei voer'!B15,[2]Voedermiddelen!$A$4:$K$75,5,FALSE)*C72,\"\")","v":""},0,{"$f":"IF('Mei voer'!H15>0,VLOOKUP('Mei voer'!G15,[2]Voedermiddelen!$A$4:$K$75,5,FALSE)*E72,\"\")","v":""}]
[null,0,{"$f":"IF('Mei voer'!C16>0,VLOOKUP('Mei voer'!B16,[2]Voedermiddelen!$A$4:$K$75,5,FALSE)*C73,\"\")","v":""},0,{"$f":"IF('Mei voer'!H16>0,VLOOKUP('Mei voer'!G16,[2]Voedermiddelen!$A$4:$K$75,5,FALSE)*E73,\"\")","v":""}]
[null,0,{"$f":"IF('Mei voer'!C17>0,VLOOKUP('Mei voer'!B17,[2]Voedermiddelen!$A$4:$K$75,5,FALSE)*C74,\"\")","v":""},0,{"$f":"IF('Mei voer'!H17>0,VLOOKUP('Mei voer'!G17,[2]Voedermiddelen!$A$4:$K$75,5,FALSE)*E74,\"\")","v":""}]
[null,0,{"$f":"IF('Mei voer'!C18>0,VLOOKUP('Mei voer'!B18,[2]Voedermiddelen!$A$4:$K$75,5,FALSE)*C75,\"\")","v":""},0,{"$f":"IF('Mei voer'!H18>0,VLOOKUP('Mei voer'!G18,[2]Voedermiddelen!$A$4:$K$75,5,FALSE)*E75,\"\")","v":""}]
[null,"KV 1",{"$f":"IF('Mei voer'!C20>0,VLOOKUP('Mei voer'!B20,[2]Voedermiddelen!$A$4:$K$75,5,FALSE)*C76,\"\")","v":5940},0]
[null,"Melkbrok BM",{"$f":"IF('Mei voer'!C21>0,VLOOKUP('Mei voer'!B21,[2]Voedermiddelen!$A$4:$K$75,5,FALSE)*C77,\"\")","v":{"$error":"#N/A"}},0]
[null,0,{"$f":"IF('Mei voer'!C22>0,VLOOKUP('Mei voer'!B22,[2]Voedermiddelen!$A$4:$K$75,5,FALSE)*C78,\"\")","v":""},0]
[]
["Totaal",null,{"$f":"SUM(C98:C110)/1000","v":{"$error":"#N/A"}},null,{"$f":"SUM(E98:E110)/1000","v":{"$error":"#N/A"}}]
[]
["OEB",{"$f":"B98","v":"Gkuil balen 2016 2e snede"},{"$f":"IF('Mei voer'!C9>0,VLOOKUP('Mei voer'!B9,[2]Voedermiddelen!$A$4:$K$75,6,FALSE)*C66,\"\")","v":{"$error":"#N/A"}},{"$f":"D98","v":"Gkuil balen 2016 2e snede"},{"$f":"IF('Mei voer'!H9>0,VLOOKUP('Mei voer'!G9,Voedermiddelen!$A$4:$K$75,6,FALSE)*E66,\"\")","v":-8081.08}]
[null,{"$f":"B99","v":"Mkuil 1"},{"$f":"IF('Mei voer'!C10>0,VLOOKUP('Mei voer'!B10,[2]Voedermiddelen!$A$4:$K$75,6,FALSE)*C67,\"\")","v":-9156.8333999999995},"Mkuil 1",{"$f":"IF('Mei voer'!H10>0,VLOOKUP('Mei voer'!G10,Voedermiddelen!$A$4:$K$75,6,FALSE)*E67,\"\")","v":-10633.349999999999}]
[null,"Overig 1",{"$f":"IF('Mei voer'!C11>0,VLOOKUP('Mei voer'!B11,[2]Voedermiddelen!$A$4:$K$75,6,FALSE)*C68,\"\")","v":""},"Overig 1",{"$f":"IF('Mei voer'!H11>0,VLOOKUP('Mei voer'!G11,Voedermiddelen!$A$4:$K$75,6,FALSE)*E68,\"\")","v":""}]
[null,"Bierbostel",{"$f":"IF('Mei voer'!C12>0,VLOOKUP('Mei voer'!B12,[2]Voedermiddelen!$A$4:$K$75,6,FALSE)*C69,\"\")","v":2002.4812499999998},"Bierbostel",{"$f":"IF('Mei voer'!H12>0,VLOOKUP('Mei voer'!G12,Voedermiddelen!$A$4:$K$75,6,FALSE)*E69,\"\")","v":2002.4812499999998}]
[null,"Overig 2",{"$f":"IF('Mei voer'!C13>0,VLOOKUP('Mei voer'!B13,[2]Voedermiddelen!$A$4:$K$75,6,FALSE)*C70,\"\")","v":""},"Overig 2",{"$f":"IF('Mei voer'!H13>0,VLOOKUP('Mei voer'!G13,Voedermiddelen!$A$4:$K$75,6,FALSE)*E70,\"\")","v":""}]
[null,"BP 6",{"$f":"IF('Mei voer'!C14>0,VLOOKUP('Mei voer'!B14,[2]Voedermiddelen!$A$4:$K$75,6,FALSE)*C71,\"\")","v":""},"BP 6",{"$f":"IF('Mei voer'!H14>0,VLOOKUP('Mei voer'!G14,Voedermiddelen!$A$4:$K$75,6,FALSE)*E71,\"\")","v":""}]
[null,0,{"$f":"IF('Mei voer'!C15>0,VLOOKUP('Mei voer'!B15,[2]Voedermiddelen!$A$4:$K$75,6,FALSE)*C72,\"\")","v":""},0,{"$f":"IF('Mei voer'!H15>0,VLOOKUP('Mei voer'!G15,Voedermiddelen!$A$4:$K$75,6,FALSE)*E72,\"\")","v":""}]
[null,0,{"$f":"IF('Mei voer'!C16>0,VLOOKUP('Mei voer'!B16,[2]Voedermiddelen!$A$4:$K$75,6,FALSE)*C73,\"\")","v":""},0,{"$f":"IF('Mei voer'!H16>0,VLOOKUP('Mei voer'!G16,Voedermiddelen!$A$4:$K$75,6,FALSE)*E73,\"\")","v":""}]
[null,0,{"$f":"IF('Mei voer'!C17>0,VLOOKUP('Mei voer'!B17,[2]Voedermiddelen!$A$4:$K$75,6,FALSE)*C74,\"\")","v":""},0,{"$f":"IF('Mei voer'!H17>0,VLOOKUP('Mei voer'!G17,Voedermiddelen!$A$4:$K$75,6,FALSE)*E74,\"\")","v":""}]
[null,0,{"$f":"IF('Mei voer'!C18>0,VLOOKUP('Mei voer'!B18,[2]Voedermiddelen!$A$4:$K$75,6,FALSE)*C75,\"\")","v":""},0,{"$f":"IF('Mei voer'!H18>0,VLOOKUP('Mei voer'!G18,Voedermiddelen!$A$4:$K$75,6,FALSE)*E75,\"\")","v":""}]
[null,"KV 1",{"$f":"IF('Mei voer'!C20>0,VLOOKUP('Mei voer'!B20,[2]Voedermiddelen!$A$4:$K$75,6,FALSE)*C76,\"\")","v":2970},0]
[null,"Melkbrok BM",{"$f":"IF('Mei voer'!C21>0,VLOOKUP('Mei voer'!B21,[2]Voedermiddelen!$A$4:$K$75,6,FALSE)*C77,\"\")","v":{"$error":"#N/A"}},0]
[null,0,{"$f":"IF('Mei voer'!C22>0,VLOOKUP('Mei voer'!B22,[2]Voedermiddelen!$A$4:$K$75,6,FALSE)*C78,\"\")","v":""},0]
[]
["Totaal",null,{"$f":"SUM(C114:C126)","v":{"$error":"#N/A"}},null,{"$f":"SUM(E114:E126)","v":-16711.94875}]
[]
["RE",{"$f":"B114","v":"Gkuil balen 2016 2e snede"},{"$f":"IF('Mei voer'!C9>0,VLOOKUP('Mei voer'!B9,Voedermiddelen!$A$4:$K$75,7,FALSE)*C66,\"\")","v":30592.66},{"$f":"D114","v":"Gkuil balen 2016 2e snede"},{"$f":"IF('Mei voer'!H9>0,VLOOKUP('Mei voer'!G9,Voedermiddelen!$A$4:$K$75,7,FALSE)*E66,\"\")","v":30592.66}]
[null,{"$f":"B115","v":"Mkuil 1"},{"$f":"IF('Mei voer'!C10>0,VLOOKUP('Mei voer'!B10,Voedermiddelen!$A$4:$K$75,7,FALSE)*C67,\"\")","v":23393.37},"Mkuil 1",{"$f":"IF('Mei voer'!H10>0,VLOOKUP('Mei voer'!G10,Voedermiddelen!$A$4:$K$75,7,FALSE)*E67,\"\")","v":21266.699999999997}]
[null,"Overig 1",{"$f":"IF('Mei voer'!C11>0,VLOOKUP('Mei voer'!B11,Voedermiddelen!$A$4:$K$75,7,FALSE)*C68,\"\")","v":""},"Overig 1",{"$f":"IF('Mei voer'!H11>0,VLOOKUP('Mei voer'!G11,Voedermiddelen!$A$4:$K$75,7,FALSE)*E68,\"\")","v":""}]
[null,"Bierbostel",{"$f":"IF('Mei voer'!C12>0,VLOOKUP('Mei voer'!B12,Voedermiddelen!$A$4:$K$75,7,FALSE)*C69,\"\")","v":8992.9612500000003},"Bierbostel",{"$f":"IF('Mei voer'!H12>0,VLOOKUP('Mei voer'!G12,Voedermiddelen!$A$4:$K$75,7,FALSE)*E69,\"\")","v":8992.9612500000003}]
[null,"Overig 2",{"$f":"IF('Mei voer'!C13>0,VLOOKUP('Mei voer'!B13,Voedermiddelen!$A$4:$K$75,7,FALSE)*C70,\"\")","v":""},"Overig 2",{"$f":"IF('Mei voer'!H13>0,VLOOKUP('Mei voer'!G13,Voedermiddelen!$A$4:$K$75,7,FALSE)*E70,\"\")","v":""}]
[null,"BP 6",{"$f":"IF('Mei voer'!C14>0,VLOOKUP('Mei voer'!B14,Voedermiddelen!$A$4:$K$75,7,FALSE)*C71,\"\")","v":""},"BP 6",{"$f":"IF('Mei voer'!H14>0,VLOOKUP('Mei voer'!G14,Voedermiddelen!$A$4:$K$75,7,FALSE)*E71,\"\")","v":""}]
[null,0,{"$f":"IF('Mei voer'!C15>0,VLOOKUP('Mei voer'!B15,Voedermiddelen!$A$4:$K$75,7,FALSE)*C72,\"\")","v":""},0,{"$f":"IF('Mei voer'!H15>0,VLOOKUP('Mei voer'!G15,Voedermiddelen!$A$4:$K$75,7,FALSE)*E72,\"\")","v":""}]
[null,0,{"$f":"IF('Mei voer'!C16>0,VLOOKUP('Mei voer'!B16,Voedermiddelen!$A$4:$K$75,7,FALSE)*C73,\"\")","v":""},0,{"$f":"IF('Mei voer'!H16>0,VLOOKUP('Mei voer'!G16,Voedermiddelen!$A$4:$K$75,7,FALSE)*E73,\"\")","v":""}]
[null,0,{"$f":"IF('Mei voer'!C17>0,VLOOKUP('Mei voer'!B17,Voedermiddelen!$A$4:$K$75,7,FALSE)*C74,\"\")","v":""},0,{"$f":"IF('Mei voer'!H17>0,VLOOKUP('Mei voer'!G17,Voedermiddelen!$A$4:$K$75,7,FALSE)*E74,\"\")","v":""}]
[null,0,{"$f":"IF('Mei voer'!C18>0,VLOOKUP('Mei voer'!B18,Voedermiddelen!$A$4:$K$75,7,FALSE)*C75,\"\")","v":""},0,{"$f":"IF('Mei voer'!H18>0,VLOOKUP('Mei voer'!G18,Voedermiddelen!$A$4:$K$75,7,FALSE)*E75,\"\")","v":""}]
[null,"KV 1",{"$f":"IF('Mei voer'!C20>0,VLOOKUP('Mei voer'!B20,Voedermiddelen!$A$4:$K$75,7,FALSE)*C76,\"\")","v":8415},0]
[null,"Melkbrok BM",{"$f":"IF('Mei voer'!C21>0,VLOOKUP('Mei voer'!B21,Voedermiddelen!$A$4:$K$75,7,FALSE)*C77,\"\")","v":43335},0]
[null,{"$f":"B126","v":0},{"$f":"IF('Mei voer'!C22>0,VLOOKUP('Mei voer'!B22,Voedermiddelen!$A$4:$K$75,7,FALSE)*C78,\"\")","v":""},0]
[]
["Totaal",null,{"$f":"SUM(C130:C142)","v":114728.99124999999},null,{"$f":"SUM(E130:E142)","v":60852.321250000001}]
[]
["N opname",null,{"$f":"C144/6.25","v":18356.638599999998},null,{"$f":"E144/6.25","v":9736.3714},null,{"$f":"(E76/0.9*'Mei voer'!M6/6.25)","v":9764.807512284322}]
[]
["P",{"$f":"B130","v":"Gkuil balen 2016 2e snede"},{"$f":"IF('Mei voer'!C9>0,VLOOKUP('Mei voer'!B9,Voedermiddelen!$A$4:$K$75,10,FALSE)*C66,\"\")","v":952.41300000000001},{"$f":"D130","v":"Gkuil balen 2016 2e snede"},{"$f":"IF('Mei voer'!H9>0,VLOOKUP('Mei voer'!G9,Voedermiddelen!$A$4:$K$75,10,FALSE)*E66,\"\")","v":952.41300000000001}]
[null,{"$f":"B131","v":"Mkuil 1"},{"$f":"IF('Mei voer'!C10>0,VLOOKUP('Mei voer'!B10,Voedermiddelen!$A$4:$K$75,10,FALSE)*C67,\"\")","v":1029.3082799999997},"Mkuil 1",{"$f":"IF('Mei voer'!H10>0,VLOOKUP('Mei voer'!G10,Voedermiddelen!$A$4:$K$75,10,FALSE)*E67,\"\")","v":935.73479999999972}]
[null,"Overig 1",{"$f":"IF('Mei voer'!C11>0,VLOOKUP('Mei voer'!B11,Voedermiddelen!$A$4:$K$75,10,FALSE)*C68,\"\")","v":""},"Overig 1",{"$f":"IF('Mei voer'!H11>0,VLOOKUP('Mei voer'!G11,Voedermiddelen!$A$4:$K$75,10,FALSE)*E68,\"\")","v":""}]
[null,"Bierbostel",{"$f":"IF('Mei voer'!C12>0,VLOOKUP('Mei voer'!B12,Voedermiddelen!$A$4:$K$75,10,FALSE)*C69,\"\")","v":189.32550000000001},"Bierbostel",{"$f":"IF('Mei voer'!H12>0,VLOOKUP('Mei voer'!G12,Voedermiddelen!$A$4:$K$75,10,FALSE)*E69,\"\")","v":189.32550000000001}]
[null,"Overig 2",{"$f":"IF('Mei voer'!C13>0,VLOOKUP('Mei voer'!B13,Voedermiddelen!$A$4:$K$75,10,FALSE)*C70,\"\")","v":""},"Overig 2",{"$f":"IF('Mei voer'!H13>0,VLOOKUP('Mei voer'!G13,Voedermiddelen!$A$4:$K$75,10,FALSE)*E70,\"\")","v":""}]
[null,"BP 6",{"$f":"IF('Mei voer'!C14>0,VLOOKUP('Mei voer'!B14,Voedermiddelen!$A$4:$K$75,10,FALSE)*C71,\"\")","v":""},"BP 6",{"$f":"IF('Mei voer'!H14>0,VLOOKUP('Mei voer'!G14,Voedermiddelen!$A$4:$K$75,10,FALSE)*E71,\"\")","v":""}]
[null,0,{"$f":"IF('Mei voer'!C15>0,VLOOKUP('Mei voer'!B15,Voedermiddelen!$A$4:$K$75,10,FALSE)*C72,\"\")","v":""},0,{"$f":"IF('Mei voer'!H15>0,VLOOKUP('Mei voer'!G15,Voedermiddelen!$A$4:$K$75,10,FALSE)*E72,\"\")","v":""}]
[null,0,{"$f":"IF('Mei voer'!C16>0,VLOOKUP('Mei voer'!B16,Voedermiddelen!$A$4:$K$75,10,FALSE)*C73,\"\")","v":""},0,{"$f":"IF('Mei voer'!H16>0,VLOOKUP('Mei voer'!G16,Voedermiddelen!$A$4:$K$75,10,FALSE)*E73,\"\")","v":""}]
[null,0,{"$f":"IF('Mei voer'!C17>0,VLOOKUP('Mei voer'!B17,Voedermiddelen!$A$4:$K$75,10,FALSE)*C74,\"\")","v":""},0,{"$f":"IF('Mei voer'!H17>0,VLOOKUP('Mei voer'!G17,Voedermiddelen!$A$4:$K$75,10,FALSE)*E74,\"\")","v":""}]
[null,0,{"$f":"IF('Mei voer'!C18>0,VLOOKUP('Mei voer'!B18,Voedermiddelen!$A$4:$K$75,10,FALSE)*C75,\"\")","v":""},0,{"$f":"IF('Mei voer'!H18>0,VLOOKUP('Mei voer'!G18,Voedermiddelen!$A$4:$K$75,10,FALSE)*E75,\"\")","v":""}]
[null,{"$f":"B140","v":"KV 1"},{"$f":"IF('Mei voer'!C20>0,VLOOKUP('Mei voer'!B20,Voedermiddelen!$A$4:$K$75,10,FALSE)*C76,\"\")","v":198},0]
[null,{"$f":"B141","v":"Melkbrok BM"},{"$f":"IF('Mei voer'!C21>0,VLOOKUP('Mei voer'!B21,Voedermiddelen!$A$4:$K$75,10,FALSE)*C77,\"\")","v":810},0]
[null,{"$f":"B142","v":0},{"$f":"IF('Mei voer'!C22>0,VLOOKUP('Mei voer'!B22,Voedermiddelen!$A$4:$K$75,10,FALSE)*C78,\"\")","v":""},0]
[]
["Totaal",null,{"$f":"SUM(C148:C160)","v":3179.0467799999997},null,{"$f":"SUM(E148:E160)","v":2077.4732999999997},null,{"$f":"(E76/0.9*'Mei voer'!M7)","v":964.44788201777044}]

{"sheet":"Mei Excretie","index":51,"n_rows":25,"n_cols":5,"rows_kept":25,"cut":false,"hidden":true,"merged":[]}
["Veestapel"]
[null,null,{"$f":"'Mei vee+melk'!C6","v":"Mei gerealiseerd"},null,{"$f":"'Mei vee+melk'!E6","v":"Mei prognose"}]
[]
[]
["Excretie (kg/dier/dag)"]
[null,null,"N",null,"N"]
["Opname",null,{"$f":"'Mei Voeropname'!C2*'Mei Voeropname'!C7*0.001","v":0.49821561654299196},null,{"$f":"'Mei Voeropname'!E2*'Mei Voeropname'!E7*0.001+'Mei Voeropname'!G146*0.001/'Mei vee+melk'!E2","v":0.53550706988204333}]
["Gem opname 7 dgn",null,{"$f":"AVERAGE(C7:F7)","v":0.51686134321251764},null,{"$f":"AVERAGE(E7)","v":0.53550706988204333}]
["Productie",null,{"$f":"'Mei vee+melk'!C22*'Mei vee+melk'!C10/6.38","v":0.15476623060596953},null,{"$f":"'Mei vee+melk'!E22*'Mei vee+melk'!E10/6.38","v":0.14754297819956771}]
["Vastlegging",null,{"$f":"1.4/365","v":3.8356164383561643E-3},null,{"$f":"1.4/365","v":3.8356164383561643E-3}]
["Onder de staart",null,{"$f":"C7-C9-C10","v":0.33961376949866628},null,{"$f":"E7-E9-E10","v":0.38412847524411942}]
["Vervluchtiging",null,{"$f":"C11*0.1175","v":3.9904617916093288E-2},null,{"$f":"E11*0.1175","v":4.5135095841184032E-2}]
["Gemeten netto excretie",null,{"$f":"C11-C12","v":0.299709151582573},null,{"$f":"E11-E12","v":0.33899337940293539}]
[]
[null,null,"P",null,"P"]
["Opname",null,{"$f":"'Mei Voeropname'!C2*'Mei Voeropname'!C8/1000","v":7.4392937752805491E-2},null,{"$f":"'Mei Voeropname'!E2*'Mei Voeropname'!E8/1000+'Mei Voeropname'!G162*0.001/'Mei vee+melk'!E2","v":7.5065723869835219E-2}]
["Gem opname 7 dgn",null,{"$f":"AVERAGE(C16:F16)","v":7.4729330811320355E-2},null,{"$f":"AVERAGE(E16)","v":7.5065723869835219E-2}]
["Productie",null,{"$f":"'Mei vee+melk'!C22*0.9/1000","v":2.4413947696139478E-2},null,{"$f":"'Mei vee+melk'!E22*0.9/1000","v":2.4205479452054795E-2}]
["Vastlegging",null,{"$f":"0.5/365","v":1.3698630136986301E-3},null,{"$f":"0.5/365","v":1.3698630136986301E-3}]
["Onder de staart",null,{"$f":"C16-C18-C19","v":4.8609127042967382E-2},null,{"$f":"E16-E18-E19","v":4.9490381404081789E-2}]
["Vervluchtiging"]
["Gemeten netto excretie",null,{"$f":"C20","v":4.8609127042967382E-2},null,{"$f":"E20","v":4.9490381404081789E-2}]
[]
["N excretie per ton meetmelk (kg)",null,{"$f":"C13/'Mei vee+melk'!C21*1000","v":10.476308178976252},null,{"$f":"E13/'Mei vee+melk'!E21*1000","v":11.281737844790118}]
["P excretie per ton meetmelk (kg)",null,{"$f":"C22/'Mei vee+melk'!C21*1000","v":1.6991279462910656},null,{"$f":"E22/'Mei vee+melk'!E21*1000","v":1.647045466855191}]

{"sheet":"Mei kengetallen","index":52,"n_rows":106,"n_cols":6,"rows_kept":106,"cut":false,"hidden":true,"merged":[]}
["Rantsoen"]
["Datum",null,{"$f":"'Mei voer'!B3","v":"Mei gerealiseerd"},null,{"$f":"'Mei voer'!G3","v":"Mei prognose"}]
[]
[{"$f":"'Mei Voeropname'!A2","v":"DS opname/koe"},null,{"$f":"'Mei Voeropname'!C2","v":20.193413273817811},null,{"$f":"'Mei Voeropname'!E2","v":20.694308835007863}]
[{"$f":"'Mei Voeropname'!A3","v":"VEM"},null,{"$f":"'Mei Voeropname'!C3","v":979.23229833117921},null,{"$f":"'Mei Voeropname'!E3","v":563.78390915162686}]
[{"$f":"'Mei Voeropname'!A4","v":"DVE"},null,{"$f":"'Mei Voeropname'!C4","v":{"$error":"#N/A"}},null,{"$f":"'Mei Voeropname'!E4","v":{"$error":"#N/A"}}]
[{"$f":"'Mei Voeropname'!A5","v":"OEB"},null,{"$f":"'Mei Voeropname'!C5","v":{"$error":"#N/A"}},null,{"$f":"'Mei Voeropname'!E5","v":2.4018331460412128}]
[{"$f":"'Mei Voeropname'!A6","v":"RE"},null,{"$f":"'Mei Voeropname'!C6","v":154.20115268135592},null,{"$f":"'Mei Voeropname'!E6","v":119.6010648579371}]
[{"$f":"'Mei Voeropname'!A7","v":"N"},null,{"$f":"'Mei Voeropname'!C7","v":24.672184429016948},null,{"$f":"'Mei Voeropname'!E7","v":19.136170377269938}]
[{"$f":"'Mei Voeropname'!A8","v":"P"},null,{"$f":"'Mei Voeropname'!C8","v":3.6840199694848619},null,{"$f":"'Mei Voeropname'!E8","v":2.9615822143423514}]
[]
["Streefwaarde RE",null,{"$f":"'Mei voer'!H20","v":160}]
["Streefwaarde P",null,{"$f":"'Mei voer'!H21","v":3.6}]
[]
[]
[{"$f":"'Mei Excretie'!A24","v":"N excretie per ton meetmelk (kg)"},null,{"$f":"'Mei Excretie'!C24","v":10.476308178976252},null,{"$f":"'Mei Excretie'!E24","v":11.281737844790118}]
[{"$f":"'Mei Excretie'!A25","v":"P excretie per ton meetmelk (kg)"},null,{"$f":"'Mei Excretie'!C25","v":1.6991279462910656},null,{"$f":"'Mei Excretie'!E25","v":1.647045466855191}]
[]
[]
["VEM dekking",null,{"$f":"'Mei Voeropname'!C35/'Mei vee+melk'!C27","v":1.03},null,{"$f":"'Mei Voeropname'!E35/'Mei vee+melk'!E27","v":0.58648740451379844}]
["DVE dekking",null,{"$f":"'Mei Voeropname'!C36/'Mei vee+melk'!C28","v":{"$error":"#N/A"}},null,{"$f":"'Mei Voeropname'!E36/'Mei vee+melk'!E28","v":{"$error":"#N/A"}}]
[]
[]
["Voerefficientie kg meetmelk/kg voer (ds)",null,{"$f":"'Mei vee+melk'!C21/'Mei Voeropname'!C2","v":1.41671341161269},null,{"$f":"'Mei vee+melk'!E21/'Mei Voeropname'!E2","v":1.4519922108857335}]
["kg krachtvoer per 100 kg (excl bijprod)",null,{"$f":"SUM('Mei Voeropname'!C76:C78)/('Mei vee+melk'!C21*'Mei vee+melk'!C2)*100/0.9","v":13.9819663479177},null,{"$f":"SUM('Mei Voeropname'!E76:E78)/('Mei vee+melk'!E21*'Mei vee+melk'!E2)*100","v":13.44136205802188}]
[]
[]
[{"$f":"A12","v":"Streefwaarde RE"},null,{"$f":"$C$12","v":160},null,{"$f":"$C$12","v":160}]
[{"$f":"A13","v":"Streefwaarde P"},null,{"$f":"$C$13","v":3.6},null,{"$f":"$C$13","v":3.6}]
[]
[]
[]
[]
[{"$f":"A2","v":"Datum"},null,{"$f":"C2","v":"Mei gerealiseerd"},{"$f":"E2","v":"Mei prognose"},{"$f":"#REF!","v":{"$error":"#REF!"}},{"$f":"#REF!","v":{"$error":"#REF!"}}]
["00:00:00"]
["DS opname/koe",null,{"$f":"C4","v":20.193413273817811},{"$f":"E4","v":20.694308835007863},{"$f":"#REF!","v":{"$error":"#REF!"}},{"$f":"#REF!","v":{"$error":"#REF!"}}]
["VEM",null,979.23229833117921,563.78390915162686,{"$f":"#REF!","v":{"$error":"#REF!"}},{"$f":"#REF!","v":{"$error":"#REF!"}}]
["DVE",null,{"$error":"#N/A"},{"$error":"#N/A"},{"$f":"#REF!","v":{"$error":"#REF!"}},{"$f":"#REF!","v":{"$error":"#REF!"}}]
["OEB",null,{"$error":"#N/A"},2.4018331460412128,{"$f":"#REF!","v":{"$error":"#REF!"}},{"$f":"#REF!","v":{"$error":"#REF!"}}]
["RE",null,154.20115268135592,119.6010648579371,{"$f":"#REF!","v":{"$error":"#REF!"}},{"$f":"#REF!","v":{"$error":"#REF!"}}]
["N",null,24.672184429016948,19.136170377269938,{"$f":"#REF!","v":{"$error":"#REF!"}},{"$f":"#REF!","v":{"$error":"#REF!"}}]
["P",null,3.6840199694848619,2.9615822143423514,{"$f":"#REF!","v":{"$error":"#REF!"}},{"$f":"#REF!","v":{"$error":"#REF!"}}]
[{"$f":"A15","v":"00:00:00"}]
["N excretie per ton meetmelk (kg)",null,{"$f":"C16","v":10.476308178976252},{"$f":"E16","v":11.281737844790118},{"$f":"#REF!","v":{"$error":"#REF!"}},{"$f":"#REF!","v":{"$error":"#REF!"}}]
["P excretie per ton meetmelk (kg)",null,1.6991279462910656,{"$f":"E17","v":1.647045466855191},{"$f":"#REF!","v":{"$error":"#REF!"}},{"$f":"#REF!","v":{"$error":"#REF!"}}]
["00:00:00",null,{"$f":"1000/C45/2.29","v":257.00314308915426},{"$f":"1000/D45/2.29","v":265.1300352632079},{"$f":"1000/E45/2.29","v":{"$error":"#REF!"}},{"$f":"1000/F45/2.29","v":{"$error":"#REF!"}}]
[]
[]
["Rantsoen"]
[]
["Kuilgras",null,{"$f":"IF('Mei Voeropname'!$A66='Mei kengetallen'!$A51,'Mei Voeropname'!C66,\"\")","v":288.61},null,{"$f":"IF('Mei Voeropname'!$A66='Mei kengetallen'!$A51,'Mei Voeropname'!E66,\"\")","v":288.61}]
["Kuilgras",null,{"$f":"IF('Mei Voeropname'!$A67='Mei kengetallen'!$A52,'Mei Voeropname'!C67,\"\")","v":""},null,{"$f":"IF('Mei Voeropname'!$A67='Mei kengetallen'!$A52,'Mei Voeropname'!E67,\"\")","v":""}]
["Kuilgras",null,{"$f":"IF('Mei Voeropname'!$A68='Mei kengetallen'!$A53,'Mei Voeropname'!C68,\"\")","v":""},null,{"$f":"IF('Mei Voeropname'!$A68='Mei kengetallen'!$A53,'Mei Voeropname'!E68,\"\")","v":""}]
["Kuilgras",null,{"$f":"IF('Mei Voeropname'!$A69='Mei kengetallen'!$A54,'Mei Voeropname'!C69,\"\")","v":""},null,{"$f":"IF('Mei Voeropname'!$A69='Mei kengetallen'!$A54,'Mei Voeropname'!E69,\"\")","v":""}]
["Kuilgras",null,{"$f":"IF('Mei Voeropname'!$A70='Mei kengetallen'!$A55,'Mei Voeropname'!C70,\"\")","v":""},null,{"$f":"IF('Mei Voeropname'!$A70='Mei kengetallen'!$A55,'Mei Voeropname'!E70,\"\")","v":""}]
["Kuilgras",null,{"$f":"IF('Mei Voeropname'!$A71='Mei kengetallen'!$A56,'Mei Voeropname'!C71,\"\")","v":""},null,{"$f":"IF('Mei Voeropname'!$A71='Mei kengetallen'!$A56,'Mei Voeropname'!E71,\"\")","v":""}]
["Kuilgras",null,{"$f":"IF('Mei Voeropname'!$A72='Mei kengetallen'!$A57,'Mei Voeropname'!C72,\"\")","v":""},null,{"$f":"IF('Mei Voeropname'!$A72='Mei kengetallen'!$A57,'Mei Voeropname'!E72,\"\")","v":""}]
["Kuilgras",null,{"$f":"IF('Mei Voeropname'!$A73='Mei kengetallen'!$A58,'Mei Voeropname'!C73,\"\")","v":""},null,{"$f":"IF('Mei Voeropname'!$A73='Mei kengetallen'!$A58,'Mei Voeropname'!E73,\"\")","v":""}]
["Kuilgras",null,{"$f":"IF('Mei Voeropname'!$A74='Mei kengetallen'!$A59,'Mei Voeropname'!C74,\"\")","v":""},null,{"$f":"IF('Mei Voeropname'!$A74='Mei kengetallen'!$A59,'Mei Voeropname'!E74,\"\")","v":""}]
["Totaal kuilgras",null,{"$f":"SUM(C51:C59)","v":288.61},null,{"$f":"SUM(E51:E59)","v":288.61}]
[]
["Snijmais",null,{"$f":"IF('Mei Voeropname'!$A66='Mei kengetallen'!$A62,'Mei Voeropname'!C66,\"\")","v":""},null,{"$f":"IF('Mei Voeropname'!$A66='Mei kengetallen'!$A62,'Mei Voeropname'!E66,\"\")","v":""}]
["Snijmais",null,{"$f":"IF('Mei Voeropname'!$A67='Mei kengetallen'!$A63,'Mei Voeropname'!C67,\"\")","v":334.19099999999997},null,{"$f":"IF('Mei Voeropname'!$A67='Mei kengetallen'!$A63,'Mei Voeropname'!E67,\"\")","v":303.80999999999995}]
["Snijmais",null,{"$f":"IF('Mei Voeropname'!$A68='Mei kengetallen'!$A64,'Mei Voeropname'!C68,\"\")","v":""},null,{"$f":"IF('Mei Voeropname'!$A68='Mei kengetallen'!$A64,'Mei Voeropname'!E68,\"\")","v":""}]
["Snijmais",null,{"$f":"IF('Mei Voeropname'!$A69='Mei kengetallen'!$A65,'Mei Voeropname'!C69,\"\")","v":""},null,{"$f":"IF('Mei Voeropname'!$A69='Mei kengetallen'!$A65,'Mei Voeropname'!E69,\"\")","v":""}]
["Snijmais",null,{"$f":"IF('Mei Voeropname'!$A70='Mei kengetallen'!$A66,'Mei Voeropname'!C70,\"\")","v":""},null,{"$f":"IF('Mei Voeropname'!$A70='Mei kengetallen'!$A66,'Mei Voeropname'!E70,\"\")","v":""}]
["Snijmais",null,{"$f":"IF('Mei Voeropname'!$A71='Mei kengetallen'!$A67,'Mei Voeropname'!C71,\"\")","v":""},null,{"$f":"IF('Mei Voeropname'!$A71='Mei kengetallen'!$A67,'Mei Voeropname'!E71,\"\")","v":""}]
["Snijmais",null,{"$f":"IF('Mei Voeropname'!$A72='Mei kengetallen'!$A68,'Mei Voeropname'!C72,\"\")","v":""},null,{"$f":"IF('Mei Voeropname'!$A72='Mei kengetallen'!$A68,'Mei Voeropname'!E72,\"\")","v":""}]
["Snijmais",null,{"$f":"IF('Mei Voeropname'!$A73='Mei kengetallen'!$A69,'Mei Voeropname'!C73,\"\")","v":""},null,{"$f":"IF('Mei Voeropname'!$A73='Mei kengetallen'!$A69,'Mei Voeropname'!E73,\"\")","v":""}]
["Snijmais",null,{"$f":"IF('Mei Voeropname'!$A74='Mei kengetallen'!$A70,'Mei Voeropname'!C74,\"\")","v":""},null,{"$f":"IF('Mei Voeropname'!$A74='Mei kengetallen'!$A70,'Mei Voeropname'!E74,\"\")","v":""}]
["Totaal snijmais",null,{"$f":"SUM(C62:C70)","v":334.19099999999997},null,{"$f":"SUM(E62:E70)","v":303.80999999999995}]
[]
["OverigRuwvoer",null,{"$f":"IF('Mei Voeropname'!$A66='Mei kengetallen'!$A73,'Mei Voeropname'!C66,\"\")","v":""},null,{"$f":"IF('Mei Voeropname'!$A66='Mei kengetallen'!$A73,'Mei Voeropname'!E66,\"\")","v":""}]
["OverigRuwvoer",null,{"$f":"IF('Mei Voeropname'!$A67='Mei kengetallen'!$A74,'Mei Voeropname'!C67,\"\")","v":""},null,{"$f":"IF('Mei Voeropname'!$A67='Mei kengetallen'!$A74,'Mei Voeropname'!E67,\"\")","v":""}]
["OverigRuwvoer",null,{"$f":"IF('Mei Voeropname'!$A68='Mei kengetallen'!$A75,'Mei Voeropname'!C68,\"\")","v":""},null,{"$f":"IF('Mei Voeropname'!$A68='Mei kengetallen'!$A75,'Mei Voeropname'!E68,\"\")","v":""}]
["OverigRuwvoer",null,{"$f":"IF('Mei Voeropname'!$A69='Mei kengetallen'!$A76,'Mei Voeropname'!C69,\"\")","v":""},null,{"$f":"IF('Mei Voeropname'!$A69='Mei kengetallen'!$A76,'Mei Voeropname'!E69,\"\")","v":""}]
["OverigRuwvoer",null,{"$f":"IF('Mei Voeropname'!$A70='Mei kengetallen'!$A77,'Mei Voeropname'!C70,\"\")","v":""},null,{"$f":"IF('Mei Voeropname'!$A70='Mei kengetallen'!$A77,'Mei Voeropname'!E70,\"\")","v":""}]
["OverigRuwvoer",null,{"$f":"IF('Mei Voeropname'!$A71='Mei kengetallen'!$A78,'Mei Voeropname'!C71,\"\")","v":""},null,{"$f":"IF('Mei Voeropname'!$A71='Mei kengetallen'!$A78,'Mei Voeropname'!E71,\"\")","v":""}]
["OverigRuwvoer",null,{"$f":"IF('Mei Voeropname'!$A72='Mei kengetallen'!$A79,'Mei Voeropname'!C72,\"\")","v":""},null,{"$f":"IF('Mei Voeropname'!$A72='Mei kengetallen'!$A79,'Mei Voeropname'!E72,\"\")","v":""}]
["OverigRuwvoer",null,{"$f":"IF('Mei Voeropname'!$A73='Mei kengetallen'!$A80,'Mei Voeropname'!C73,\"\")","v":""},null,{"$f":"IF('Mei Voeropname'!$A73='Mei kengetallen'!$A80,'Mei Voeropname'!E73,\"\")","v":""}]
["OverigRuwvoer",null,{"$f":"IF('Mei Voeropname'!$A74='Mei kengetallen'!$A81,'Mei Voeropname'!C74,\"\")","v":""},null,{"$f":"IF('Mei Voeropname'!$A74='Mei kengetallen'!$A81,'Mei Voeropname'!E74,\"\")","v":""}]
["Totaal overig Ruwvoer",null,{"$f":"SUM(C73:C81)","v":0},null,{"$f":"SUM(E73:E81)","v":0}]
[]
["Bijproducten",null,{"$f":"IF('Mei Voeropname'!$A66='Mei kengetallen'!$A84,'Mei Voeropname'!C66,\"\")","v":""},null,{"$f":"IF('Mei Voeropname'!$A66='Mei kengetallen'!$A84,'Mei Voeropname'!E66,\"\")","v":""}]
["Bijproducten",null,{"$f":"IF('Mei Voeropname'!$A67='Mei kengetallen'!$A85,'Mei Voeropname'!C67,\"\")","v":""},null,{"$f":"IF('Mei Voeropname'!$A67='Mei kengetallen'!$A85,'Mei Voeropname'!E67,\"\")","v":""}]
["Bijproducten",null,{"$f":"IF('Mei Voeropname'!$A68='Mei kengetallen'!$A86,'Mei Voeropname'!C68,\"\")","v":""},null,{"$f":"IF('Mei Voeropname'!$A68='Mei kengetallen'!$A86,'Mei Voeropname'!E68,\"\")","v":""}]
["Bijproducten",null,{"$f":"IF('Mei Voeropname'!$A69='Mei kengetallen'!$A87,'Mei Voeropname'!C69,\"\")","v":36.408749999999998},null,{"$f":"IF('Mei Voeropname'!$A69='Mei kengetallen'!$A87,'Mei Voeropname'!E69,\"\")","v":36.408749999999998}]
["Bijproducten",null,{"$f":"IF('Mei Voeropname'!$A70='Mei kengetallen'!$A88,'Mei Voeropname'!C70,\"\")","v":""},null,{"$f":"IF('Mei Voeropname'!$A70='Mei kengetallen'!$A88,'Mei Voeropname'!E70,\"\")","v":""}]
["Bijproducten",null,{"$f":"IF('Mei Voeropname'!$A71='Mei kengetallen'!$A89,'Mei Voeropname'!C71,\"\")","v":""},null,{"$f":"IF('Mei Voeropname'!$A71='Mei kengetallen'!$A89,'Mei Voeropname'!E71,\"\")","v":""}]
["Bijproducten",null,{"$f":"IF('Mei Voeropname'!$A72='Mei kengetallen'!$A90,'Mei Voeropname'!C72,\"\")","v":""},null,{"$f":"IF('Mei Voeropname'!$A72='Mei kengetallen'!$A90,'Mei Voeropname'!E72,\"\")","v":""}]
["Bijproducten",null,{"$f":"IF('Mei Voeropname'!$A73='Mei kengetallen'!$A91,'Mei Voeropname'!C73,\"\")","v":""},null,{"$f":"IF('Mei Voeropname'!$A73='Mei kengetallen'!$A91,'Mei Voeropname'!E73,\"\")","v":""}]
["Bijproducten",null,{"$f":"IF('Mei Voeropname'!$A74='Mei kengetallen'!$A92,'Mei Voeropname'!C74,\"\")","v":""},null,{"$f":"IF('Mei Voeropname'!$A74='Mei kengetallen'!$A92,'Mei Voeropname'!E74,\"\")","v":""}]
["Totaal Bijproducten",null,{"$f":"SUM(C84:C92)","v":36.408749999999998},null,{"$f":"SUM(E84:E92)","v":36.408749999999998}]
[]
["Krachtvoer",null,{"$f":"SUM('Mei Voeropname'!C76:C78)","v":252},null,{"$f":"SUM('Mei Voeropname'!E76:E78)","v":282.72000000000003}]
[]
["Vers gras",null,{"$f":"'Mei Voeropname'!C31*('Mei vee+melk'!C2+'Mei vee+melk'!C3)","v":562.90941898870028},null,{"$f":"'Mei Voeropname'!E31*('Mei vee+melk'!E2+'Mei vee+melk'!E3)","v":599.13579495557406}]
[]
["Totaal",null,{"$f":"C95+C93+C82+C71+C60+C97","v":1474.1191689887003},null,{"$f":"E95+E93+E82+E71+E60+E97","v":1510.684544955574}]
[]
["Vers gras",null,{"$f":"C97/C99","v":0.38186154201825945},null,{"$f":"E97/E99","v":0.39659887761226376}]
["Aandeel kuilgras",null,{"$f":"C60/C$99","v":0.19578471406622916},null,{"$f":"E60/E$99","v":0.19104584141256797}]
["Aandeel snijmais",null,{"$f":"C71/C$99","v":0.22670555205470072},null,{"$f":"E71/E$99","v":0.20110750521309817}]
["Aandeel overig ruwvoer",null,{"$f":"C82/C$99","v":0},null,{"$f":"E82/E$99","v":0}]
["Aandeel bijproducten",null,{"$f":"C93/C$99","v":2.4698647684622224E-2},null,{"$f":"E93/E$99","v":2.4100829072207595E-2}]
["Aandeel krachtvoer",null,{"$f":"C95/C$99","v":0.17094954417618843},null,{"$f":"E95/E$99","v":0.18714694668986251}]

{"sheet":"April Voeropname","index":53,"n_rows":162,"n_cols":18,"rows_kept":162,"cut":false,"hidden":true,"merged":[]}
["Gem rantsoen gehaltes (d dgn)",null,{"$f":"'April voer'!B3","v":"April gerealiseerd"},null,{"$f":"'April voer'!G3","v":"April prognose"}]
["DS opname/koe",null,{"$f":"C34","v":20.309383813427043},null,{"$f":"E34","v":19.742368536016446}]
["VEM",null,{"$f":"C12","v":991.73804875278256},null,{"$f":"AVERAGE(E12:E12)","v":977.26620318901826}]
["DVE",null,{"$f":"AVERAGE(C13)","v":{"$error":"#N/A"}},null,{"$error":"#N/A"},null,null,null,null,null,null,null,1,null,null,null,null,"Voedermiddelen"]
["OEB",null,{"$f":"AVERAGE(C14)","v":{"$error":"#N/A"}},null,{"$error":"#N/A"},null,null,null,null,null,null,null,2,null,null,null,null,"Kuilgras"]
["RE",null,{"$f":"AVERAGE(C15)","v":151.28555941922468},null,115.08761088642461,null,null,null,null,null,null,null,null,null,null,null,null,"Snijmais"]
["N",null,{"$f":"AVERAGE(C16)","v":24.205689507075949},null,18.414017741827937,null,null,null,null,null,null,null,"Vem toeslag weidegang",null,1.03,null,null,"OverigRuwvoer"]
["P",null,3.7994757514445392,null,2.9772060924403436,null,null,null,null,null,null,null,null,null,null,null,null,"Bijproducten"]
[null,null,null,null,null,null,null,null,null,null,null,null,null,null,null,null,null,"Krachtvoer"]
[]
["Rantsoen gehaltes (incl. weidegras)"]
["VEM",null,{"$f":"C35/C34","v":991.73804875278256},null,{"$f":"E35/E34","v":977.26620318901826},null,null,null,null,null,null,null,null,null,null,null,null,"Let op bij beperkt weiden is deze opname niet realistisch!"]
["DVE",null,{"$f":"C36/C34","v":{"$error":"#N/A"}},null,{"$f":"E36/E34","v":{"$error":"#N/A"}},null,null,null,null,null,null,null,null,null,null,null,null,"Let op VEM dekking te laag!"]
["OEB",null,{"$f":"C37","v":{"$error":"#N/A"}},null,{"$f":"E37","v":{"$error":"#N/A"}}]
["RE",null,{"$f":"C38/C34","v":151.28555941922468},null,{"$f":"E38/E34","v":115.08761088642461}]
["N",null,{"$f":"C39/C34","v":24.205689507075949},null,{"$f":"E39/E34","v":18.414017741827937}]
["P",null,{"$f":"C40/C34","v":3.7994757514445392},null,{"$f":"E40/E34","v":2.9772060924403436}]
[]
[]
[]
[]
["kg ds",null,{"$f":"C55/SUM('April vee+melk'!C2:C3)","v":16.153682432432433},null,{"$f":"E55/SUM('April vee+melk'!E2:E3)","v":13.843321917808218}]
["Vemopname ex weidegras",null,{"$f":"C22*C45","v":15570.31715540541},null,{"$f":"E22*E45","v":13630.464787671232}]
[]
[]
[]
["VEM behoefte",null,{"$f":"IF('April voer'!B4=1,'April vee+melk'!C27*'April Voeropname'!O7,'April vee+melk'!C27)","v":20141.588674499482},null,{"$f":"IF('April voer'!G4=1,'April vee+melk'!E27*'April Voeropname'!O7,'April vee+melk'!E27)","v":19971.939902245078}]
["Behoefte-opname",null,{"$f":"C27-'April Voeropname'!C23","v":4571.2715190940726},null,{"$f":"E27-'April Voeropname'!E23","v":6341.4751145738464}]
[null,null,{"$f":"C28/VLOOKUP('April voer'!B5,Weidegras!$A$5:$J$119,4,FALSE)","v":4.1557013809946115},null,{"$f":"E28/VLOOKUP('April voer'!G5,Weidegras!$A$5:$J$119,4,FALSE)","v":5.8990466182082288}]
[null,null,{"$f":"IF(C29>0,C29,0)","v":4.1557013809946115},null,{"$f":"IF(E29>0,E29,0)","v":5.8990466182082288}]
["Weidegrasopname/koe",null,{"$f":"IF('April voer'!B4=1,C30,0)","v":4.1557013809946115},null,{"$f":"IF('April voer'!G4=1,E30,0)","v":5.8990466182082288}]
[]
["Rantsoenopname incl weidegras"]
["droge stof",null,{"$f":"C22+C31","v":20.309383813427043},null,{"$f":"E22+E31","v":19.742368536016446}]
["VEM",null,{"$f":"C45*C22+C31*VLOOKUP('April voer'!B5,Weidegras!$A$6:$J$180,4,FALSE)","v":20141.588674499482},null,{"$f":"E45*E22+E31*VLOOKUP('April voer'!G5,[2]Weidegras!$A$6:$J$180,4,FALSE)","v":19293.549541151129}]
["DVE",null,{"$f":"C46*C22+$C$31*VLOOKUP('April voer'!B5,Weidegras!$A$5:$J$150,5,FALSE)","v":{"$error":"#N/A"}},null,{"$f":"E46*E22+$C$31*VLOOKUP('April voer'!G5,Weidegras!$A$5:$J$150,5,FALSE)","v":{"$error":"#N/A"}}]
["OEB",null,{"$f":"C22*C47+$C$31*VLOOKUP('April voer'!B5,Weidegras!$A$6:$J$151,6,FALSE)","v":{"$error":"#N/A"}},null,{"$f":"E22*E47+$C$31*VLOOKUP('April voer'!G5,Weidegras!$A$6:$J$151,6,FALSE)","v":{"$error":"#N/A"}}]
["RE",null,{"$f":"C48*C22+C31*VLOOKUP('April voer'!$B$5,Weidegras!$A$6:$J$181,7,FALSE)","v":3072.5164916740569},null,{"$f":"E48*E22+E31*VLOOKUP('April voer'!$B$5,Weidegras!$A$6:$J$181,7,FALSE)","v":2272.1020280494531}]
["N",null,{"$f":"C38/6.25","v":491.60263866784908},null,{"$f":"E38/6.25","v":363.53632448791251}]
["P",null,{"$f":"C50*C22+C31*VLOOKUP('April voer'!$B$5,Weidegras!$A$6:$J$183,10,FALSE)","v":77.165011325896273},null,{"$f":"E50*E22+E31*VLOOKUP('April voer'!$B$5,Weidegras!$A$6:$J$183,10,FALSE)","v":58.777099884630715}]
[]
[]
["Stalrantsoen gehaltes"]
["droge stof"]
["VEM",null,{"$f":"C56/C$55","v":963.88654540739412},null,{"$f":"E56/E$55","v":984.62384018801401}]
["DVE",null,{"$f":"C57/C$55*1000","v":{"$error":"#N/A"}},null,{"$f":"E57/E$55*1000","v":{"$error":"#N/A"}}]
["OEB",null,{"$f":"C58/C$55","v":{"$error":"#N/A"}},null,{"$f":"E58/E$55","v":{"$error":"#N/A"}}]
["RE",null,{"$f":"C59/C$55","v":145.18477503874314},null,89.55717978848412]
["N",null,{"$f":"C60/C$55","v":23.229564006198903},null,14.329148766157459]
["P",null,{"$f":"C61/C$55","v":3.8250669142882239},null,2.669202350176263]
[]
[]
[]
["Stalrantsoen opname"]
["droge stof (kg)",null,{"$f":"C80","v":1195.3724999999999},null,1010.5625]
["VEM",null,{"$f":"C96","v":1152203.4695000001},null,995023.92949999997]
["DVE",null,{"$f":"C112","v":{"$error":"#N/A"}},null,{"$f":"E112","v":{"$error":"#N/A"}}]
["OEB",null,{"$f":"C128","v":{"$error":"#N/A"}},null,{"$f":"E128","v":{"$error":"#N/A"}}]
["RE",null,{"$f":"C144","v":173549.88749999998},null,{"$f":"E144","v":90503.127499999988}]
["N",null,{"$f":"C146","v":27767.981999999996},null,{"$f":"E146","v":14480.500399999997}]
["P",null,{"$f":"C162","v":4572.3797999999997},null,{"$f":"E162","v":2697.3957999999998}]
[]
[]
[]
["Drogestof opname"]
[{"$f":"'April voer'!A9","v":"Kuilgras"},{"$f":"'April voer'!B9","v":"Gkuil 2 2e snede 2015"},{"$f":"IF('April voer'!C9>0,VLOOKUP('April voer'!B9,Voedermiddelen!$A$4:$K$75,3,FALSE)*'April voer'!C9*(1-'April voer'!$B$6),\"\")","v":472.15},{"$f":"'April voer'!G9","v":"Gkuil 2 2e snede 2015"},{"$f":"IF('April voer'!H9>0,VLOOKUP('April voer'!G9,Voedermiddelen!$A$4:$K$75,3,FALSE)*'April voer'!H9*(1-'April voer'!$G$6),\"\")","v":283.28999999999996}]
[{"$f":"'April voer'!A10","v":"Snijmais"},{"$f":"'April voer'!B10","v":"Mkuil 1"},{"$f":"IF('April voer'!C10>0,VLOOKUP('April voer'!B10,Voedermiddelen!$A$4:$K$75,3,FALSE)*'April voer'!C10*(1-'April voer'!$B$6),\"\")","v":303.80999999999995},{"$f":"'April voer'!G10","v":"Mkuil 1"},{"$f":"IF('April voer'!H10>0,VLOOKUP('April voer'!G10,Voedermiddelen!$A$4:$K$75,3,FALSE)*'April voer'!H10*(1-'April voer'!$G$6),\"\")","v":303.80999999999995}]
[{"$f":"'April voer'!A11","v":"OverigRuwvoer"},{"$f":"'April voer'!B11","v":"Overig 1"},{"$f":"IF('April voer'!C11>0,VLOOKUP('April voer'!B11,Voedermiddelen!$A$4:$K$75,3,FALSE)*'April voer'!C11*(1-'April voer'!$B$6),\"\")","v":""},{"$f":"'April voer'!G11","v":"Overig 1"},{"$f":"IF('April voer'!H11>0,VLOOKUP('April voer'!G11,Voedermiddelen!$A$4:$K$75,3,FALSE)*'April voer'!H11*(1-'April voer'!$G$6),\"\")","v":""}]
[{"$f":"'April voer'!A12","v":"Bijproducten"},{"$f":"'April voer'!B12","v":"Bierbostel"},{"$f":"IF('April voer'!C12>0,VLOOKUP('April voer'!B12,Voedermiddelen!$A$4:$K$75,3,FALSE)*'April voer'!C12*(1-'April voer'!$B$6),\"\")","v":52.012499999999996},{"$f":"'April voer'!G12","v":"Bierbostel"},{"$f":"IF('April voer'!H12>0,VLOOKUP('April voer'!G12,Voedermiddelen!$A$4:$K$75,3,FALSE)*'April voer'!H12*(1-'April voer'!$G$6),\"\")","v":52.012499999999996}]
[{"$f":"'April voer'!A13","v":"OverigRuwvoer"},{"$f":"'April voer'!B13","v":"Overig 2"},{"$f":"IF('April voer'!C13>0,VLOOKUP('April voer'!B13,Voedermiddelen!$A$4:$K$75,3,FALSE)*'April voer'!C13*(1-'April voer'!$B$6),\"\")","v":""},{"$f":"'April voer'!G13","v":"Overig 2"},{"$f":"IF('April voer'!H13>0,VLOOKUP('April voer'!G13,Voedermiddelen!$A$4:$K$75,3,FALSE)*'April voer'!H13*(1-'April voer'!$G$6),\"\")","v":""}]
[{"$f":"'April voer'!A14","v":"Bijproducten"},{"$f":"'April voer'!B14","v":"sodagrain"},{"$f":"IF('April voer'!C14>0,VLOOKUP('April voer'!B14,Voedermiddelen!$A$4:$K$75,3,FALSE)*'April voer'!C14*(1-'April voer'!$B$6),\"\")","v":106.39999999999999},{"$f":"'April voer'!G14","v":"sodagrain"},{"$f":"IF('April voer'!H14>0,VLOOKUP('April voer'!G14,Voedermiddelen!$A$4:$K$75,3,FALSE)*'April voer'!H14*(1-'April voer'!$G$6),\"\")","v":106.39999999999999}]
[{"$f":"'April voer'!A15","v":0},{"$f":"'April voer'!B15","v":0},{"$f":"IF('April voer'!C15>0,VLOOKUP('April voer'!B15,Voedermiddelen!$A$4:$K$75,3,FALSE)*'April voer'!C15*(1-'April voer'!$B$6),\"\")","v":""},{"$f":"'April voer'!G15","v":0},{"$f":"IF('April voer'!H15>0,VLOOKUP('April voer'!G15,Voedermiddelen!$A$4:$K$75,3,FALSE)*'April voer'!H15*(1-'April voer'!$G$6),\"\")","v":""}]
[{"$f":"'April voer'!A16","v":0},{"$f":"'April voer'!B16","v":0},{"$f":"IF('April voer'!C16>0,VLOOKUP('April voer'!B16,Voedermiddelen!$A$4:$K$75,3,FALSE)*'April voer'!C16*(1-'April voer'!$B$6),\"\")","v":""},{"$f":"'April voer'!G16","v":0},{"$f":"IF('April voer'!H16>0,VLOOKUP('April voer'!G16,Voedermiddelen!$A$4:$K$75,3,FALSE)*'April voer'!H16*(1-'April voer'!$G$6),\"\")","v":""}]
[{"$f":"'April voer'!A17","v":0},{"$f":"'April voer'!B17","v":0},{"$f":"IF('April voer'!C17>0,VLOOKUP('April voer'!B17,Voedermiddelen!$A$4:$K$75,3,FALSE)*'April voer'!C17*(1-'April voer'!$B$6),\"\")","v":""},{"$f":"'April voer'!G17","v":0},{"$f":"IF('April voer'!H17>0,VLOOKUP('April voer'!G17,Voedermiddelen!$A$4:$K$75,3,FALSE)*'April voer'!H17*(1-'April voer'!$G$6),\"\")","v":""}]
[null,{"$f":"'April voer'!B18","v":0},{"$f":"IF('April voer'!C18>0,VLOOKUP('April voer'!B18,Voedermiddelen!$A$4:$K$75,3,FALSE)*'April voer'!C18*(1-'April voer'!$B$6),\"\")","v":""},{"$f":"'April voer'!G18","v":0},{"$f":"IF('April voer'!H18>0,VLOOKUP('April voer'!G18,Voedermiddelen!$A$4:$K$75,3,FALSE)*'April voer'!H18*(1-'April voer'!$G$6),\"\")","v":""}]
[null,{"$f":"'April voer'!B20","v":"KV 1"},{"$f":"IF('April voer'!C20>0,VLOOKUP('April voer'!B20,Voedermiddelen!$A$4:$K$75,3,FALSE)*'April voer'!C20,\"\")","v":94.5},null,{"$f":"'April voer'!H22*'April vee+melk'!E15/100*0.9","v":265.05}]
[null,{"$f":"'April voer'!B21","v":"Melkbrok BM"},{"$f":"IF('April voer'!C21>0,VLOOKUP('April voer'!B21,Voedermiddelen!$A$4:$K$75,3,FALSE)*'April voer'!C21,\"\")","v":166.5}]
[null,{"$f":"'April voer'!B22","v":0},{"$f":"IF('April voer'!C22>0,VLOOKUP('April voer'!B22,Voedermiddelen!$A$4:$K$75,3,FALSE)*'April voer'!C22,\"\")","v":""}]
[]
["Totaal",null,{"$f":"SUM(C66:C78)","v":1195.3724999999999},null,{"$f":"SUM(E66:E78)","v":1010.5625}]
[]
["VEM",{"$f":"B66","v":"Gkuil 2 2e snede 2015"},{"$f":"IF('April voer'!C9>0,VLOOKUP('April voer'!B9,Voedermiddelen!$A$4:$K$75,4,FALSE)*C66,\"\")","v":443348.85},{"$f":"D66","v":"Gkuil 2 2e snede 2015"},{"$f":"IF('April voer'!H9>0,VLOOKUP('April voer'!G9,Voedermiddelen!$A$4:$K$75,4,FALSE)*E66,\"\")","v":266009.30999999994}]
[null,{"$f":"B67","v":"Mkuil 1"},{"$f":"IF('April voer'!C10>0,VLOOKUP('April voer'!B10,Voedermiddelen!$A$4:$K$75,4,FALSE)*C67,\"\")","v":304478.38199999998},"Mkuil 1",{"$f":"IF('April voer'!H10>0,VLOOKUP('April voer'!G10,Voedermiddelen!$A$4:$K$75,4,FALSE)*E67,\"\")","v":304478.38199999998}]
[null,"Overig 1",{"$f":"IF('April voer'!C11>0,VLOOKUP('April voer'!B11,Voedermiddelen!$A$4:$K$75,4,FALSE)*C68,\"\")","v":""},"Overig 1",{"$f":"IF('April voer'!H11>0,VLOOKUP('April voer'!G11,Voedermiddelen!$A$4:$K$75,4,FALSE)*E68,\"\")","v":""}]
[null,"Bierbostel",{"$f":"IF('April voer'!C12>0,VLOOKUP('April voer'!B12,Voedermiddelen!$A$4:$K$75,4,FALSE)*C69,\"\")","v":49255.837499999994},"Bierbostel",{"$f":"IF('April voer'!H12>0,VLOOKUP('April voer'!G12,Voedermiddelen!$A$4:$K$75,4,FALSE)*E69,\"\")","v":49255.837499999994}]
[null,"Overig 2",{"$f":"IF('April voer'!C13>0,VLOOKUP('April voer'!B13,Voedermiddelen!$A$4:$K$75,4,FALSE)*C70,\"\")","v":""},"Overig 2",{"$f":"IF('April voer'!H13>0,VLOOKUP('April voer'!G13,Voedermiddelen!$A$4:$K$75,4,FALSE)*E70,\"\")","v":""}]
[null,"sodagrain",{"$f":"IF('April voer'!C14>0,VLOOKUP('April voer'!B14,Voedermiddelen!$A$4:$K$75,4,FALSE)*C71,\"\")","v":110230.39999999999},"sodagrain",{"$f":"IF('April voer'!H14>0,VLOOKUP('April voer'!G14,Voedermiddelen!$A$4:$K$75,4,FALSE)*E71,\"\")","v":110230.39999999999}]
[null,0,{"$f":"IF('April voer'!C15>0,VLOOKUP('April voer'!B15,Voedermiddelen!$A$4:$K$75,4,FALSE)*C72,\"\")","v":""},0,{"$f":"IF('April voer'!H15>0,VLOOKUP('April voer'!G15,Voedermiddelen!$A$4:$K$75,4,FALSE)*E72,\"\")","v":""}]
[null,0,{"$f":"IF('April voer'!C16>0,VLOOKUP('April voer'!B16,Voedermiddelen!$A$4:$K$75,4,FALSE)*C73,\"\")","v":""},0,{"$f":"IF('April voer'!H16>0,VLOOKUP('April voer'!G16,Voedermiddelen!$A$4:$K$75,4,FALSE)*E73,\"\")","v":""}]
[null,0,{"$f":"IF('April voer'!C17>0,VLOOKUP('April voer'!B17,Voedermiddelen!$A$4:$K$75,4,FALSE)*C74,\"\")","v":""},0,{"$f":"IF('April voer'!H17>0,VLOOKUP('April voer'!G17,Voedermiddelen!$A$4:$K$75,4,FALSE)*E74,\"\")","v":""}]
[null,0,{"$f":"IF('April voer'!C18>0,VLOOKUP('April voer'!B18,Voedermiddelen!$A$4:$K$75,4,FALSE)*C75,\"\")","v":""},0,{"$f":"IF('April voer'!H18>0,VLOOKUP('April voer'!G18,Voedermiddelen!$A$4:$K$75,4,FALSE)*E75,\"\")","v":""}]
[null,"KV 1",{"$f":"IF('April voer'!C20>0,VLOOKUP('April voer'!B20,Voedermiddelen!$A$4:$K$75,4,FALSE)*C76,\"\")","v":85050},0,{"$f":"E76*1000","v":265050}]
[null,"Melkbrok BM",{"$f":"IF('April voer'!C21>0,VLOOKUP('April voer'!B21,Voedermiddelen!$A$4:$K$75,4,FALSE)*C77,\"\")","v":159840},0]
[null,0,{"$f":"IF('April voer'!C22>0,VLOOKUP('April voer'!B22,Voedermiddelen!$A$4:$K$75,4,FALSE)*C78,\"\")","v":""},0]
[]
["Totaal",null,{"$f":"SUM(C82:C94)","v":1152203.4695000001},null,{"$f":"SUM(E82:E94)","v":995023.92949999997}]
[]
["DVE",{"$f":"B82","v":"Gkuil 2 2e snede 2015"},{"$f":"IF('April voer'!C9>0,VLOOKUP('April voer'!B9,[2]Voedermiddelen!$A$4:$K$75,5,FALSE)*C66,\"\")","v":{"$error":"#N/A"}},{"$f":"D82","v":"Gkuil 2 2e snede 2015"},{"$f":"IF('April voer'!H9>0,VLOOKUP('April voer'!G9,[2]Voedermiddelen!$A$4:$K$75,5,FALSE)*E66,\"\")","v":{"$error":"#N/A"}}]
[null,{"$f":"B83","v":"Mkuil 1"},{"$f":"IF('April voer'!C10>0,VLOOKUP('April voer'!B10,[2]Voedermiddelen!$A$4:$K$75,5,FALSE)*C67,\"\")","v":21692.033999999996},"Mkuil 1",{"$f":"IF('April voer'!H10>0,VLOOKUP('April voer'!G10,[2]Voedermiddelen!$A$4:$K$75,5,FALSE)*E67,\"\")","v":21692.033999999996}]
[null,"Overig 1",{"$f":"IF('April voer'!C11>0,VLOOKUP('April voer'!B11,[2]Voedermiddelen!$A$4:$K$75,5,FALSE)*C68,\"\")","v":""},"Overig 1",{"$f":"IF('April voer'!H11>0,VLOOKUP('April voer'!G11,[2]Voedermiddelen!$A$4:$K$75,5,FALSE)*E68,\"\")","v":""}]
[null,"Bierbostel",{"$f":"IF('April voer'!C12>0,VLOOKUP('April voer'!B12,[2]Voedermiddelen!$A$4:$K$75,5,FALSE)*C69,\"\")","v":7125.7124999999996},"Bierbostel",{"$f":"IF('April voer'!H12>0,VLOOKUP('April voer'!G12,[2]Voedermiddelen!$A$4:$K$75,5,FALSE)*E69,\"\")","v":7125.7124999999996}]
[null,"Overig 2",{"$f":"IF('April voer'!C13>0,VLOOKUP('April voer'!B13,[2]Voedermiddelen!$A$4:$K$75,5,FALSE)*C70,\"\")","v":""},"Overig 2",{"$f":"IF('April voer'!H13>0,VLOOKUP('April voer'!G13,[2]Voedermiddelen!$A$4:$K$75,5,FALSE)*E70,\"\")","v":""}]
[null,"sodagrain",{"$f":"IF('April voer'!C14>0,VLOOKUP('April voer'!B14,[2]Voedermiddelen!$A$4:$K$75,5,FALSE)*C71,\"\")","v":{"$error":"#N/A"}},"sodagrain",{"$f":"IF('April voer'!H14>0,VLOOKUP('April voer'!G14,[2]Voedermiddelen!$A$4:$K$75,5,FALSE)*E71,\"\")","v":{"$error":"#N/A"}}]
[null,0,{"$f":"IF('April voer'!C15>0,VLOOKUP('April voer'!B15,[2]Voedermiddelen!$A$4:$K$75,5,FALSE)*C72,\"\")","v":""},0,{"$f":"IF('April voer'!H15>0,VLOOKUP('April voer'!G15,[2]Voedermiddelen!$A$4:$K$75,5,FALSE)*E72,\"\")","v":""}]
[null,0,{"$f":"IF('April voer'!C16>0,VLOOKUP('April voer'!B16,[2]Voedermiddelen!$A$4:$K$75,5,FALSE)*C73,\"\")","v":""},0,{"$f":"IF('April voer'!H16>0,VLOOKUP('April voer'!G16,[2]Voedermiddelen!$A$4:$K$75,5,FALSE)*E73,\"\")","v":""}]
[null,0,{"$f":"IF('April voer'!C17>0,VLOOKUP('April voer'!B17,[2]Voedermiddelen!$A$4:$K$75,5,FALSE)*C74,\"\")","v":""},0,{"$f":"IF('April voer'!H17>0,VLOOKUP('April voer'!G17,[2]Voedermiddelen!$A$4:$K$75,5,FALSE)*E74,\"\")","v":""}]
[null,0,{"$f":"IF('April voer'!C18>0,VLOOKUP('April voer'!B18,[2]Voedermiddelen!$A$4:$K$75,5,FALSE)*C75,\"\")","v":""},0,{"$f":"IF('April voer'!H18>0,VLOOKUP('April voer'!G18,[2]Voedermiddelen!$A$4:$K$75,5,FALSE)*E75,\"\")","v":""}]
[null,"KV 1",{"$f":"IF('April voer'!C20>0,VLOOKUP('April voer'!B20,[2]Voedermiddelen!$A$4:$K$75,5,FALSE)*C76,\"\")","v":11340},0]
[null,"Melkbrok BM",{"$f":"IF('April voer'!C21>0,VLOOKUP('April voer'!B21,[2]Voedermiddelen!$A$4:$K$75,5,FALSE)*C77,\"\")","v":{"$error":"#N/A"}},0]
[null,0,{"$f":"IF('April voer'!C22>0,VLOOKUP('April voer'!B22,[2]Voedermiddelen!$A$4:$K$75,5,FALSE)*C78,\"\")","v":""},0]
[]
["Totaal",null,{"$f":"SUM(C98:C110)/1000","v":{"$error":"#N/A"}},null,{"$f":"SUM(E98:E110)/1000","v":{"$error":"#N/A"}}]
[]
["OEB",{"$f":"B98","v":"Gkuil 2 2e snede 2015"},{"$f":"IF('April voer'!C9>0,VLOOKUP('April voer'!B9,[2]Voedermiddelen!$A$4:$K$75,6,FALSE)*C66,\"\")","v":{"$error":"#N/A"}},{"$f":"D98","v":"Gkuil 2 2e snede 2015"},{"$f":"IF('April voer'!H9>0,VLOOKUP('April voer'!G9,[2]Voedermiddelen!$A$4:$K$75,6,FALSE)*E66,\"\")","v":{"$error":"#N/A"}}]
[null,{"$f":"B99","v":"Mkuil 1"},{"$f":"IF('April voer'!C10>0,VLOOKUP('April voer'!B10,[2]Voedermiddelen!$A$4:$K$75,6,FALSE)*C67,\"\")","v":-8324.3939999999984},"Mkuil 1",{"$f":"IF('April voer'!H10>0,VLOOKUP('April voer'!G10,[2]Voedermiddelen!$A$4:$K$75,6,FALSE)*E67,\"\")","v":-8324.3939999999984}]
[null,"Overig 1",{"$f":"IF('April voer'!C11>0,VLOOKUP('April voer'!B11,[2]Voedermiddelen!$A$4:$K$75,6,FALSE)*C68,\"\")","v":""},"Overig 1",{"$f":"IF('April voer'!H11>0,VLOOKUP('April voer'!G11,[2]Voedermiddelen!$A$4:$K$75,6,FALSE)*E68,\"\")","v":""}]
[null,"Bierbostel",{"$f":"IF('April voer'!C12>0,VLOOKUP('April voer'!B12,[2]Voedermiddelen!$A$4:$K$75,6,FALSE)*C69,\"\")","v":2860.6874999999995},"Bierbostel",{"$f":"IF('April voer'!H12>0,VLOOKUP('April voer'!G12,[2]Voedermiddelen!$A$4:$K$75,6,FALSE)*E69,\"\")","v":2860.6874999999995}]
[null,"Overig 2",{"$f":"IF('April voer'!C13>0,VLOOKUP('April voer'!B13,[2]Voedermiddelen!$A$4:$K$75,6,FALSE)*C70,\"\")","v":""},"Overig 2",{"$f":"IF('April voer'!H13>0,VLOOKUP('April voer'!G13,[2]Voedermiddelen!$A$4:$K$75,6,FALSE)*E70,\"\")","v":""}]
[null,"sodagrain",{"$f":"IF('April voer'!C14>0,VLOOKUP('April voer'!B14,[2]Voedermiddelen!$A$4:$K$75,6,FALSE)*C71,\"\")","v":{"$error":"#N/A"}},"sodagrain",{"$f":"IF('April voer'!H14>0,VLOOKUP('April voer'!G14,[2]Voedermiddelen!$A$4:$K$75,6,FALSE)*E71,\"\")","v":{"$error":"#N/A"}}]
[null,0,{"$f":"IF('April voer'!C15>0,VLOOKUP('April voer'!B15,[2]Voedermiddelen!$A$4:$K$75,6,FALSE)*C72,\"\")","v":""},0,{"$f":"IF('April voer'!H15>0,VLOOKUP('April voer'!G15,[2]Voedermiddelen!$A$4:$K$75,6,FALSE)*E72,\"\")","v":""}]
[null,0,{"$f":"IF('April voer'!C16>0,VLOOKUP('April voer'!B16,[2]Voedermiddelen!$A$4:$K$75,6,FALSE)*C73,\"\")","v":""},0,{"$f":"IF('April voer'!H16>0,VLOOKUP('April voer'!G16,[2]Voedermiddelen!$A$4:$K$75,6,FALSE)*E73,\"\")","v":""}]
[null,0,{"$f":"IF('April voer'!C17>0,VLOOKUP('April voer'!B17,[2]Voedermiddelen!$A$4:$K$75,6,FALSE)*C74,\"\")","v":""},0,{"$f":"IF('April voer'!H17>0,VLOOKUP('April voer'!G17,[2]Voedermiddelen!$A$4:$K$75,6,FALSE)*E74,\"\")","v":""}]
[null,0,{"$f":"IF('April voer'!C18>0,VLOOKUP('April voer'!B18,[2]Voedermiddelen!$A$4:$K$75,6,FALSE)*C75,\"\")","v":""},0,{"$f":"IF('April voer'!H18>0,VLOOKUP('April voer'!G18,[2]Voedermiddelen!$A$4:$K$75,6,FALSE)*E75,\"\")","v":""}]
[null,"KV 1",{"$f":"IF('April voer'!C20>0,VLOOKUP('April voer'!B20,[2]Voedermiddelen!$A$4:$K$75,6,FALSE)*C76,\"\")","v":5670},0]
[null,"Melkbrok BM",{"$f":"IF('April voer'!C21>0,VLOOKUP('April voer'!B21,[2]Voedermiddelen!$A$4:$K$75,6,FALSE)*C77,\"\")","v":{"$error":"#N/A"}},0]
[null,0,{"$f":"IF('April voer'!C22>0,VLOOKUP('April voer'!B22,[2]Voedermiddelen!$A$4:$K$75,6,FALSE)*C78,\"\")","v":""},0]
[]
["Totaal",null,{"$f":"SUM(C114:C126)","v":{"$error":"#N/A"}},null,{"$f":"SUM(E114:E126)","v":{"$error":"#N/A"}}]
[]
["RE",{"$f":"B114","v":"Gkuil 2 2e snede 2015"},{"$f":"IF('April voer'!C9>0,VLOOKUP('April voer'!B9,Voedermiddelen!$A$4:$K$75,7,FALSE)*C66,\"\")","v":78376.899999999994},{"$f":"D114","v":"Gkuil 2 2e snede 2015"},{"$f":"IF('April voer'!H9>0,VLOOKUP('April voer'!G9,Voedermiddelen!$A$4:$K$75,7,FALSE)*E66,\"\")","v":47026.139999999992}]
[null,{"$f":"B115","v":"Mkuil 1"},{"$f":"IF('April voer'!C10>0,VLOOKUP('April voer'!B10,Voedermiddelen!$A$4:$K$75,7,FALSE)*C67,\"\")","v":21266.699999999997},"Mkuil 1",{"$f":"IF('April voer'!H10>0,VLOOKUP('April voer'!G10,Voedermiddelen!$A$4:$K$75,7,FALSE)*E67,\"\")","v":21266.699999999997}]
[null,"Overig 1",{"$f":"IF('April voer'!C11>0,VLOOKUP('April voer'!B11,Voedermiddelen!$A$4:$K$75,7,FALSE)*C68,\"\")","v":""},"Overig 1",{"$f":"IF('April voer'!H11>0,VLOOKUP('April voer'!G11,Voedermiddelen!$A$4:$K$75,7,FALSE)*E68,\"\")","v":""}]
[null,"Bierbostel",{"$f":"IF('April voer'!C12>0,VLOOKUP('April voer'!B12,Voedermiddelen!$A$4:$K$75,7,FALSE)*C69,\"\")","v":12847.0875},"Bierbostel",{"$f":"IF('April voer'!H12>0,VLOOKUP('April voer'!G12,Voedermiddelen!$A$4:$K$75,7,FALSE)*E69,\"\")","v":12847.0875}]
[null,"Overig 2",{"$f":"IF('April voer'!C13>0,VLOOKUP('April voer'!B13,Voedermiddelen!$A$4:$K$75,7,FALSE)*C70,\"\")","v":""},"Overig 2",{"$f":"IF('April voer'!H13>0,VLOOKUP('April voer'!G13,Voedermiddelen!$A$4:$K$75,7,FALSE)*E70,\"\")","v":""}]
[null,"sodagrain",{"$f":"IF('April voer'!C14>0,VLOOKUP('April voer'!B14,Voedermiddelen!$A$4:$K$75,7,FALSE)*C71,\"\")","v":9363.1999999999989},"sodagrain",{"$f":"IF('April voer'!H14>0,VLOOKUP('April voer'!G14,Voedermiddelen!$A$4:$K$75,7,FALSE)*E71,\"\")","v":9363.1999999999989}]
[null,0,{"$f":"IF('April voer'!C15>0,VLOOKUP('April voer'!B15,Voedermiddelen!$A$4:$K$75,7,FALSE)*C72,\"\")","v":""},0,{"$f":"IF('April voer'!H15>0,VLOOKUP('April voer'!G15,Voedermiddelen!$A$4:$K$75,7,FALSE)*E72,\"\")","v":""}]
[null,0,{"$f":"IF('April voer'!C16>0,VLOOKUP('April voer'!B16,Voedermiddelen!$A$4:$K$75,7,FALSE)*C73,\"\")","v":""},0,{"$f":"IF('April voer'!H16>0,VLOOKUP('April voer'!G16,Voedermiddelen!$A$4:$K$75,7,FALSE)*E73,\"\")","v":""}]
[null,0,{"$f":"IF('April voer'!C17>0,VLOOKUP('April voer'!B17,Voedermiddelen!$A$4:$K$75,7,FALSE)*C74,\"\")","v":""},0,{"$f":"IF('April voer'!H17>0,VLOOKUP('April voer'!G17,Voedermiddelen!$A$4:$K$75,7,FALSE)*E74,\"\")","v":""}]
[null,0,{"$f":"IF('April voer'!C18>0,VLOOKUP('April voer'!B18,Voedermiddelen!$A$4:$K$75,7,FALSE)*C75,\"\")","v":""},0,{"$f":"IF('April voer'!H18>0,VLOOKUP('April voer'!G18,Voedermiddelen!$A$4:$K$75,7,FALSE)*E75,\"\")","v":""}]
[null,"KV 1",{"$f":"IF('April voer'!C20>0,VLOOKUP('April voer'!B20,Voedermiddelen!$A$4:$K$75,7,FALSE)*C76,\"\")","v":16065},0]
[null,"Melkbrok BM",{"$f":"IF('April voer'!C21>0,VLOOKUP('April voer'!B21,Voedermiddelen!$A$4:$K$75,7,FALSE)*C77,\"\")","v":35631},0]
[null,{"$f":"B126","v":0},{"$f":"IF('April voer'!C22>0,VLOOKUP('April voer'!B22,Voedermiddelen!$A$4:$K$75,7,FALSE)*C78,\"\")","v":""},0]
[]
["Totaal",null,{"$f":"SUM(C130:C142)","v":173549.88749999998},null,{"$f":"SUM(E130:E142)","v":90503.127499999988}]
[]
["N opname",null,{"$f":"C144/6.25","v":27767.981999999996},null,{"$f":"E144/6.25","v":14480.500399999997},null,{"$f":"(E76/0.9*'April voer'!M6/6.25)","v":10356.386632489921}]
[]
["P",{"$f":"B130","v":"Gkuil 2 2e snede 2015"},{"$f":"IF('April voer'!C9>0,VLOOKUP('April voer'!B9,Voedermiddelen!$A$4:$K$75,10,FALSE)*C66,\"\")","v":2077.46},{"$f":"D130","v":"Gkuil 2 2e snede 2015"},{"$f":"IF('April voer'!H9>0,VLOOKUP('April voer'!G9,Voedermiddelen!$A$4:$K$75,10,FALSE)*E66,\"\")","v":1246.4759999999999}]
[null,{"$f":"B131","v":"Mkuil 1"},{"$f":"IF('April voer'!C10>0,VLOOKUP('April voer'!B10,Voedermiddelen!$A$4:$K$75,10,FALSE)*C67,\"\")","v":935.73479999999972},"Mkuil 1",{"$f":"IF('April voer'!H10>0,VLOOKUP('April voer'!G10,Voedermiddelen!$A$4:$K$75,10,FALSE)*E67,\"\")","v":935.73479999999972}]
[null,"Overig 1",{"$f":"IF('April voer'!C11>0,VLOOKUP('April voer'!B11,Voedermiddelen!$A$4:$K$75,10,FALSE)*C68,\"\")","v":""},"Overig 1",{"$f":"IF('April voer'!H11>0,VLOOKUP('April voer'!G11,Voedermiddelen!$A$4:$K$75,10,FALSE)*E68,\"\")","v":""}]
[null,"Bierbostel",{"$f":"IF('April voer'!C12>0,VLOOKUP('April voer'!B12,Voedermiddelen!$A$4:$K$75,10,FALSE)*C69,\"\")","v":270.46499999999997},"Bierbostel",{"$f":"IF('April voer'!H12>0,VLOOKUP('April voer'!G12,Voedermiddelen!$A$4:$K$75,10,FALSE)*E69,\"\")","v":270.46499999999997}]
[null,"Overig 2",{"$f":"IF('April voer'!C13>0,VLOOKUP('April voer'!B13,Voedermiddelen!$A$4:$K$75,10,FALSE)*C70,\"\")","v":""},"Overig 2",{"$f":"IF('April voer'!H13>0,VLOOKUP('April voer'!G13,Voedermiddelen!$A$4:$K$75,10,FALSE)*E70,\"\")","v":""}]
[null,"sodagrain",{"$f":"IF('April voer'!C14>0,VLOOKUP('April voer'!B14,Voedermiddelen!$A$4:$K$75,10,FALSE)*C71,\"\")","v":244.71999999999997},"sodagrain",{"$f":"IF('April voer'!H14>0,VLOOKUP('April voer'!G14,Voedermiddelen!$A$4:$K$75,10,FALSE)*E71,\"\")","v":244.71999999999997}]
[null,0,{"$f":"IF('April voer'!C15>0,VLOOKUP('April voer'!B15,Voedermiddelen!$A$4:$K$75,10,FALSE)*C72,\"\")","v":""},0,{"$f":"IF('April voer'!H15>0,VLOOKUP('April voer'!G15,Voedermiddelen!$A$4:$K$75,10,FALSE)*E72,\"\")","v":""}]
[null,0,{"$f":"IF('April voer'!C16>0,VLOOKUP('April voer'!B16,Voedermiddelen!$A$4:$K$75,10,FALSE)*C73,\"\")","v":""},0,{"$f":"IF('April voer'!H16>0,VLOOKUP('April voer'!G16,Voedermiddelen!$A$4:$K$75,10,FALSE)*E73,\"\")","v":""}]
[null,0,{"$f":"IF('April voer'!C17>0,VLOOKUP('April voer'!B17,Voedermiddelen!$A$4:$K$75,10,FALSE)*C74,\"\")","v":""},0,{"$f":"IF('April voer'!H17>0,VLOOKUP('April voer'!G17,Voedermiddelen!$A$4:$K$75,10,FALSE)*E74,\"\")","v":""}]
[null,0,{"$f":"IF('April voer'!C18>0,VLOOKUP('April voer'!B18,Voedermiddelen!$A$4:$K$75,10,FALSE)*C75,\"\")","v":""},0,{"$f":"IF('April voer'!H18>0,VLOOKUP('April voer'!G18,Voedermiddelen!$A$4:$K$75,10,FALSE)*E75,\"\")","v":""}]
[null,{"$f":"B140","v":"KV 1"},{"$f":"IF('April voer'!C20>0,VLOOKUP('April voer'!B20,Voedermiddelen!$A$4:$K$75,10,FALSE)*C76,\"\")","v":378},0]
[null,{"$f":"B141","v":"Melkbrok BM"},{"$f":"IF('April voer'!C21>0,VLOOKUP('April voer'!B21,Voedermiddelen!$A$4:$K$75,10,FALSE)*C77,\"\")","v":666},0]
[null,{"$f":"B142","v":0},{"$f":"IF('April voer'!C22>0,VLOOKUP('April voer'!B22,Voedermiddelen!$A$4:$K$75,10,FALSE)*C78,\"\")","v":""},0]
[]
["Totaal",null,{"$f":"SUM(C148:C160)","v":4572.3797999999997},null,{"$f":"SUM(E148:E160)","v":2697.3957999999998},null,{"$f":"(E76/0.9*'April voer'!M7)","v":897.56615968708002}]

{"sheet":"April Excretie","index":54,"n_rows":25,"n_cols":5,"rows_kept":25,"cut":false,"hidden":true,"merged":[]}
["Veestapel"]
[null,null,{"$f":"'April vee+melk'!C6","v":"April gerealiseerd"},null,{"$f":"'April vee+melk'!E6","v":"April prognose"}]
[]
[]
["Excretie (kg/dier/dag)"]
[null,null,"N",null,"N"]
["Opname",null,{"$f":"'April Voeropname'!C2*'April Voeropname'!C7*0.001","v":0.49160263866784909},null,{"$f":"'April Voeropname'!E2*'April Voeropname'!E7*0.001+'April Voeropname'!G146*0.001/'April vee+melk'!E2","v":0.51148470495205411}]
["Gem opname 7 dgn",null,{"$f":"AVERAGE(C7:F7)","v":0.50154367180995163},null,{"$f":"AVERAGE(E7)","v":0.51148470495205411}]
["Productie",null,{"$f":"'April vee+melk'!C22*'April vee+melk'!C10/6.38","v":0.15258879098534273},null,{"$f":"'April vee+melk'!E22*'April vee+melk'!E10/6.38","v":0.14754297819956771}]
["Vastlegging",null,{"$f":"1.4/365","v":3.8356164383561643E-3},null,{"$f":"1.4/365","v":3.8356164383561643E-3}]
["Onder de staart",null,{"$f":"C7-C9-C10","v":0.33517823124415019},null,{"$f":"E7-E9-E10","v":0.3601061103141302}]
["Vervluchtiging",null,{"$f":"C11*0.1175","v":3.9383442171187645E-2},null,{"$f":"E11*0.1175","v":4.2312467961910294E-2}]
["Gemeten netto excretie",null,{"$f":"C11-C12","v":0.29579478907296253},null,{"$f":"E11-E12","v":0.31779364235221991}]
[]
[null,null,"P",null,"P"]
["Opname",null,{"$f":"'April Voeropname'!C2*'April Voeropname'!C8/1000","v":7.7165011325896274E-2},null,{"$f":"'April Voeropname'!E2*'April Voeropname'!E8/1000+'April Voeropname'!G162*0.001/'April vee+melk'!E2","v":7.1599473594446142E-2}]
["Gem opname 7 dgn",null,{"$f":"AVERAGE(C16:F16)","v":7.4382242460171208E-2},null,{"$f":"AVERAGE(E16)","v":7.1599473594446142E-2}]
["Productie",null,{"$f":"'April vee+melk'!C22*0.9/1000","v":2.4542432432432433E-2},null,{"$f":"'April vee+melk'!E22*0.9/1000","v":2.4205479452054795E-2}]
["Vastlegging",null,{"$f":"0.5/365","v":1.3698630136986301E-3},null,{"$f":"0.5/365","v":1.3698630136986301E-3}]
["Onder de staart",null,{"$f":"C16-C18-C19","v":5.1252715879765209E-2},null,{"$f":"E16-E18-E19","v":4.6024131128692712E-2}]
["Vervluchtiging"]
["Gemeten netto excretie",null,{"$f":"C20","v":5.1252715879765209E-2},null,{"$f":"E20","v":4.6024131128692712E-2}]
[]
["N excretie per ton meetmelk (kg)",null,{"$f":"C13/'April vee+melk'!C21*1000","v":10.078825650751861},null,{"$f":"E13/'April vee+melk'!E21*1000","v":10.955814520966344}]
["P excretie per ton meetmelk (kg)",null,{"$f":"C22/'April vee+melk'!C21*1000","v":1.7463701409298837},null,{"$f":"E22/'April vee+melk'!E21*1000","v":1.586664353642846}]

{"sheet":"April kengetallen","index":55,"n_rows":106,"n_cols":6,"rows_kept":106,"cut":false,"hidden":true,"merged":[]}
["Rantsoen"]
["Datum",null,{"$f":"'April voer'!B3","v":"April gerealiseerd"},null,{"$f":"'April voer'!G3","v":"April prognose"}]
[]
[{"$f":"'April Voeropname'!A2","v":"DS opname/koe"},null,{"$f":"'April Voeropname'!C2","v":20.309383813427043},null,{"$f":"'April Voeropname'!E2","v":19.742368536016446}]
[{"$f":"'April Voeropname'!A3","v":"VEM"},null,{"$f":"'April Voeropname'!C3","v":991.73804875278256},null,{"$f":"'April Voeropname'!E3","v":977.26620318901826}]
[{"$f":"'April Voeropname'!A4","v":"DVE"},null,{"$f":"'April Voeropname'!C4","v":{"$error":"#N/A"}},null,{"$f":"'April Voeropname'!E4","v":{"$error":"#N/A"}}]
[{"$f":"'April Voeropname'!A5","v":"OEB"},null,{"$f":"'April Voeropname'!C5","v":{"$error":"#N/A"}},null,{"$f":"'April Voeropname'!E5","v":{"$error":"#N/A"}}]
[{"$f":"'April Voeropname'!A6","v":"RE"},null,{"$f":"'April Voeropname'!C6","v":151.28555941922468},null,{"$f":"'April Voeropname'!E6","v":115.08761088642461}]
[{"$f":"'April Voeropname'!A7","v":"N"},null,{"$f":"'April Voeropname'!C7","v":24.205689507075949},null,{"$f":"'April Voeropname'!E7","v":18.414017741827937}]
[{"$f":"'April Voeropname'!A8","v":"P"},null,{"$f":"'April Voeropname'!C8","v":3.7994757514445392},null,{"$f":"'April Voeropname'!E8","v":2.9772060924403436}]
[]
["Streefwaarde RE",null,{"$f":"'April voer'!H20","v":160}]
["Streefwaarde P",null,{"$f":"'April voer'!H21","v":3.6}]
[]
[]
[{"$f":"'April Excretie'!A24","v":"N excretie per ton meetmelk (kg)"},null,{"$f":"'April Excretie'!C24","v":10.078825650751861},null,{"$f":"'April Excretie'!E24","v":10.955814520966344}]
[{"$f":"'April Excretie'!A25","v":"P excretie per ton meetmelk (kg)"},null,{"$f":"'April Excretie'!C25","v":1.7463701409298837},null,{"$f":"'April Excretie'!E25","v":1.586664353642846}]
[]
[]
["VEM dekking",null,{"$f":"'April Voeropname'!C35/'April vee+melk'!C27","v":1.03},null,{"$f":"'April Voeropname'!E35/'April vee+melk'!E27","v":0.99501381060894234}]
["DVE dekking",null,{"$f":"'April Voeropname'!C36/'April vee+melk'!C28","v":{"$error":"#N/A"}},null,{"$f":"'April Voeropname'!E36/'April vee+melk'!E28","v":{"$error":"#N/A"}}]
[]
[]
["Voerefficientie kg meetmelk/kg voer (ds)",null,{"$f":"'April vee+melk'!C21/'April Voeropname'!C2","v":1.4450532104419311},null,{"$f":"'April vee+melk'!E21/'April Voeropname'!E2","v":1.4692688755216869}]
["kg krachtvoer per 100 kg (excl bijprod)",null,{"$f":"SUM('April Voeropname'!C76:C78)/('April vee+melk'!C21*'April vee+melk'!C2)*100/0.9","v":13.917430552837391},null,{"$f":"SUM('April Voeropname'!E76:E78)/('April vee+melk'!E21*'April vee+melk'!E2)*100","v":13.053567975246569}]
[]
[]
[{"$f":"A12","v":"Streefwaarde RE"},null,{"$f":"$C$12","v":160},null,{"$f":"$C$12","v":160}]
[{"$f":"A13","v":"Streefwaarde P"},null,{"$f":"$C$13","v":3.6},null,{"$f":"$C$13","v":3.6}]
[]
[]
[]
[]
[{"$f":"A2","v":"Datum"},null,{"$f":"C2","v":"April gerealiseerd"},{"$f":"E2","v":"April prognose"},{"$f":"#REF!","v":{"$error":"#REF!"}},{"$f":"#REF!","v":{"$error":"#REF!"}}]
["00:00:00"]
["DS opname/koe",null,{"$f":"C4","v":20.309383813427043},{"$f":"E4","v":19.742368536016446},{"$f":"#REF!","v":{"$error":"#REF!"}},{"$f":"#REF!","v":{"$error":"#REF!"}}]
["VEM",null,991.73804875278256,977.26620318901826,{"$f":"#REF!","v":{"$error":"#REF!"}},{"$f":"#REF!","v":{"$error":"#REF!"}}]
["DVE",null,{"$error":"#N/A"},{"$error":"#N/A"},{"$f":"#REF!","v":{"$error":"#REF!"}},{"$f":"#REF!","v":{"$error":"#REF!"}}]
["OEB",null,{"$error":"#N/A"},{"$error":"#N/A"},{"$f":"#REF!","v":{"$error":"#REF!"}},{"$f":"#REF!","v":{"$error":"#REF!"}}]
["RE",null,151.28555941922468,115.08761088642461,{"$f":"#REF!","v":{"$error":"#REF!"}},{"$f":"#REF!","v":{"$error":"#REF!"}}]
["N",null,24.205689507075949,18.414017741827937,{"$f":"#REF!","v":{"$error":"#REF!"}},{"$f":"#REF!","v":{"$error":"#REF!"}}]
["P",null,3.7994757514445392,2.9772060924403436,{"$f":"#REF!","v":{"$error":"#REF!"}},{"$f":"#REF!","v":{"$error":"#REF!"}}]
[{"$f":"A15","v":"00:00:00"}]
["N excretie per ton meetmelk (kg)",null,{"$f":"C16","v":10.078825650751861},{"$f":"E16","v":10.955814520966344},{"$f":"#REF!","v":{"$error":"#REF!"}},{"$f":"#REF!","v":{"$error":"#REF!"}}]
["P excretie per ton meetmelk (kg)",null,1.7463701409298837,{"$f":"E17","v":1.586664353642846},{"$f":"#REF!","v":{"$error":"#REF!"}},{"$f":"#REF!","v":{"$error":"#REF!"}}]
["00:00:00",null,{"$f":"1000/C45/2.29","v":250.05078389333056},{"$f":"1000/D45/2.29","v":275.21965922083064},{"$f":"1000/E45/2.29","v":{"$error":"#REF!"}},{"$f":"1000/F45/2.29","v":{"$error":"#REF!"}}]
[]
[]
["Rantsoen"]
[]
["Kuilgras",null,{"$f":"IF('April Voeropname'!$A66='April kengetallen'!$A51,'April Voeropname'!C66,\"\")","v":472.15},null,{"$f":"IF('April Voeropname'!$A66='April kengetallen'!$A51,'April Voeropname'!E66,\"\")","v":283.28999999999996}]
["Kuilgras",null,{"$f":"IF('April Voeropname'!$A67='April kengetallen'!$A52,'April Voeropname'!C67,\"\")","v":""},null,{"$f":"IF('April Voeropname'!$A67='April kengetallen'!$A52,'April Voeropname'!E67,\"\")","v":""}]
["Kuilgras",null,{"$f":"IF('April Voeropname'!$A68='April kengetallen'!$A53,'April Voeropname'!C68,\"\")","v":""},null,{"$f":"IF('April Voeropname'!$A68='April kengetallen'!$A53,'April Voeropname'!E68,\"\")","v":""}]
["Kuilgras",null,{"$f":"IF('April Voeropname'!$A69='April kengetallen'!$A54,'April Voeropname'!C69,\"\")","v":""},null,{"$f":"IF('April Voeropname'!$A69='April kengetallen'!$A54,'April Voeropname'!E69,\"\")","v":""}]
["Kuilgras",null,{"$f":"IF('April Voeropname'!$A70='April kengetallen'!$A55,'April Voeropname'!C70,\"\")","v":""},null,{"$f":"IF('April Voeropname'!$A70='April kengetallen'!$A55,'April Voeropname'!E70,\"\")","v":""}]
["Kuilgras",null,{"$f":"IF('April Voeropname'!$A71='April kengetallen'!$A56,'April Voeropname'!C71,\"\")","v":""},null,{"$f":"IF('April Voeropname'!$A71='April kengetallen'!$A56,'April Voeropname'!E71,\"\")","v":""}]
["Kuilgras",null,{"$f":"IF('April Voeropname'!$A72='April kengetallen'!$A57,'April Voeropname'!C72,\"\")","v":""},null,{"$f":"IF('April Voeropname'!$A72='April kengetallen'!$A57,'April Voeropname'!E72,\"\")","v":""}]
["Kuilgras",null,{"$f":"IF('April Voeropname'!$A73='April kengetallen'!$A58,'April Voeropname'!C73,\"\")","v":""},null,{"$f":"IF('April Voeropname'!$A73='April kengetallen'!$A58,'April Voeropname'!E73,\"\")","v":""}]
["Kuilgras",null,{"$f":"IF('April Voeropname'!$A74='April kengetallen'!$A59,'April Voeropname'!C74,\"\")","v":""},null,{"$f":"IF('April Voeropname'!$A74='April kengetallen'!$A59,'April Voeropname'!E74,\"\")","v":""}]
["Totaal kuilgras",null,{"$f":"SUM(C51:C59)","v":472.15},null,{"$f":"SUM(E51:E59)","v":283.28999999999996}]
[]
["Snijmais",null,{"$f":"IF('April Voeropname'!$A66='April kengetallen'!$A62,'April Voeropname'!C66,\"\")","v":""},null,{"$f":"IF('April Voeropname'!$A66='April kengetallen'!$A62,'April Voeropname'!E66,\"\")","v":""}]
["Snijmais",null,{"$f":"IF('April Voeropname'!$A67='April kengetallen'!$A63,'April Voeropname'!C67,\"\")","v":303.80999999999995},null,{"$f":"IF('April Voeropname'!$A67='April kengetallen'!$A63,'April Voeropname'!E67,\"\")","v":303.80999999999995}]
["Snijmais",null,{"$f":"IF('April Voeropname'!$A68='April kengetallen'!$A64,'April Voeropname'!C68,\"\")","v":""},null,{"$f":"IF('April Voeropname'!$A68='April kengetallen'!$A64,'April Voeropname'!E68,\"\")","v":""}]
["Snijmais",null,{"$f":"IF('April Voeropname'!$A69='April kengetallen'!$A65,'April Voeropname'!C69,\"\")","v":""},null,{"$f":"IF('April Voeropname'!$A69='April kengetallen'!$A65,'April Voeropname'!E69,\"\")","v":""}]
["Snijmais",null,{"$f":"IF('April Voeropname'!$A70='April kengetallen'!$A66,'April Voeropname'!C70,\"\")","v":""},null,{"$f":"IF('April Voeropname'!$A70='April kengetallen'!$A66,'April Voeropname'!E70,\"\")","v":""}]
["Snijmais",null,{"$f":"IF('April Voeropname'!$A71='April kengetallen'!$A67,'April Voeropname'!C71,\"\")","v":""},null,{"$f":"IF('April Voeropname'!$A71='April kengetallen'!$A67,'April Voeropname'!E71,\"\")","v":""}]
["Snijmais",null,{"$f":"IF('April Voeropname'!$A72='April kengetallen'!$A68,'April Voeropname'!C72,\"\")","v":""},null,{"$f":"IF('April Voeropname'!$A72='April kengetallen'!$A68,'April Voeropname'!E72,\"\")","v":""}]
["Snijmais",null,{"$f":"IF('April Voeropname'!$A73='April kengetallen'!$A69,'April Voeropname'!C73,\"\")","v":""},null,{"$f":"IF('April Voeropname'!$A73='April kengetallen'!$A69,'April Voeropname'!E73,\"\")","v":""}]
["Snijmais",null,{"$f":"IF('April Voeropname'!$A74='April kengetallen'!$A70,'April Voeropname'!C74,\"\")","v":""},null,{"$f":"IF('April Voeropname'!$A74='April kengetallen'!$A70,'April Voeropname'!E74,\"\")","v":""}]
["Totaal snijmais",null,{"$f":"SUM(C62:C70)","v":303.80999999999995},null,{"$f":"SUM(E62:E70)","v":303.80999999999995}]
[]
["OverigRuwvoer",null,{"$f":"IF('April Voeropname'!$A66='April kengetallen'!$A73,'April Voeropname'!C66,\"\")","v":""},null,{"$f":"IF('April Voeropname'!$A66='April kengetallen'!$A73,'April Voeropname'!E66,\"\")","v":""}]
["OverigRuwvoer",null,{"$f":"IF('April Voeropname'!$A67='April kengetallen'!$A74,'April Voeropname'!C67,\"\")","v":""},null,{"$f":"IF('April Voeropname'!$A67='April kengetallen'!$A74,'April Voeropname'!E67,\"\")","v":""}]
["OverigRuwvoer",null,{"$f":"IF('April Voeropname'!$A68='April kengetallen'!$A75,'April Voeropname'!C68,\"\")","v":""},null,{"$f":"IF('April Voeropname'!$A68='April kengetallen'!$A75,'April Voeropname'!E68,\"\")","v":""}]
["OverigRuwvoer",null,{"$f":"IF('April Voeropname'!$A69='April kengetallen'!$A76,'April Voeropname'!C69,\"\")","v":""},null,{"$f":"IF('April Voeropname'!$A69='April kengetallen'!$A76,'April Voeropname'!E69,\"\")","v":""}]
["OverigRuwvoer",null,{"$f":"IF('April Voeropname'!$A70='April kengetallen'!$A77,'April Voeropname'!C70,\"\")","v":""},null,{"$f":"IF('April Voeropname'!$A70='April kengetallen'!$A77,'April Voeropname'!E70,\"\")","v":""}]
["OverigRuwvoer",null,{"$f":"IF('April Voeropname'!$A71='April kengetallen'!$A78,'April Voeropname'!C71,\"\")","v":""},null,{"$f":"IF('April Voeropname'!$A71='April kengetallen'!$A78,'April Voeropname'!E71,\"\")","v":""}]
["OverigRuwvoer",null,{"$f":"IF('April Voeropname'!$A72='April kengetallen'!$A79,'April Voeropname'!C72,\"\")","v":""},null,{"$f":"IF('April Voeropname'!$A72='April kengetallen'!$A79,'April Voeropname'!E72,\"\")","v":""}]
["OverigRuwvoer",null,{"$f":"IF('April Voeropname'!$A73='April kengetallen'!$A80,'April Voeropname'!C73,\"\")","v":""},null,{"$f":"IF('April Voeropname'!$A73='April kengetallen'!$A80,'April Voeropname'!E73,\"\")","v":""}]
["OverigRuwvoer",null,{"$f":"IF('April Voeropname'!$A74='April kengetallen'!$A81,'April Voeropname'!C74,\"\")","v":""},null,{"$f":"IF('April Voeropname'!$A74='April kengetallen'!$A81,'April Voeropname'!E74,\"\")","v":""}]
["Totaal overig Ruwvoer",null,{"$f":"SUM(C73:C81)","v":0},null,{"$f":"SUM(E73:E81)","v":0}]
[]
["Bijproducten",null,{"$f":"IF('April Voeropname'!$A66='April kengetallen'!$A84,'April Voeropname'!C66,\"\")","v":""},null,{"$f":"IF('April Voeropname'!$A66='April kengetallen'!$A84,'April Voeropname'!E66,\"\")","v":""}]
["Bijproducten",null,{"$f":"IF('April Voeropname'!$A67='April kengetallen'!$A85,'April Voeropname'!C67,\"\")","v":""},null,{"$f":"IF('April Voeropname'!$A67='April kengetallen'!$A85,'April Voeropname'!E67,\"\")","v":""}]
["Bijproducten",null,{"$f":"IF('April Voeropname'!$A68='April kengetallen'!$A86,'April Voeropname'!C68,\"\")","v":""},null,{"$f":"IF('April Voeropname'!$A68='April kengetallen'!$A86,'April Voeropname'!E68,\"\")","v":""}]
["Bijproducten",null,{"$f":"IF('April Voeropname'!$A69='April kengetallen'!$A87,'April Voeropname'!C69,\"\")","v":52.012499999999996},null,{"$f":"IF('April Voeropname'!$A69='April kengetallen'!$A87,'April Voeropname'!E69,\"\")","v":52.012499999999996}]
["Bijproducten",null,{"$f":"IF('April Voeropname'!$A70='April kengetallen'!$A88,'April Voeropname'!C70,\"\")","v":""},null,{"$f":"IF('April Voeropname'!$A70='April kengetallen'!$A88,'April Voeropname'!E70,\"\")","v":""}]
["Bijproducten",null,{"$f":"IF('April Voeropname'!$A71='April kengetallen'!$A89,'April Voeropname'!C71,\"\")","v":106.39999999999999},null,{"$f":"IF('April Voeropname'!$A71='April kengetallen'!$A89,'April Voeropname'!E71,\"\")","v":106.39999999999999}]
["Bijproducten",null,{"$f":"IF('April Voeropname'!$A72='April kengetallen'!$A90,'April Voeropname'!C72,\"\")","v":""},null,{"$f":"IF('April Voeropname'!$A72='April kengetallen'!$A90,'April Voeropname'!E72,\"\")","v":""}]
["Bijproducten",null,{"$f":"IF('April Voeropname'!$A73='April kengetallen'!$A91,'April Voeropname'!C73,\"\")","v":""},null,{"$f":"IF('April Voeropname'!$A73='April kengetallen'!$A91,'April Voeropname'!E73,\"\")","v":""}]
["Bijproducten",null,{"$f":"IF('April Voeropname'!$A74='April kengetallen'!$A92,'April Voeropname'!C74,\"\")","v":""},null,{"$f":"IF('April Voeropname'!$A74='April kengetallen'!$A92,'April Voeropname'!E74,\"\")","v":""}]
["Totaal Bijproducten",null,{"$f":"SUM(C84:C92)","v":158.41249999999999},null,{"$f":"SUM(E84:E92)","v":158.41249999999999}]
[]
["Krachtvoer",null,{"$f":"SUM('April Voeropname'!C76:C78)","v":261},null,{"$f":"SUM('April Voeropname'!E76:E78)","v":265.05}]
[]
["Vers gras",null,{"$f":"'April Voeropname'!C31*('April vee+melk'!C2+'April vee+melk'!C3)","v":307.52190219360125},null,{"$f":"'April Voeropname'!E31*('April vee+melk'!E2+'April vee+melk'!E3)","v":430.63040312920072}]
[]
["Totaal",null,{"$f":"C95+C93+C82+C71+C60+C97","v":1502.8944021936013},null,{"$f":"E95+E93+E82+E71+E60+E97","v":1441.1929031292007}]
[]
["Vers gras",null,{"$f":"C97/C99","v":0.20461976686102967},null,{"$f":"E97/E99","v":0.29880136253390599}]
["Aandeel kuilgras",null,{"$f":"C60/C$99","v":0.31416046217941673},null,{"$f":"E60/E$99","v":0.19656633014560679}]
["Aandeel snijmais",null,{"$f":"C71/C$99","v":0.20214993119713773},null,{"$f":"E71/E$99","v":0.2108045351460934}]
["Aandeel overig ruwvoer",null,{"$f":"C82/C$99","v":0},null,{"$f":"E82/E$99","v":0}]
["Aandeel bijproducten",null,{"$f":"C93/C$99","v":0.10540494379963328},null,{"$f":"E93/E$99","v":0.10991762425144178}]
["Aandeel krachtvoer",null,{"$f":"C95/C$99","v":0.17366489596278251},null,{"$f":"E95/E$99","v":0.18391014792295207}]

{"sheet":"Maart Voeropname","index":56,"n_rows":162,"n_cols":18,"rows_kept":162,"cut":false,"hidden":true,"merged":[]}
["Gem rantsoen gehaltes (d dgn)",null,{"$f":"'Maart voer'!B3","v":"Maart gerealiseerd"},null,{"$f":"'Maart voer'!G3","v":"Maart prognose"}]
["DS opname/koe",null,{"$f":"C34","v":21.651831081081077},null,{"$f":"E34","v":21.613089041095886}]
["VEM",null,{"$f":"C12","v":954.89712498568417},null,{"$f":"AVERAGE(E12:E12)","v":966.24481581588532}]
["DVE",null,{"$f":"AVERAGE(C13)","v":{"$error":"#N/A"}},null,{"$error":"#N/A"},null,null,null,null,null,null,null,1,null,null,null,null,"Voedermiddelen"]
["OEB",null,{"$f":"AVERAGE(C14)","v":{"$error":"#N/A"}},null,{"$error":"#N/A"},null,null,null,null,null,null,null,2,null,null,null,null,"Kuilgras"]
["RE",null,{"$f":"AVERAGE(C15)","v":156.30717581778711},null,118.89694315754248,null,null,null,null,null,null,null,null,null,null,null,null,"Snijmais"]
["N",null,{"$f":"AVERAGE(C16)","v":25.00914813084594},null,19.023510905206795,null,null,null,null,null,null,null,"Vem toeslag weidegang",null,1.03,null,null,"OverigRuwvoer"]
["P",null,4.1416250607354543,null,3.2799623896097976,null,null,null,null,null,null,null,null,null,null,null,null,"Bijproducten"]
[null,null,null,null,null,null,null,null,null,null,null,null,null,null,null,null,null,"Krachtvoer"]
[]
["Rantsoen gehaltes (incl. weidegras)"]
["VEM",null,{"$f":"C35/C34","v":954.89712498568417},null,{"$f":"E35/E34","v":966.24481581588532},null,null,null,null,null,null,null,null,null,null,null,null,"Let op bij beperkt weiden is deze opname niet realistisch!"]
["DVE",null,{"$f":"C36/C34","v":{"$error":"#N/A"}},null,{"$f":"E36/E34","v":{"$error":"#N/A"}},null,null,null,null,null,null,null,null,null,null,null,null,"Let op VEM dekking te laag!"]
["OEB",null,{"$f":"C37","v":{"$error":"#N/A"}},null,{"$f":"E37","v":{"$error":"#N/A"}}]
["RE",null,{"$f":"C38/C34","v":156.30717581778711},null,{"$f":"E38/E34","v":118.89694315754248}]
["N",null,{"$f":"C39/C34","v":25.00914813084594},null,{"$f":"E39/E34","v":19.023510905206795}]
["P",null,{"$f":"C40/C34","v":4.1416250607354543},null,{"$f":"E40/E34","v":3.2799623896097976}]
[]
[]
[]
[]
["kg ds",null,{"$f":"C55/SUM('Maart vee+melk'!C2:C3)","v":21.651831081081077},null,{"$f":"E55/SUM('Maart vee+melk'!E2:E3)","v":21.613089041095886}]
["Vemopname ex weidegras",null,{"$f":"C22*C45","v":20675.271249999998},null,{"$f":"E22*E45","v":20883.535239726025}]
[]
[]
[]
["VEM behoefte",null,{"$f":"IF('Maart voer'!B4=1,'Maart vee+melk'!C27*'Maart Voeropname'!O7,'Maart vee+melk'!C27)","v":19833.654148468569},null,{"$f":"IF('Maart voer'!G4=1,'Maart vee+melk'!E27*'Maart Voeropname'!O7,'Maart vee+melk'!E27)","v":19387.666956175632}]
["Behoefte-opname",null,{"$f":"C27-'Maart Voeropname'!C23","v":-841.61710153142849},null,{"$f":"E27-'Maart Voeropname'!E23","v":-1495.8682835503932}]
[null,null,{"$f":"C28/VLOOKUP('Maart voer'!B5,Weidegras!$A$5:$J$119,4,FALSE)","v":{"$error":"#DIV/0!"}},null,{"$f":"E28/VLOOKUP('Maart voer'!G5,Weidegras!$A$5:$J$119,4,FALSE)","v":{"$error":"#DIV/0!"}}]
[null,null,{"$f":"IF(C29>0,C29,0)","v":{"$error":"#DIV/0!"}},null,{"$f":"IF(E29>0,E29,0)","v":{"$error":"#DIV/0!"}}]
["Weidegrasopname/koe",null,{"$f":"IF('Maart voer'!B4=1,C30,0)","v":0},null,{"$f":"IF('Maart voer'!G4=1,E30,0)","v":0}]
[]
["Rantsoenopname incl weidegras"]
["droge stof",null,{"$f":"C22+C31","v":21.651831081081077},null,{"$f":"E22+E31","v":21.613089041095886}]
["VEM",null,{"$f":"C45*C22+C31*VLOOKUP('Maart voer'!B5,Weidegras!$A$6:$J$180,4,FALSE)","v":20675.271249999998},null,{"$f":"E45*E22+E31*VLOOKUP('Maart voer'!G5,Weidegras!$A$6:$J$180,4,FALSE)","v":20883.535239726025}]
["DVE",null,{"$f":"C46*C22+$C$31*VLOOKUP('Maart voer'!B5,Weidegras!$A$5:$J$150,5,FALSE)","v":{"$error":"#N/A"}},null,{"$f":"E46*E22+$C$31*VLOOKUP('Maart voer'!G5,Weidegras!$A$5:$J$150,5,FALSE)","v":{"$error":"#N/A"}}]
["OEB",null,{"$f":"C22*C47+$C$31*VLOOKUP('Maart voer'!B5,Weidegras!$A$6:$J$151,6,FALSE)","v":{"$error":"#N/A"}},null,{"$f":"E22*E47+$C$31*VLOOKUP('Maart voer'!G5,Weidegras!$A$6:$J$151,6,FALSE)","v":{"$error":"#N/A"}}]
["RE",null,{"$f":"C48*C22+C31*VLOOKUP('Maart voer'!$B$5,Weidegras!$A$6:$J$181,7,FALSE)","v":3384.3365675675677},null,{"$f":"E48*E22+E31*VLOOKUP('Maart voer'!$B$5,Weidegras!$A$6:$J$181,7,FALSE)","v":2569.7302191780818}]
["N",null,{"$f":"C38/6.25","v":541.49385081081084},null,{"$f":"E38/6.25","v":411.15683506849308}]
["P",null,{"$f":"C50*C22+C31*VLOOKUP('Maart voer'!$B$5,Weidegras!$A$6:$J$183,10,FALSE)","v":89.673766216216222},null,{"$f":"E50*E22+E31*VLOOKUP('Maart voer'!$B$5,Weidegras!$A$6:$J$183,10,FALSE)","v":70.890119178082188}]
[]
[]
["Stalrantsoen gehaltes"]
["droge stof"]
["VEM",null,{"$f":"C56/C$55","v":954.89712498568406},null,{"$f":"E56/E$55","v":966.24481581588532}]
["DVE",null,{"$f":"C57/C$55*1000","v":{"$error":"#N/A"}},null,{"$f":"E57/E$55*1000","v":{"$error":"#N/A"}}]
["OEB",null,{"$f":"C58/C$55","v":{"$error":"#N/A"}},null,{"$f":"E58/E$55","v":{"$error":"#N/A"}}]
["RE",null,{"$f":"C59/C$55","v":156.30717581778711},null,118.89694315754248]
["N",null,{"$f":"C60/C$55","v":25.009148130845936},null,19.023510905206798]
["P",null,{"$f":"C61/C$55","v":4.1416250607354543},null,3.2799623896097971]
[]
[]
[]
["Stalrantsoen opname"]
["droge stof (kg)",null,{"$f":"C80","v":1602.2354999999998},null,1577.7554999999998]
["VEM",null,{"$f":"C96","v":1529970.0724999998},null,1524498.0724999998]
["DVE",null,{"$f":"C112","v":{"$error":"#N/A"}},null,{"$f":"E112","v":{"$error":"#N/A"}}]
["OEB",null,{"$f":"C128","v":{"$error":"#N/A"}},null,{"$f":"E128","v":{"$error":"#N/A"}}]
["RE",null,{"$f":"C144","v":250440.90599999999},null,{"$f":"E144","v":187590.30599999998}]
["N",null,{"$f":"C146","v":40070.544959999999},null,{"$f":"E146","v":30014.448959999998}]
["P",null,{"$f":"C162","v":6635.8586999999998},null,{"$f":"E162","v":5174.9786999999997}]
[]
[]
[]
["Drogestof opname"]
[{"$f":"'Maart voer'!A9","v":"Kuilgras"},{"$f":"'Maart voer'!B9","v":"Gkuil 1e snede 2016"},{"$f":"IF('Maart voer'!C9>0,VLOOKUP('Maart voer'!B9,Voedermiddelen!$A$4:$K$75,3,FALSE)*'Maart voer'!C9*(1-'Maart voer'!$B$6),\"\")","v":""},{"$f":"'Maart voer'!G9","v":"Gkuil 1e snede 2016"},{"$f":"IF('Maart voer'!H9>0,VLOOKUP('Maart voer'!G9,Voedermiddelen!$A$4:$K$75,3,FALSE)*'Maart voer'!H9*(1-'Maart voer'!$G$6),\"\")","v":""}]
[{"$f":"'Maart voer'!A10","v":"Snijmais"},{"$f":"'Maart voer'!B10","v":"Mkuil 1"},{"$f":"IF('Maart voer'!C10>0,VLOOKUP('Maart voer'!B10,Voedermiddelen!$A$4:$K$75,3,FALSE)*'Maart voer'!C10*(1-'Maart voer'!$B$6),\"\")","v":227.85749999999996},{"$f":"'Maart voer'!G10","v":"Mkuil 1"},{"$f":"IF('Maart voer'!H10>0,VLOOKUP('Maart voer'!G10,Voedermiddelen!$A$4:$K$75,3,FALSE)*'Maart voer'!H10*(1-'Maart voer'!$G$6),\"\")","v":227.85749999999996}]
[{"$f":"'Maart voer'!A11","v":"OverigRuwvoer"},{"$f":"'Maart voer'!B11","v":"Overig 1"},{"$f":"IF('Maart voer'!C11>0,VLOOKUP('Maart voer'!B11,Voedermiddelen!$A$4:$K$75,3,FALSE)*'Maart voer'!C11*(1-'Maart voer'!$B$6),\"\")","v":""},{"$f":"'Maart voer'!G11","v":"Overig 1"},{"$f":"IF('Maart voer'!H11>0,VLOOKUP('Maart voer'!G11,Voedermiddelen!$A$4:$K$75,3,FALSE)*'Maart voer'!H11*(1-'Maart voer'!$G$6),\"\")","v":""}]
[{"$f":"'Maart voer'!A12","v":"Bijproducten"},{"$f":"'Maart voer'!B12","v":"Bierbostel"},{"$f":"IF('Maart voer'!C12>0,VLOOKUP('Maart voer'!B12,Voedermiddelen!$A$4:$K$75,3,FALSE)*'Maart voer'!C12*(1-'Maart voer'!$B$6),\"\")","v":54.092999999999996},{"$f":"'Maart voer'!G12","v":"Bierbostel"},{"$f":"IF('Maart voer'!H12>0,VLOOKUP('Maart voer'!G12,Voedermiddelen!$A$4:$K$75,3,FALSE)*'Maart voer'!H12*(1-'Maart voer'!$G$6),\"\")","v":54.092999999999996}]
[{"$f":"'Maart voer'!A13","v":"Bijproducten"},{"$f":"'Maart voer'!B13","v":"sodagrain"},{"$f":"IF('Maart voer'!C13>0,VLOOKUP('Maart voer'!B13,Voedermiddelen!$A$4:$K$75,3,FALSE)*'Maart voer'!C13*(1-'Maart voer'!$B$6),\"\")","v":106.39999999999999},{"$f":"'Maart voer'!G13","v":"sodagrain"},{"$f":"IF('Maart voer'!H13>0,VLOOKUP('Maart voer'!G13,Voedermiddelen!$A$4:$K$75,3,FALSE)*'Maart voer'!H13*(1-'Maart voer'!$G$6),\"\")","v":106.39999999999999}]
[{"$f":"'Maart voer'!A14","v":"Bijproducten"},{"$f":"'Maart voer'!B14","v":"BP 6"},{"$f":"IF('Maart voer'!C14>0,VLOOKUP('Maart voer'!B14,Voedermiddelen!$A$4:$K$75,3,FALSE)*'Maart voer'!C14*(1-'Maart voer'!$B$6),\"\")","v":""},{"$f":"'Maart voer'!G14","v":"BP 6"},{"$f":"IF('Maart voer'!H14>0,VLOOKUP('Maart voer'!G14,Voedermiddelen!$A$4:$K$75,3,FALSE)*'Maart voer'!H14*(1-'Maart voer'!$G$6),\"\")","v":""}]
[{"$f":"'Maart voer'!A15","v":"Kuilgras"},{"$f":"'Maart voer'!B15","v":"Gkuil 2 2e snede 2015"},{"$f":"IF('Maart voer'!C15>0,VLOOKUP('Maart voer'!B15,Voedermiddelen!$A$4:$K$75,3,FALSE)*'Maart voer'!C15*(1-'Maart voer'!$B$6),\"\")","v":897.08499999999992},{"$f":"'Maart voer'!G15","v":"Gkuil 2 2e snede 2015"},{"$f":"IF('Maart voer'!H15>0,VLOOKUP('Maart voer'!G15,Voedermiddelen!$A$4:$K$75,3,FALSE)*'Maart voer'!H15*(1-'Maart voer'!$G$6),\"\")","v":897.08499999999992}]
[{"$f":"'Maart voer'!A16","v":0},{"$f":"'Maart voer'!B16","v":0},{"$f":"IF('Maart voer'!C16>0,VLOOKUP('Maart voer'!B16,Voedermiddelen!$A$4:$K$75,3,FALSE)*'Maart voer'!C16*(1-'Maart voer'!$B$6),\"\")","v":""},{"$f":"'Maart voer'!G16","v":0},{"$f":"IF('Maart voer'!H16>0,VLOOKUP('Maart voer'!G16,Voedermiddelen!$A$4:$K$75,3,FALSE)*'Maart voer'!H16*(1-'Maart voer'!$G$6),\"\")","v":""}]
[{"$f":"'Maart voer'!A17","v":0},{"$f":"'Maart voer'!B17","v":0},{"$f":"IF('Maart voer'!C17>0,VLOOKUP('Maart voer'!B17,Voedermiddelen!$A$4:$K$75,3,FALSE)*'Maart voer'!C17*(1-'Maart voer'!$B$6),\"\")","v":""},{"$f":"'Maart voer'!G17","v":0},{"$f":"IF('Maart voer'!H17>0,VLOOKUP('Maart voer'!G17,Voedermiddelen!$A$4:$K$75,3,FALSE)*'Maart voer'!H17*(1-'Maart voer'!$G$6),\"\")","v":""}]
[null,{"$f":"'Maart voer'!B18","v":0},{"$f":"IF('Maart voer'!C18>0,VLOOKUP('Maart voer'!B18,Voedermiddelen!$A$4:$K$75,3,FALSE)*'Maart voer'!C18*(1-'Maart voer'!$B$6),\"\")","v":""},{"$f":"'Maart voer'!G18","v":0},{"$f":"IF('Maart voer'!H18>0,VLOOKUP('Maart voer'!G18,Voedermiddelen!$A$4:$K$75,3,FALSE)*'Maart voer'!H18*(1-'Maart voer'!$G$6),\"\")","v":""}]
[null,{"$f":"'Maart voer'!B20","v":"snijmaiskernbrok"},{"$f":"IF('Maart voer'!C20>0,VLOOKUP('Maart voer'!B20,Voedermiddelen!$A$4:$K$75,3,FALSE)*'Maart voer'!C20,\"\")","v":91.8},null,{"$f":"'Maart voer'!H22*'Maart vee+melk'!E15/100*0.9","v":292.32}]
[null,{"$f":"'Maart voer'!B21","v":"KV 2"},{"$f":"IF('Maart voer'!C21>0,VLOOKUP('Maart voer'!B21,Voedermiddelen!$A$4:$K$75,3,FALSE)*'Maart voer'!C21,\"\")","v":225}]
[null,{"$f":"'Maart voer'!B22","v":0},{"$f":"IF('Maart voer'!C22>0,VLOOKUP('Maart voer'!B22,Voedermiddelen!$A$4:$K$75,3,FALSE)*'Maart voer'!C22,\"\")","v":""}]
[]
["Totaal",null,{"$f":"SUM(C66:C78)","v":1602.2354999999998},null,{"$f":"SUM(E66:E78)","v":1577.7554999999998}]
[]
["VEM",{"$f":"B66","v":"Gkuil 1e snede 2016"},{"$f":"IF('Maart voer'!C9>0,VLOOKUP('Maart voer'!B9,Voedermiddelen!$A$4:$K$75,4,FALSE)*C66,\"\")","v":""},{"$f":"D66","v":"Gkuil 1e snede 2016"},{"$f":"IF('Maart voer'!H9>0,VLOOKUP('Maart voer'!G9,Voedermiddelen!$A$4:$K$75,4,FALSE)*E66,\"\")","v":""}]
[null,{"$f":"B67","v":"Mkuil 1"},{"$f":"IF('Maart voer'!C10>0,VLOOKUP('Maart voer'!B10,Voedermiddelen!$A$4:$K$75,4,FALSE)*C67,\"\")","v":228358.78649999996},"Mkuil 1",{"$f":"IF('Maart voer'!H10>0,VLOOKUP('Maart voer'!G10,Voedermiddelen!$A$4:$K$75,4,FALSE)*E67,\"\")","v":228358.78649999996}]
[null,"Overig 1",{"$f":"IF('Maart voer'!C11>0,VLOOKUP('Maart voer'!B11,Voedermiddelen!$A$4:$K$75,4,FALSE)*C68,\"\")","v":""},"Overig 1",{"$f":"IF('Maart voer'!H11>0,VLOOKUP('Maart voer'!G11,Voedermiddelen!$A$4:$K$75,4,FALSE)*E68,\"\")","v":""}]
[null,"Bierbostel",{"$f":"IF('Maart voer'!C12>0,VLOOKUP('Maart voer'!B12,Voedermiddelen!$A$4:$K$75,4,FALSE)*C69,\"\")","v":51226.070999999996},"Bierbostel",{"$f":"IF('Maart voer'!H12>0,VLOOKUP('Maart voer'!G12,Voedermiddelen!$A$4:$K$75,4,FALSE)*E69,\"\")","v":51226.070999999996}]
[null,"sodagrain",{"$f":"IF('Maart voer'!C13>0,VLOOKUP('Maart voer'!B13,Voedermiddelen!$A$4:$K$75,4,FALSE)*C70,\"\")","v":110230.39999999999},"sodagrain",{"$f":"IF('Maart voer'!H13>0,VLOOKUP('Maart voer'!G13,Voedermiddelen!$A$4:$K$75,4,FALSE)*E70,\"\")","v":110230.39999999999}]
[null,"BP 6",{"$f":"IF('Maart voer'!C14>0,VLOOKUP('Maart voer'!B14,Voedermiddelen!$A$4:$K$75,4,FALSE)*C71,\"\")","v":""},"BP 6",{"$f":"IF('Maart voer'!H14>0,VLOOKUP('Maart voer'!G14,Voedermiddelen!$A$4:$K$75,4,FALSE)*E71,\"\")","v":""}]
[null,"Gkuil 2 2e snede 2015",{"$f":"IF('Maart voer'!C15>0,VLOOKUP('Maart voer'!B15,Voedermiddelen!$A$4:$K$75,4,FALSE)*C72,\"\")","v":842362.81499999994},"Gkuil 2 2e snede 2015",{"$f":"IF('Maart voer'!H15>0,VLOOKUP('Maart voer'!G15,Voedermiddelen!$A$4:$K$75,4,FALSE)*E72,\"\")","v":842362.81499999994}]
[null,0,{"$f":"IF('Maart voer'!C16>0,VLOOKUP('Maart voer'!B16,Voedermiddelen!$A$4:$K$75,4,FALSE)*C73,\"\")","v":""},0,{"$f":"IF('Maart voer'!H16>0,VLOOKUP('Maart voer'!G16,Voedermiddelen!$A$4:$K$75,4,FALSE)*E73,\"\")","v":""}]
[null,0,{"$f":"IF('Maart voer'!C17>0,VLOOKUP('Maart voer'!B17,Voedermiddelen!$A$4:$K$75,4,FALSE)*C74,\"\")","v":""},0,{"$f":"IF('Maart voer'!H17>0,VLOOKUP('Maart voer'!G17,Voedermiddelen!$A$4:$K$75,4,FALSE)*E74,\"\")","v":""}]
[null,0,{"$f":"IF('Maart voer'!C18>0,VLOOKUP('Maart voer'!B18,Voedermiddelen!$A$4:$K$75,4,FALSE)*C75,\"\")","v":""},0,{"$f":"IF('Maart voer'!H18>0,VLOOKUP('Maart voer'!G18,Voedermiddelen!$A$4:$K$75,4,FALSE)*E75,\"\")","v":""}]
[null,"snijmaiskernbrok",{"$f":"IF('Maart voer'!C20>0,VLOOKUP('Maart voer'!B20,Voedermiddelen!$A$4:$K$75,4,FALSE)*C76,\"\")","v":86292},0,{"$f":"E76*1000","v":292320}]
[null,"KV 2",{"$f":"IF('Maart voer'!C21>0,VLOOKUP('Maart voer'!B21,Voedermiddelen!$A$4:$K$75,4,FALSE)*C77,\"\")","v":211500},0]
[null,0,{"$f":"IF('Maart voer'!C22>0,VLOOKUP('Maart voer'!B22,Voedermiddelen!$A$4:$K$75,4,FALSE)*C78,\"\")","v":""},0]
[]
["Totaal",null,{"$f":"SUM(C82:C94)","v":1529970.0724999998},null,{"$f":"SUM(E82:E94)","v":1524498.0724999998}]
[]
["DVE",{"$f":"B82","v":"Gkuil 1e snede 2016"},{"$f":"IF('Maart voer'!C9>0,VLOOKUP('Maart voer'!B9,[2]Voedermiddelen!$A$4:$K$75,5,FALSE)*C66,\"\")","v":""},{"$f":"D82","v":"Gkuil 1e snede 2016"},{"$f":"IF('Maart voer'!H9>0,VLOOKUP('Maart voer'!G9,[2]Voedermiddelen!$A$4:$K$75,5,FALSE)*E66,\"\")","v":""}]
[null,{"$f":"B83","v":"Mkuil 1"},{"$f":"IF('Maart voer'!C10>0,VLOOKUP('Maart voer'!B10,[2]Voedermiddelen!$A$4:$K$75,5,FALSE)*C67,\"\")","v":16269.025499999998},"Mkuil 1",{"$f":"IF('Maart voer'!H10>0,VLOOKUP('Maart voer'!G10,[2]Voedermiddelen!$A$4:$K$75,5,FALSE)*E67,\"\")","v":16269.025499999998}]
[null,"Overig 1",{"$f":"IF('Maart voer'!C11>0,VLOOKUP('Maart voer'!B11,[2]Voedermiddelen!$A$4:$K$75,5,FALSE)*C68,\"\")","v":""},"Overig 1",{"$f":"IF('Maart voer'!H11>0,VLOOKUP('Maart voer'!G11,[2]Voedermiddelen!$A$4:$K$75,5,FALSE)*E68,\"\")","v":""}]
[null,"Bierbostel",{"$f":"IF('Maart voer'!C12>0,VLOOKUP('Maart voer'!B12,[2]Voedermiddelen!$A$4:$K$75,5,FALSE)*C69,\"\")","v":7410.7409999999991},"Bierbostel",{"$f":"IF('Maart voer'!H12>0,VLOOKUP('Maart voer'!G12,[2]Voedermiddelen!$A$4:$K$75,5,FALSE)*E69,\"\")","v":7410.7409999999991}]
[null,"sodagrain",{"$f":"IF('Maart voer'!C13>0,VLOOKUP('Maart voer'!B13,[2]Voedermiddelen!$A$4:$K$75,5,FALSE)*C70,\"\")","v":{"$error":"#N/A"}},"sodagrain",{"$f":"IF('Maart voer'!H13>0,VLOOKUP('Maart voer'!G13,[2]Voedermiddelen!$A$4:$K$75,5,FALSE)*E70,\"\")","v":{"$error":"#N/A"}}]
[null,"BP 6",{"$f":"IF('Maart voer'!C14>0,VLOOKUP('Maart voer'!B14,[2]Voedermiddelen!$A$4:$K$75,5,FALSE)*C71,\"\")","v":""},"BP 6",{"$f":"IF('Maart voer'!H14>0,VLOOKUP('Maart voer'!G14,[2]Voedermiddelen!$A$4:$K$75,5,FALSE)*E71,\"\")","v":""}]
[null,"Gkuil 2 2e snede 2015",{"$f":"IF('Maart voer'!C15>0,VLOOKUP('Maart voer'!B15,[2]Voedermiddelen!$A$4:$K$75,5,FALSE)*C72,\"\")","v":{"$error":"#N/A"}},"Gkuil 2 2e snede 2015",{"$f":"IF('Maart voer'!H15>0,VLOOKUP('Maart voer'!G15,[2]Voedermiddelen!$A$4:$K$75,5,FALSE)*E72,\"\")","v":{"$error":"#N/A"}}]
[null,0,{"$f":"IF('Maart voer'!C16>0,VLOOKUP('Maart voer'!B16,[2]Voedermiddelen!$A$4:$K$75,5,FALSE)*C73,\"\")","v":""},0,{"$f":"IF('Maart voer'!H16>0,VLOOKUP('Maart voer'!G16,[2]Voedermiddelen!$A$4:$K$75,5,FALSE)*E73,\"\")","v":""}]
[null,0,{"$f":"IF('Maart voer'!C17>0,VLOOKUP('Maart voer'!B17,[2]Voedermiddelen!$A$4:$K$75,5,FALSE)*C74,\"\")","v":""},0,{"$f":"IF('Maart voer'!H17>0,VLOOKUP('Maart voer'!G17,[2]Voedermiddelen!$A$4:$K$75,5,FALSE)*E74,\"\")","v":""}]
[null,0,{"$f":"IF('Maart voer'!C18>0,VLOOKUP('Maart voer'!B18,[2]Voedermiddelen!$A$4:$K$75,5,FALSE)*C75,\"\")","v":""},0,{"$f":"IF('Maart voer'!H18>0,VLOOKUP('Maart voer'!G18,[2]Voedermiddelen!$A$4:$K$75,5,FALSE)*E75,\"\")","v":""}]
[null,"snijmaiskernbrok",{"$f":"IF('Maart voer'!C20>0,VLOOKUP('Maart voer'!B20,[2]Voedermiddelen!$A$4:$K$75,5,FALSE)*C76,\"\")","v":{"$error":"#N/A"}},0]
[null,"KV 2",{"$f":"IF('Maart voer'!C21>0,VLOOKUP('Maart voer'!B21,[2]Voedermiddelen!$A$4:$K$75,5,FALSE)*C77,\"\")","v":24750},0]
[null,0,{"$f":"IF('Maart voer'!C22>0,VLOOKUP('Maart voer'!B22,[2]Voedermiddelen!$A$4:$K$75,5,FALSE)*C78,\"\")","v":""},0]
[]
["Totaal",null,{"$f":"SUM(C98:C110)/1000","v":{"$error":"#N/A"}},null,{"$f":"SUM(E98:E110)/1000","v":{"$error":"#N/A"}}]
[]
["OEB",{"$f":"B98","v":"Gkuil 1e snede 2016"},{"$f":"IF('Maart voer'!C9>0,VLOOKUP('Maart voer'!B9,[2]Voedermiddelen!$A$4:$K$75,6,FALSE)*C66,\"\")","v":""},{"$f":"D98","v":"Gkuil 1e snede 2016"},{"$f":"IF('Maart voer'!H9>0,VLOOKUP('Maart voer'!G9,[2]Voedermiddelen!$A$4:$K$75,6,FALSE)*E66,\"\")","v":""}]
[null,{"$f":"B99","v":"Mkuil 1"},{"$f":"IF('Maart voer'!C10>0,VLOOKUP('Maart voer'!B10,[2]Voedermiddelen!$A$4:$K$75,6,FALSE)*C67,\"\")","v":-6243.2954999999984},"Mkuil 1",{"$f":"IF('Maart voer'!H10>0,VLOOKUP('Maart voer'!G10,[2]Voedermiddelen!$A$4:$K$75,6,FALSE)*E67,\"\")","v":-6243.2954999999984}]
[null,"Overig 1",{"$f":"IF('Maart voer'!C11>0,VLOOKUP('Maart voer'!B11,[2]Voedermiddelen!$A$4:$K$75,6,FALSE)*C68,\"\")","v":""},"Overig 1",{"$f":"IF('Maart voer'!H11>0,VLOOKUP('Maart voer'!G11,[2]Voedermiddelen!$A$4:$K$75,6,FALSE)*E68,\"\")","v":""}]
[null,"Bierbostel",{"$f":"IF('Maart voer'!C12>0,VLOOKUP('Maart voer'!B12,[2]Voedermiddelen!$A$4:$K$75,6,FALSE)*C69,\"\")","v":2975.1149999999998},"Bierbostel",{"$f":"IF('Maart voer'!H12>0,VLOOKUP('Maart voer'!G12,[2]Voedermiddelen!$A$4:$K$75,6,FALSE)*E69,\"\")","v":2975.1149999999998}]
[null,"sodagrain",{"$f":"IF('Maart voer'!C13>0,VLOOKUP('Maart voer'!B13,[2]Voedermiddelen!$A$4:$K$75,6,FALSE)*C70,\"\")","v":{"$error":"#N/A"}},"sodagrain",{"$f":"IF('Maart voer'!H13>0,VLOOKUP('Maart voer'!G13,[2]Voedermiddelen!$A$4:$K$75,6,FALSE)*E70,\"\")","v":{"$error":"#N/A"}}]
[null,"BP 6",{"$f":"IF('Maart voer'!C14>0,VLOOKUP('Maart voer'!B14,[2]Voedermiddelen!$A$4:$K$75,6,FALSE)*C71,\"\")","v":""},"BP 6",{"$f":"IF('Maart voer'!H14>0,VLOOKUP('Maart voer'!G14,[2]Voedermiddelen!$A$4:$K$75,6,FALSE)*E71,\"\")","v":""}]
[null,"Gkuil 2 2e snede 2015",{"$f":"IF('Maart voer'!C15>0,VLOOKUP('Maart voer'!B15,[2]Voedermiddelen!$A$4:$K$75,6,FALSE)*C72,\"\")","v":{"$error":"#N/A"}},"Gkuil 2 2e snede 2015",{"$f":"IF('Maart voer'!H15>0,VLOOKUP('Maart voer'!G15,[2]Voedermiddelen!$A$4:$K$75,6,FALSE)*E72,\"\")","v":{"$error":"#N/A"}}]
[null,0,{"$f":"IF('Maart voer'!C16>0,VLOOKUP('Maart voer'!B16,[2]Voedermiddelen!$A$4:$K$75,6,FALSE)*C73,\"\")","v":""},0,{"$f":"IF('Maart voer'!H16>0,VLOOKUP('Maart voer'!G16,[2]Voedermiddelen!$A$4:$K$75,6,FALSE)*E73,\"\")","v":""}]
[null,0,{"$f":"IF('Maart voer'!C17>0,VLOOKUP('Maart voer'!B17,[2]Voedermiddelen!$A$4:$K$75,6,FALSE)*C74,\"\")","v":""},0,{"$f":"IF('Maart voer'!H17>0,VLOOKUP('Maart voer'!G17,[2]Voedermiddelen!$A$4:$K$75,6,FALSE)*E74,\"\")","v":""}]
[null,0,{"$f":"IF('Maart voer'!C18>0,VLOOKUP('Maart voer'!B18,[2]Voedermiddelen!$A$4:$K$75,6,FALSE)*C75,\"\")","v":""},0,{"$f":"IF('Maart voer'!H18>0,VLOOKUP('Maart voer'!G18,[2]Voedermiddelen!$A$4:$K$75,6,FALSE)*E75,\"\")","v":""}]
[null,"snijmaiskernbrok",{"$f":"IF('Maart voer'!C20>0,VLOOKUP('Maart voer'!B20,[2]Voedermiddelen!$A$4:$K$75,6,FALSE)*C76,\"\")","v":{"$error":"#N/A"}},0]
[null,"KV 2",{"$f":"IF('Maart voer'!C21>0,VLOOKUP('Maart voer'!B21,[2]Voedermiddelen!$A$4:$K$75,6,FALSE)*C77,\"\")","v":11250},0]
[null,0,{"$f":"IF('Maart voer'!C22>0,VLOOKUP('Maart voer'!B22,[2]Voedermiddelen!$A$4:$K$75,6,FALSE)*C78,\"\")","v":""},0]
[]
["Totaal",null,{"$f":"SUM(C114:C126)","v":{"$error":"#N/A"}},null,{"$f":"SUM(E114:E126)","v":{"$error":"#N/A"}}]
[]
["RE",{"$f":"B114","v":"Gkuil 1e snede 2016"},{"$f":"IF('Maart voer'!C9>0,VLOOKUP('Maart voer'!B9,Voedermiddelen!$A$4:$K$75,7,FALSE)*C66,\"\")","v":""},{"$f":"D114","v":"Gkuil 1e snede 2016"},{"$f":"IF('Maart voer'!H9>0,VLOOKUP('Maart voer'!G9,Voedermiddelen!$A$4:$K$75,7,FALSE)*E66,\"\")","v":""}]
[null,{"$f":"B115","v":"Mkuil 1"},{"$f":"IF('Maart voer'!C10>0,VLOOKUP('Maart voer'!B10,Voedermiddelen!$A$4:$K$75,7,FALSE)*C67,\"\")","v":15950.024999999998},"Mkuil 1",{"$f":"IF('Maart voer'!H10>0,VLOOKUP('Maart voer'!G10,Voedermiddelen!$A$4:$K$75,7,FALSE)*E67,\"\")","v":15950.024999999998}]
[null,"Overig 1",{"$f":"IF('Maart voer'!C11>0,VLOOKUP('Maart voer'!B11,Voedermiddelen!$A$4:$K$75,7,FALSE)*C68,\"\")","v":""},"Overig 1",{"$f":"IF('Maart voer'!H11>0,VLOOKUP('Maart voer'!G11,Voedermiddelen!$A$4:$K$75,7,FALSE)*E68,\"\")","v":""}]
[null,"Bierbostel",{"$f":"IF('Maart voer'!C12>0,VLOOKUP('Maart voer'!B12,Voedermiddelen!$A$4:$K$75,7,FALSE)*C69,\"\")","v":13360.971},"Bierbostel",{"$f":"IF('Maart voer'!H12>0,VLOOKUP('Maart voer'!G12,Voedermiddelen!$A$4:$K$75,7,FALSE)*E69,\"\")","v":13360.971}]
[null,"sodagrain",{"$f":"IF('Maart voer'!C13>0,VLOOKUP('Maart voer'!B13,Voedermiddelen!$A$4:$K$75,7,FALSE)*C70,\"\")","v":9363.1999999999989},"sodagrain",{"$f":"IF('Maart voer'!H13>0,VLOOKUP('Maart voer'!G13,Voedermiddelen!$A$4:$K$75,7,FALSE)*E70,\"\")","v":9363.1999999999989}]
[null,"BP 6",{"$f":"IF('Maart voer'!C14>0,VLOOKUP('Maart voer'!B14,Voedermiddelen!$A$4:$K$75,7,FALSE)*C71,\"\")","v":""},"BP 6",{"$f":"IF('Maart voer'!H14>0,VLOOKUP('Maart voer'!G14,Voedermiddelen!$A$4:$K$75,7,FALSE)*E71,\"\")","v":""}]
[null,"Gkuil 2 2e snede 2015",{"$f":"IF('Maart voer'!C15>0,VLOOKUP('Maart voer'!B15,Voedermiddelen!$A$4:$K$75,7,FALSE)*C72,\"\")","v":148916.10999999999},"Gkuil 2 2e snede 2015",{"$f":"IF('Maart voer'!H15>0,VLOOKUP('Maart voer'!G15,Voedermiddelen!$A$4:$K$75,7,FALSE)*E72,\"\")","v":148916.10999999999}]
[null,0,{"$f":"IF('Maart voer'!C16>0,VLOOKUP('Maart voer'!B16,Voedermiddelen!$A$4:$K$75,7,FALSE)*C73,\"\")","v":""},0,{"$f":"IF('Maart voer'!H16>0,VLOOKUP('Maart voer'!G16,Voedermiddelen!$A$4:$K$75,7,FALSE)*E73,\"\")","v":""}]
[null,0,{"$f":"IF('Maart voer'!C17>0,VLOOKUP('Maart voer'!B17,Voedermiddelen!$A$4:$K$75,7,FALSE)*C74,\"\")","v":""},0,{"$f":"IF('Maart voer'!H17>0,VLOOKUP('Maart voer'!G17,Voedermiddelen!$A$4:$K$75,7,FALSE)*E74,\"\")","v":""}]
[null,0,{"$f":"IF('Maart voer'!C18>0,VLOOKUP('Maart voer'!B18,Voedermiddelen!$A$4:$K$75,7,FALSE)*C75,\"\")","v":""},0,{"$f":"IF('Maart voer'!H18>0,VLOOKUP('Maart voer'!G18,Voedermiddelen!$A$4:$K$75,7,FALSE)*E75,\"\")","v":""}]
[null,"snijmaiskernbrok",{"$f":"IF('Maart voer'!C20>0,VLOOKUP('Maart voer'!B20,Voedermiddelen!$A$4:$K$75,7,FALSE)*C76,\"\")","v":29100.6},0]
[null,"KV 2",{"$f":"IF('Maart voer'!C21>0,VLOOKUP('Maart voer'!B21,Voedermiddelen!$A$4:$K$75,7,FALSE)*C77,\"\")","v":33750},0]
[null,{"$f":"B126","v":0},{"$f":"IF('Maart voer'!C22>0,VLOOKUP('Maart voer'!B22,Voedermiddelen!$A$4:$K$75,7,FALSE)*C78,\"\")","v":""},0]
[]
["Totaal",null,{"$f":"SUM(C130:C142)","v":250440.90599999999},null,{"$f":"SUM(E130:E142)","v":187590.30599999998}]
[]
["N opname",null,{"$f":"C144/6.25","v":40070.544959999999},null,{"$f":"E144/6.25","v":30014.448959999998},null,{"$f":"(E76/0.9*'Maart voer'!M6/6.25)","v":10376.091840000001}]
[]
["P",{"$f":"B130","v":"Gkuil 1e snede 2016"},{"$f":"IF('Maart voer'!C9>0,VLOOKUP('Maart voer'!B9,Voedermiddelen!$A$4:$K$75,10,FALSE)*C66,\"\")","v":""},{"$f":"D130","v":"Gkuil 1e snede 2016"},{"$f":"IF('Maart voer'!H9>0,VLOOKUP('Maart voer'!G9,Voedermiddelen!$A$4:$K$75,10,FALSE)*E66,\"\")","v":""}]
[null,{"$f":"B131","v":"Mkuil 1"},{"$f":"IF('Maart voer'!C10>0,VLOOKUP('Maart voer'!B10,Voedermiddelen!$A$4:$K$75,10,FALSE)*C67,\"\")","v":701.80109999999979},"Mkuil 1",{"$f":"IF('Maart voer'!H10>0,VLOOKUP('Maart voer'!G10,Voedermiddelen!$A$4:$K$75,10,FALSE)*E67,\"\")","v":701.80109999999979}]
[null,"Overig 1",{"$f":"IF('Maart voer'!C11>0,VLOOKUP('Maart voer'!B11,Voedermiddelen!$A$4:$K$75,10,FALSE)*C68,\"\")","v":""},"Overig 1",{"$f":"IF('Maart voer'!H11>0,VLOOKUP('Maart voer'!G11,Voedermiddelen!$A$4:$K$75,10,FALSE)*E68,\"\")","v":""}]
[null,"Bierbostel",{"$f":"IF('Maart voer'!C12>0,VLOOKUP('Maart voer'!B12,Voedermiddelen!$A$4:$K$75,10,FALSE)*C69,\"\")","v":281.28359999999998},"Bierbostel",{"$f":"IF('Maart voer'!H12>0,VLOOKUP('Maart voer'!G12,Voedermiddelen!$A$4:$K$75,10,FALSE)*E69,\"\")","v":281.28359999999998}]
[null,"sodagrain",{"$f":"IF('Maart voer'!C13>0,VLOOKUP('Maart voer'!B13,Voedermiddelen!$A$4:$K$75,10,FALSE)*C70,\"\")","v":244.71999999999997},"sodagrain",{"$f":"IF('Maart voer'!H13>0,VLOOKUP('Maart voer'!G13,Voedermiddelen!$A$4:$K$75,10,FALSE)*E70,\"\")","v":244.71999999999997}]
[null,"BP 6",{"$f":"IF('Maart voer'!C14>0,VLOOKUP('Maart voer'!B14,Voedermiddelen!$A$4:$K$75,10,FALSE)*C71,\"\")","v":""},"BP 6",{"$f":"IF('Maart voer'!H14>0,VLOOKUP('Maart voer'!G14,Voedermiddelen!$A$4:$K$75,10,FALSE)*E71,\"\")","v":""}]
[null,"Gkuil 2 2e snede 2015",{"$f":"IF('Maart voer'!C15>0,VLOOKUP('Maart voer'!B15,Voedermiddelen!$A$4:$K$75,10,FALSE)*C72,\"\")","v":3947.174},"Gkuil 2 2e snede 2015",{"$f":"IF('Maart voer'!H15>0,VLOOKUP('Maart voer'!G15,Voedermiddelen!$A$4:$K$75,10,FALSE)*E72,\"\")","v":3947.174}]
[null,0,{"$f":"IF('Maart voer'!C16>0,VLOOKUP('Maart voer'!B16,Voedermiddelen!$A$4:$K$75,10,FALSE)*C73,\"\")","v":""},0,{"$f":"IF('Maart voer'!H16>0,VLOOKUP('Maart voer'!G16,Voedermiddelen!$A$4:$K$75,10,FALSE)*E73,\"\")","v":""}]
[null,0,{"$f":"IF('Maart voer'!C17>0,VLOOKUP('Maart voer'!B17,Voedermiddelen!$A$4:$K$75,10,FALSE)*C74,\"\")","v":""},0,{"$f":"IF('Maart voer'!H17>0,VLOOKUP('Maart voer'!G17,Voedermiddelen!$A$4:$K$75,10,FALSE)*E74,\"\")","v":""}]
[null,0,{"$f":"IF('Maart voer'!C18>0,VLOOKUP('Maart voer'!B18,Voedermiddelen!$A$4:$K$75,10,FALSE)*C75,\"\")","v":""},0,{"$f":"IF('Maart voer'!H18>0,VLOOKUP('Maart voer'!G18,Voedermiddelen!$A$4:$K$75,10,FALSE)*E75,\"\")","v":""}]
[null,{"$f":"B140","v":"snijmaiskernbrok"},{"$f":"IF('Maart voer'!C20>0,VLOOKUP('Maart voer'!B20,Voedermiddelen!$A$4:$K$75,10,FALSE)*C76,\"\")","v":605.88},0]
[null,{"$f":"B141","v":"KV 2"},{"$f":"IF('Maart voer'!C21>0,VLOOKUP('Maart voer'!B21,Voedermiddelen!$A$4:$K$75,10,FALSE)*C77,\"\")","v":855},0]
[null,{"$f":"B142","v":0},{"$f":"IF('Maart voer'!C22>0,VLOOKUP('Maart voer'!B22,Voedermiddelen!$A$4:$K$75,10,FALSE)*C78,\"\")","v":""},0]
[]
["Totaal",null,{"$f":"SUM(C148:C160)","v":6635.8586999999998},null,{"$f":"SUM(E148:E160)","v":5174.9786999999997},null,{"$f":"(E76/0.9*'Maart voer'!M7)","v":504.94109999999915}]

{"sheet":"Maart Excretie","index":57,"n_rows":25,"n_cols":5,"rows_kept":25,"cut":false,"hidden":true,"merged":[]}
["Veestapel"]
[null,null,{"$f":"'Maart vee+melk'!C6","v":"Maart gerealiseerd"},null,{"$f":"'Maart vee+melk'!E6","v":"Maart prognose"}]
[]
[]
["Excretie (kg/dier/dag)"]
[null,null,"N",null,"N"]
["Opname",null,{"$f":"'Maart Voeropname'!C2*'Maart Voeropname'!C7*0.001","v":0.54149385081081081},null,{"$f":"'Maart Voeropname'!E2*'Maart Voeropname'!E7*0.001+'Maart Voeropname'!G146*0.001/'Maart vee+melk'!E2","v":0.55938671849706456}]
["Gem opname 7 dgn",null,{"$f":"AVERAGE(C7:F7)","v":0.55044028465393768},null,{"$f":"AVERAGE(E7)","v":0.55938671849706456}]
["Productie",null,{"$f":"'Maart vee+melk'!C22*'Maart vee+melk'!C10/6.38","v":0.15920309808240843},null,{"$f":"'Maart vee+melk'!E22*'Maart vee+melk'!E10/6.38","v":0.15255292652552926}]
["Vastlegging",null,{"$f":"1.4/365","v":3.8356164383561643E-3},null,{"$f":"1.4/365","v":3.8356164383561643E-3}]
["Onder de staart",null,{"$f":"C7-C9-C10","v":0.37845513629004623},null,{"$f":"E7-E9-E10","v":0.40299817553317913}]
["Vervluchtiging",null,{"$f":"C11*0.1175","v":4.446847851408043E-2},null,{"$f":"E11*0.1175","v":4.7352285625148545E-2}]
["Gemeten netto excretie",null,{"$f":"C11-C12","v":0.33398665777596581},null,{"$f":"E11-E12","v":0.35564588990803059}]
[]
[null,null,"P",null,"P"]
["Opname",null,{"$f":"'Maart Voeropname'!C2*'Maart Voeropname'!C8/1000","v":8.9673766216216227E-2},null,{"$f":"'Maart Voeropname'!E2*'Maart Voeropname'!E8/1000+'Maart Voeropname'!G162*0.001/'Maart vee+melk'!E2","v":7.810356346379646E-2}]
["Gem opname 7 dgn",null,{"$f":"AVERAGE(C16:F16)","v":8.3888664840006344E-2},null,{"$f":"AVERAGE(E16)","v":7.810356346379646E-2}]
["Productie",null,{"$f":"'Maart vee+melk'!C22*0.9/1000","v":2.6193243243243243E-2},null,{"$f":"'Maart vee+melk'!E22*0.9/1000","v":2.5027397260273972E-2}]
["Vastlegging",null,{"$f":"0.5/365","v":1.3698630136986301E-3},null,{"$f":"0.5/365","v":1.3698630136986301E-3}]
["Onder de staart",null,{"$f":"C16-C18-C19","v":6.211065995927436E-2},null,{"$f":"E16-E18-E19","v":5.1706303189823853E-2}]
["Vervluchtiging"]
["Gemeten netto excretie",null,{"$f":"C20","v":6.211065995927436E-2},null,{"$f":"E20","v":5.1706303189823853E-2}]
[]
["N excretie per ton meetmelk (kg)",null,{"$f":"C13/'Maart vee+melk'!C21*1000","v":10.44168609878748},null,{"$f":"E13/'Maart vee+melk'!E21*1000","v":11.447234604169607}]
["P excretie per ton meetmelk (kg)",null,{"$f":"C22/'Maart vee+melk'!C21*1000","v":1.9418141401274298},null,{"$f":"E22/'Maart vee+melk'!E21*1000","v":1.6642795542535294}]

{"sheet":"Maart kengetallen","index":58,"n_rows":106,"n_cols":6,"rows_kept":106,"cut":false,"hidden":true,"merged":[]}
["Rantsoen"]
["Datum",null,{"$f":"'Maart voer'!B3","v":"Maart gerealiseerd"},null,{"$f":"'Maart voer'!G3","v":"Maart prognose"}]
[]
[{"$f":"'Maart Voeropname'!A2","v":"DS opname/koe"},null,{"$f":"'Maart Voeropname'!C2","v":21.651831081081077},null,{"$f":"'Maart Voeropname'!E2","v":21.613089041095886}]
[{"$f":"'Maart Voeropname'!A3","v":"VEM"},null,{"$f":"'Maart Voeropname'!C3","v":954.89712498568417},null,{"$f":"'Maart Voeropname'!E3","v":966.24481581588532}]
[{"$f":"'Maart Voeropname'!A4","v":"DVE"},null,{"$f":"'Maart Voeropname'!C4","v":{"$error":"#N/A"}},null,{"$f":"'Maart Voeropname'!E4","v":{"$error":"#N/A"}}]
[{"$f":"'Maart Voeropname'!A5","v":"OEB"},null,{"$f":"'Maart Voeropname'!C5","v":{"$error":"#N/A"}},null,{"$f":"'Maart Voeropname'!E5","v":{"$error":"#N/A"}}]
[{"$f":"'Maart Voeropname'!A6","v":"RE"},null,{"$f":"'Maart Voeropname'!C6","v":156.30717581778711},null,{"$f":"'Maart Voeropname'!E6","v":118.89694315754248}]
[{"$f":"'Maart Voeropname'!A7","v":"N"},null,{"$f":"'Maart Voeropname'!C7","v":25.00914813084594},null,{"$f":"'Maart Voeropname'!E7","v":19.023510905206795}]
[{"$f":"'Maart Voeropname'!A8","v":"P"},null,{"$f":"'Maart Voeropname'!C8","v":4.1416250607354543},null,{"$f":"'Maart Voeropname'!E8","v":3.2799623896097976}]
[]
["Streefwaarde RE",null,{"$f":"'Maart voer'!H20","v":160}]
["Streefwaarde P",null,{"$f":"'Maart voer'!H21","v":3.6}]
[]
[]
[{"$f":"'Maart Excretie'!A24","v":"N excretie per ton meetmelk (kg)"},null,{"$f":"'Maart Excretie'!C24","v":10.44168609878748},null,{"$f":"'Maart Excretie'!E24","v":11.447234604169607}]
[{"$f":"'Maart Excretie'!A25","v":"P excretie per ton meetmelk (kg)"},null,{"$f":"'Maart Excretie'!C25","v":1.9418141401274298},null,{"$f":"'Maart Excretie'!E25","v":1.6642795542535294}]
[]
[]
["VEM dekking",null,{"$f":"'Maart Voeropname'!C35/'Maart vee+melk'!C27","v":1.0424337893174573},null,{"$f":"'Maart Voeropname'!E35/'Maart vee+melk'!E27","v":1.0771556622533125}]
["DVE dekking",null,{"$f":"'Maart Voeropname'!C36/'Maart vee+melk'!C28","v":{"$error":"#N/A"}},null,{"$f":"'Maart Voeropname'!E36/'Maart vee+melk'!E28","v":{"$error":"#N/A"}}]
[]
[]
["Voerefficientie kg meetmelk/kg voer (ds)",null,{"$f":"'Maart vee+melk'!C21/'Maart Voeropname'!C2","v":1.4772835245921507},null,{"$f":"'Maart vee+melk'!E21/'Maart Voeropname'!E2","v":1.4374752235057973}]
["kg krachtvoer per 100 kg (excl bijprod)",null,{"$f":"SUM('Maart Voeropname'!C76:C78)/('Maart vee+melk'!C21*'Maart vee+melk'!C2)*100/0.9","v":15.499790570822176},null,{"$f":"SUM('Maart Voeropname'!E76:E78)/('Maart vee+melk'!E21*'Maart vee+melk'!E2)*100","v":13.441362058021877}]
[]
[]
[{"$f":"A12","v":"Streefwaarde RE"},null,{"$f":"$C$12","v":160},null,{"$f":"$C$12","v":160}]
[{"$f":"A13","v":"Streefwaarde P"},null,{"$f":"$C$13","v":3.6},null,{"$f":"$C$13","v":3.6}]
[]
[]
[]
[]
[{"$f":"A2","v":"Datum"},null,{"$f":"C2","v":"Maart gerealiseerd"},{"$f":"E2","v":"Maart prognose"},{"$f":"#REF!","v":{"$error":"#REF!"}},{"$f":"#REF!","v":{"$error":"#REF!"}}]
["00:00:00"]
["DS opname/koe",null,{"$f":"C4","v":21.651831081081077},{"$f":"E4","v":21.613089041095886},{"$f":"#REF!","v":{"$error":"#REF!"}},{"$f":"#REF!","v":{"$error":"#REF!"}}]
["VEM",null,954.89712498568417,966.24481581588532,{"$f":"#REF!","v":{"$error":"#REF!"}},{"$f":"#REF!","v":{"$error":"#REF!"}}]
["DVE",null,{"$error":"#N/A"},{"$error":"#N/A"},{"$f":"#REF!","v":{"$error":"#REF!"}},{"$f":"#REF!","v":{"$error":"#REF!"}}]
["OEB",null,{"$error":"#N/A"},{"$error":"#N/A"},{"$f":"#REF!","v":{"$error":"#REF!"}},{"$f":"#REF!","v":{"$error":"#REF!"}}]
["RE",null,156.30717581778711,118.89694315754248,{"$f":"#REF!","v":{"$error":"#REF!"}},{"$f":"#REF!","v":{"$error":"#REF!"}}]
["N",null,25.00914813084594,19.023510905206795,{"$f":"#REF!","v":{"$error":"#REF!"}},{"$f":"#REF!","v":{"$error":"#REF!"}}]
["P",null,4.1416250607354543,3.2799623896097976,{"$f":"#REF!","v":{"$error":"#REF!"}},{"$f":"#REF!","v":{"$error":"#REF!"}}]
[{"$f":"A15","v":"00:00:00"}]
["N excretie per ton meetmelk (kg)",null,{"$f":"C16","v":10.44168609878748},{"$f":"E16","v":11.447234604169607},{"$f":"#REF!","v":{"$error":"#REF!"}},{"$f":"#REF!","v":{"$error":"#REF!"}}]
["P excretie per ton meetmelk (kg)",null,1.9418141401274298,{"$f":"E17","v":1.6642795542535294},{"$f":"#REF!","v":{"$error":"#REF!"}},{"$f":"#REF!","v":{"$error":"#REF!"}}]
["00:00:00",null,{"$f":"1000/C45/2.29","v":224.88312021394938},{"$f":"1000/D45/2.29","v":262.38453845771477},{"$f":"1000/E45/2.29","v":{"$error":"#REF!"}},{"$f":"1000/F45/2.29","v":{"$error":"#REF!"}}]
[]
[]
["Rantsoen"]
[]
["Kuilgras",null,{"$f":"IF('Maart Voeropname'!$A66='Maart kengetallen'!$A51,'Maart Voeropname'!C66,\"\")","v":""},null,{"$f":"IF('Maart Voeropname'!$A66='Maart kengetallen'!$A51,'Maart Voeropname'!E66,\"\")","v":""}]
["Kuilgras",null,{"$f":"IF('Maart Voeropname'!$A67='Maart kengetallen'!$A52,'Maart Voeropname'!C67,\"\")","v":""},null,{"$f":"IF('Maart Voeropname'!$A67='Maart kengetallen'!$A52,'Maart Voeropname'!E67,\"\")","v":""}]
["Kuilgras",null,{"$f":"IF('Maart Voeropname'!$A68='Maart kengetallen'!$A53,'Maart Voeropname'!C68,\"\")","v":""},null,{"$f":"IF('Maart Voeropname'!$A68='Maart kengetallen'!$A53,'Maart Voeropname'!E68,\"\")","v":""}]
["Kuilgras",null,{"$f":"IF('Maart Voeropname'!$A69='Maart kengetallen'!$A54,'Maart Voeropname'!C69,\"\")","v":""},null,{"$f":"IF('Maart Voeropname'!$A69='Maart kengetallen'!$A54,'Maart Voeropname'!E69,\"\")","v":""}]
["Kuilgras",null,{"$f":"IF('Maart Voeropname'!$A70='Maart kengetallen'!$A55,'Maart Voeropname'!C70,\"\")","v":""},null,{"$f":"IF('Maart Voeropname'!$A70='Maart kengetallen'!$A55,'Maart Voeropname'!E70,\"\")","v":""}]
["Kuilgras",null,{"$f":"IF('Maart Voeropname'!$A71='Maart kengetallen'!$A56,'Maart Voeropname'!C71,\"\")","v":""},null,{"$f":"IF('Maart Voeropname'!$A71='Maart kengetallen'!$A56,'Maart Voeropname'!E71,\"\")","v":""}]
["Kuilgras",null,{"$f":"IF('Maart Voeropname'!$A72='Maart kengetallen'!$A57,'Maart Voeropname'!C72,\"\")","v":897.08499999999992},null,{"$f":"IF('Maart Voeropname'!$A72='Maart kengetallen'!$A57,'Maart Voeropname'!E72,\"\")","v":897.08499999999992}]
["Kuilgras",null,{"$f":"IF('Maart Voeropname'!$A73='Maart kengetallen'!$A58,'Maart Voeropname'!C73,\"\")","v":""},null,{"$f":"IF('Maart Voeropname'!$A73='Maart kengetallen'!$A58,'Maart Voeropname'!E73,\"\")","v":""}]
["Kuilgras",null,{"$f":"IF('Maart Voeropname'!$A74='Maart kengetallen'!$A59,'Maart Voeropname'!C74,\"\")","v":""},null,{"$f":"IF('Maart Voeropname'!$A74='Maart kengetallen'!$A59,'Maart Voeropname'!E74,\"\")","v":""}]
["Totaal kuilgras",null,{"$f":"SUM(C51:C59)","v":897.08499999999992},null,{"$f":"SUM(E51:E59)","v":897.08499999999992}]
[]
["Snijmais",null,{"$f":"IF('Maart Voeropname'!$A66='Maart kengetallen'!$A62,'Maart Voeropname'!C66,\"\")","v":""},null,{"$f":"IF('Maart Voeropname'!$A66='Maart kengetallen'!$A62,'Maart Voeropname'!E66,\"\")","v":""}]
["Snijmais",null,{"$f":"IF('Maart Voeropname'!$A67='Maart kengetallen'!$A63,'Maart Voeropname'!C67,\"\")","v":227.85749999999996},null,{"$f":"IF('Maart Voeropname'!$A67='Maart kengetallen'!$A63,'Maart Voeropname'!E67,\"\")","v":227.85749999999996}]
["Snijmais",null,{"$f":"IF('Maart Voeropname'!$A68='Maart kengetallen'!$A64,'Maart Voeropname'!C68,\"\")","v":""},null,{"$f":"IF('Maart Voeropname'!$A68='Maart kengetallen'!$A64,'Maart Voeropname'!E68,\"\")","v":""}]
["Snijmais",null,{"$f":"IF('Maart Voeropname'!$A69='Maart kengetallen'!$A65,'Maart Voeropname'!C69,\"\")","v":""},null,{"$f":"IF('Maart Voeropname'!$A69='Maart kengetallen'!$A65,'Maart Voeropname'!E69,\"\")","v":""}]
["Snijmais",null,{"$f":"IF('Maart Voeropname'!$A70='Maart kengetallen'!$A66,'Maart Voeropname'!C70,\"\")","v":""},null,{"$f":"IF('Maart Voeropname'!$A70='Maart kengetallen'!$A66,'Maart Voeropname'!E70,\"\")","v":""}]
["Snijmais",null,{"$f":"IF('Maart Voeropname'!$A71='Maart kengetallen'!$A67,'Maart Voeropname'!C71,\"\")","v":""},null,{"$f":"IF('Maart Voeropname'!$A71='Maart kengetallen'!$A67,'Maart Voeropname'!E71,\"\")","v":""}]
["Snijmais",null,{"$f":"IF('Maart Voeropname'!$A72='Maart kengetallen'!$A68,'Maart Voeropname'!C72,\"\")","v":""},null,{"$f":"IF('Maart Voeropname'!$A72='Maart kengetallen'!$A68,'Maart Voeropname'!E72,\"\")","v":""}]
["Snijmais",null,{"$f":"IF('Maart Voeropname'!$A73='Maart kengetallen'!$A69,'Maart Voeropname'!C73,\"\")","v":""},null,{"$f":"IF('Maart Voeropname'!$A73='Maart kengetallen'!$A69,'Maart Voeropname'!E73,\"\")","v":""}]
["Snijmais",null,{"$f":"IF('Maart Voeropname'!$A74='Maart kengetallen'!$A70,'Maart Voeropname'!C74,\"\")","v":""},null,{"$f":"IF('Maart Voeropname'!$A74='Maart kengetallen'!$A70,'Maart Voeropname'!E74,\"\")","v":""}]
["Totaal snijmais",null,{"$f":"SUM(C62:C70)","v":227.85749999999996},null,{"$f":"SUM(E62:E70)","v":227.85749999999996}]
[]
["OverigRuwvoer",null,{"$f":"IF('Maart Voeropname'!$A66='Maart kengetallen'!$A73,'Maart Voeropname'!C66,\"\")","v":""},null,{"$f":"IF('Maart Voeropname'!$A66='Maart kengetallen'!$A73,'Maart Voeropname'!E66,\"\")","v":""}]
["OverigRuwvoer",null,{"$f":"IF('Maart Voeropname'!$A67='Maart kengetallen'!$A74,'Maart Voeropname'!C67,\"\")","v":""},null,{"$f":"IF('Maart Voeropname'!$A67='Maart kengetallen'!$A74,'Maart Voeropname'!E67,\"\")","v":""}]
["OverigRuwvoer",null,{"$f":"IF('Maart Voeropname'!$A68='Maart kengetallen'!$A75,'Maart Voeropname'!C68,\"\")","v":""},null,{"$f":"IF('Maart Voeropname'!$A68='Maart kengetallen'!$A75,'Maart Voeropname'!E68,\"\")","v":""}]
["OverigRuwvoer",null,{"$f":"IF('Maart Voeropname'!$A69='Maart kengetallen'!$A76,'Maart Voeropname'!C69,\"\")","v":""},null,{"$f":"IF('Maart Voeropname'!$A69='Maart kengetallen'!$A76,'Maart Voeropname'!E69,\"\")","v":""}]
["OverigRuwvoer",null,{"$f":"IF('Maart Voeropname'!$A70='Maart kengetallen'!$A77,'Maart Voeropname'!C70,\"\")","v":""},null,{"$f":"IF('Maart Voeropname'!$A70='Maart kengetallen'!$A77,'Maart Voeropname'!E70,\"\")","v":""}]
["OverigRuwvoer",null,{"$f":"IF('Maart Voeropname'!$A71='Maart kengetallen'!$A78,'Maart Voeropname'!C71,\"\")","v":""},null,{"$f":"IF('Maart Voeropname'!$A71='Maart kengetallen'!$A78,'Maart Voeropname'!E71,\"\")","v":""}]
["OverigRuwvoer",null,{"$f":"IF('Maart Voeropname'!$A72='Maart kengetallen'!$A79,'Maart Voeropname'!C72,\"\")","v":""},null,{"$f":"IF('Maart Voeropname'!$A72='Maart kengetallen'!$A79,'Maart Voeropname'!E72,\"\")","v":""}]
["OverigRuwvoer",null,{"$f":"IF('Maart Voeropname'!$A73='Maart kengetallen'!$A80,'Maart Voeropname'!C73,\"\")","v":""},null,{"$f":"IF('Maart Voeropname'!$A73='Maart kengetallen'!$A80,'Maart Voeropname'!E73,\"\")","v":""}]
["OverigRuwvoer",null,{"$f":"IF('Maart Voeropname'!$A74='Maart kengetallen'!$A81,'Maart Voeropname'!C74,\"\")","v":""},null,{"$f":"IF('Maart Voeropname'!$A74='Maart kengetallen'!$A81,'Maart Voeropname'!E74,\"\")","v":""}]
["Totaal overig Ruwvoer",null,{"$f":"SUM(C73:C81)","v":0},null,{"$f":"SUM(E73:E81)","v":0}]
[]
["Bijproducten",null,{"$f":"IF('Maart Voeropname'!$A66='Maart kengetallen'!$A84,'Maart Voeropname'!C66,\"\")","v":""},null,{"$f":"IF('Maart Voeropname'!$A66='Maart kengetallen'!$A84,'Maart Voeropname'!E66,\"\")","v":""}]
["Bijproducten",null,{"$f":"IF('Maart Voeropname'!$A67='Maart kengetallen'!$A85,'Maart Voeropname'!C67,\"\")","v":""},null,{"$f":"IF('Maart Voeropname'!$A67='Maart kengetallen'!$A85,'Maart Voeropname'!E67,\"\")","v":""}]
["Bijproducten",null,{"$f":"IF('Maart Voeropname'!$A68='Maart kengetallen'!$A86,'Maart Voeropname'!C68,\"\")","v":""},null,{"$f":"IF('Maart Voeropname'!$A68='Maart kengetallen'!$A86,'Maart Voeropname'!E68,\"\")","v":""}]
["Bijproducten",null,{"$f":"IF('Maart Voeropname'!$A69='Maart kengetallen'!$A87,'Maart Voeropname'!C69,\"\")","v":54.092999999999996},null,{"$f":"IF('Maart Voeropname'!$A69='Maart kengetallen'!$A87,'Maart Voeropname'!E69,\"\")","v":54.092999999999996}]
["Bijproducten",null,{"$f":"IF('Maart Voeropname'!$A70='Maart kengetallen'!$A88,'Maart Voeropname'!C70,\"\")","v":106.39999999999999},null,{"$f":"IF('Maart Voeropname'!$A70='Maart kengetallen'!$A88,'Maart Voeropname'!E70,\"\")","v":106.39999999999999}]
["Bijproducten",null,{"$f":"IF('Maart Voeropname'!$A71='Maart kengetallen'!$A89,'Maart Voeropname'!C71,\"\")","v":""},null,{"$f":"IF('Maart Voeropname'!$A71='Maart kengetallen'!$A89,'Maart Voeropname'!E71,\"\")","v":""}]
["Bijproducten",null,{"$f":"IF('Maart Voeropname'!$A72='Maart kengetallen'!$A90,'Maart Voeropname'!C72,\"\")","v":""},null,{"$f":"IF('Maart Voeropname'!$A72='Maart kengetallen'!$A90,'Maart Voeropname'!E72,\"\")","v":""}]
["Bijproducten",null,{"$f":"IF('Maart Voeropname'!$A73='Maart kengetallen'!$A91,'Maart Voeropname'!C73,\"\")","v":""},null,{"$f":"IF('Maart Voeropname'!$A73='Maart kengetallen'!$A91,'Maart Voeropname'!E73,\"\")","v":""}]
["Bijproducten",null,{"$f":"IF('Maart Voeropname'!$A74='Maart kengetallen'!$A92,'Maart Voeropname'!C74,\"\")","v":""},null,{"$f":"IF('Maart Voeropname'!$A74='Maart kengetallen'!$A92,'Maart Voeropname'!E74,\"\")","v":""}]
["Totaal Bijproducten",null,{"$f":"SUM(C84:C92)","v":160.49299999999999},null,{"$f":"SUM(E84:E92)","v":160.49299999999999}]
[]
["Krachtvoer",null,{"$f":"SUM('Maart Voeropname'!C76:C78)","v":316.8},null,{"$f":"SUM('Maart Voeropname'!E76:E78)","v":292.32}]
[]
["Vers gras",null,{"$f":"'Maart Voeropname'!C31*('Maart vee+melk'!C2+'Maart vee+melk'!C3)","v":0},null,{"$f":"'Maart Voeropname'!E31*('Maart vee+melk'!E2+'Maart vee+melk'!E3)","v":0}]
[]
["Totaal",null,{"$f":"C95+C93+C82+C71+C60+C97","v":1602.2354999999998},null,{"$f":"E95+E93+E82+E71+E60+E97","v":1577.7554999999998}]
[]
["Vers gras",null,{"$f":"C97/C99","v":0},null,{"$f":"E97/E99","v":0}]
["Aandeel kuilgras",null,{"$f":"C60/C$99","v":0.55989584552333294},null,{"$f":"E60/E$99","v":0.56858302823219442}]
["Aandeel snijmais",null,{"$f":"C71/C$99","v":0.14221224033545629},null,{"$f":"E71/E$99","v":0.14441876450438612}]
["Aandeel overig ruwvoer",null,{"$f":"C82/C$99","v":0},null,{"$f":"E82/E$99","v":0}]
["Aandeel bijproducten",null,{"$f":"C93/C$99","v":0.10016817128318528},null,{"$f":"E93/E$99","v":0.10172235178391076}]
["Aandeel krachtvoer",null,{"$f":"C95/C$99","v":0.19772374285802558},null,{"$f":"E95/E$99","v":0.18527585547950873}]

{"sheet":"Feb Voeropname","index":59,"n_rows":162,"n_cols":18,"rows_kept":162,"cut":false,"hidden":true,"merged":[]}
["Gem rantsoen gehaltes (d dgn)",null,{"$f":"'Feb voer'!B3","v":"Februari gerealiseerd"},null,{"$f":"'Feb voer'!G3","v":"Februari prognose"}]
["DS opname/koe",null,{"$f":"C34","v":21.459083783783779},null,{"$f":"E34","v":21.976107444668006}]
["VEM",null,{"$f":"C12","v":961.73477674231322},null,{"$f":"AVERAGE(E12:E12)","v":975.21116399927075}]
["DVE",null,{"$f":"AVERAGE(C13)","v":{"$error":"#N/A"}},null,{"$error":"#N/A"},null,null,null,null,null,null,null,1,null,null,null,null,"Voedermiddelen"]
["OEB",null,{"$f":"AVERAGE(C14)","v":{"$error":"#N/A"}},null,{"$error":"#N/A"},null,null,null,null,null,null,null,2,null,null,null,null,"Kuilgras"]
["RE",null,{"$f":"AVERAGE(C15)","v":157.4080169665439},null,112.28939790418448,null,null,null,null,null,null,null,null,null,null,null,null,"Snijmais"]
["N",null,{"$f":"AVERAGE(C16)","v":25.185282714647023},null,17.966303664669518,null,null,null,null,null,null,null,"Vem toeslag weidegang",null,1.03,null,null,"OverigRuwvoer"]
["P",null,3.9939087951287822,null,2.9582935343335284,null,null,null,null,null,null,null,null,null,null,null,null,"Bijproducten"]
[null,null,null,null,null,null,null,null,null,null,null,null,null,null,null,null,null,"Krachtvoer"]
[]
["Rantsoen gehaltes (incl. weidegras)"]
["VEM",null,{"$f":"C35/C34","v":961.73477674231322},null,{"$f":"E35/E34","v":975.21116399927075},null,null,null,null,null,null,null,null,null,null,null,null,"Let op bij beperkt weiden is deze opname niet realistisch!"]
["DVE",null,{"$f":"C36/C34","v":{"$error":"#N/A"}},null,{"$f":"E36/E34","v":{"$error":"#N/A"}},null,null,null,null,null,null,null,null,null,null,null,null,"Let op VEM dekking te laag!"]
["OEB",null,{"$f":"C37","v":{"$error":"#N/A"}},null,{"$f":"E37","v":{"$error":"#N/A"}}]
["RE",null,{"$f":"C38/C34","v":157.4080169665439},null,{"$f":"E38/E34","v":112.28939790418448}]
["N",null,{"$f":"C39/C34","v":25.185282714647023},null,{"$f":"E39/E34","v":17.966303664669518}]
["P",null,{"$f":"C40/C34","v":3.9939087951287822},null,{"$f":"E40/E34","v":2.9582935343335284}]
[]
[]
[]
[]
["kg ds",null,{"$f":"C55/SUM('Feb vee+melk'!C2:C3)","v":21.459083783783779},null,{"$f":"E55/SUM('Feb vee+melk'!E2:E3)","v":21.976107444668006}]
["Vemopname ex weidegras",null,{"$f":"C22*C45","v":20637.947151891887},null,{"$f":"E22*E45","v":21431.345321287725}]
[]
[]
[]
["VEM behoefte",null,{"$f":"IF('Feb voer'!B4=1,'Feb vee+melk'!C27*'Feb Voeropname'!O7,'Feb vee+melk'!C27)","v":19885.784325218174},null,{"$f":"IF('Feb voer'!G4=1,'Feb vee+melk'!E27*'Feb Voeropname'!O7,'Feb vee+melk'!E27)","v":19590.249185152461}]
["Behoefte-opname",null,{"$f":"C27-'Feb Voeropname'!C23","v":-752.16282667371343},null,{"$f":"E27-'Feb Voeropname'!E23","v":-1841.0961361352638}]
[null,null,{"$f":"C28/VLOOKUP('Feb voer'!B5,Weidegras!$A$5:$J$119,4,FALSE)","v":{"$error":"#DIV/0!"}},null,{"$f":"E28/VLOOKUP('Feb voer'!G5,Weidegras!$A$5:$J$119,4,FALSE)","v":{"$error":"#DIV/0!"}}]
[null,null,{"$f":"IF(C29>0,C29,0)","v":{"$error":"#DIV/0!"}},null,{"$f":"IF(E29>0,E29,0)","v":{"$error":"#DIV/0!"}}]
["Weidegrasopname/koe",null,{"$f":"IF('Feb voer'!B4=1,C30,0)","v":0},null,{"$f":"IF('Feb voer'!G4=1,E30,0)","v":0}]
[]
["Rantsoenopname incl weidegras"]
["droge stof",null,{"$f":"C22+C31","v":21.459083783783779},null,{"$f":"E22+E31","v":21.976107444668006}]
["VEM",null,{"$f":"C45*C22+C31*VLOOKUP('Feb voer'!B5,Weidegras!$A$6:$J$180,4,FALSE)","v":20637.947151891887},null,{"$f":"E45*E22+E31*VLOOKUP('Feb voer'!G5,Weidegras!$A$6:$J$180,4,FALSE)","v":21431.345321287725}]
["DVE",null,{"$f":"C46*C22+$C$31*VLOOKUP('Feb voer'!B5,Weidegras!$A$5:$J$150,5,FALSE)","v":{"$error":"#N/A"}},null,{"$f":"E46*E22+$C$31*VLOOKUP('Feb voer'!G5,Weidegras!$A$5:$J$150,5,FALSE)","v":{"$error":"#N/A"}}]
["OEB",null,{"$f":"C22*C47+$C$31*VLOOKUP('Feb voer'!B5,Weidegras!$A$6:$J$151,6,FALSE)","v":{"$error":"#N/A"}},null,{"$f":"E22*E47+$C$31*VLOOKUP('Feb voer'!G5,Weidegras!$A$6:$J$151,6,FALSE)","v":{"$error":"#N/A"}}]
["RE",null,{"$f":"C48*C22+C31*VLOOKUP('Feb voer'!$B$5,Weidegras!$A$6:$J$181,7,FALSE)","v":3377.8318243243239},null,{"$f":"E48*E22+E31*VLOOKUP('Feb voer'!$B$5,Weidegras!$A$6:$J$181,7,FALSE)","v":2467.6838732394367}]
["N",null,{"$f":"C38/6.25","v":540.45309189189186},null,{"$f":"E38/6.25","v":394.82941971830985}]
["P",null,{"$f":"C50*C22+C31*VLOOKUP('Feb voer'!$B$5,Weidegras!$A$6:$J$183,10,FALSE)","v":85.70562345945946},null,{"$f":"E50*E22+E31*VLOOKUP('Feb voer'!$B$5,Weidegras!$A$6:$J$183,10,FALSE)","v":65.01177656338028}]
[]
[]
["Stalrantsoen gehaltes"]
["droge stof"]
["VEM",null,{"$f":"C56/C$55","v":961.73477674231333},null,{"$f":"E56/E$55","v":975.21116399927075}]
["DVE",null,{"$f":"C57/C$55*1000","v":{"$error":"#N/A"}},null,{"$f":"E57/E$55*1000","v":{"$error":"#N/A"}}]
["OEB",null,{"$f":"C58/C$55","v":{"$error":"#N/A"}},null,{"$f":"E58/E$55","v":{"$error":"#N/A"}}]
["RE",null,{"$f":"C59/C$55","v":157.4080169665439},null,112.28939790418448]
["N",null,{"$f":"C60/C$55","v":25.185282714647023},null,17.966303664669518]
["P",null,{"$f":"C61/C$55","v":3.9939087951287822},null,2.9582935343335284]
[]
[]
[]
["Stalrantsoen opname"]
["droge stof (kg)",null,{"$f":"C80","v":1587.9721999999997},null,1560.3036285714284]
["VEM",null,{"$f":"C96","v":1527208.0892399999},null,1521625.5178114285]
["DVE",null,{"$f":"C112","v":{"$error":"#N/A"}},null,{"$f":"E112","v":{"$error":"#N/A"}}]
["OEB",null,{"$f":"C128","v":{"$error":"#N/A"}},null,{"$f":"E128","v":{"$error":"#N/A"}}]
["RE",null,{"$f":"C144","v":249959.55499999999},null,{"$f":"E144","v":175205.55499999999}]
["N",null,{"$f":"C146","v":39993.5288},null,{"$f":"E146","v":28032.888800000001}]
["P",null,{"$f":"C162","v":6342.216136},null,{"$f":"E162","v":4615.8361359999999}]
[]
[]
[]
["Drogestof opname"]
[{"$f":"'Feb voer'!A9","v":"Kuilgras"},{"$f":"'Feb voer'!B9","v":"Gkuil 1e snede 2016"},{"$f":"IF('Feb voer'!C9>0,VLOOKUP('Feb voer'!B9,Voedermiddelen!$A$4:$K$75,3,FALSE)*'Feb voer'!C9*(1-'Feb voer'!$B$6),\"\")","v":283.28999999999996},{"$f":"'Feb voer'!G9","v":"Gkuil 1e snede 2016"},{"$f":"IF('Feb voer'!H9>0,VLOOKUP('Feb voer'!G9,Voedermiddelen!$A$4:$K$75,3,FALSE)*'Feb voer'!H9*(1-'Feb voer'!$G$6),\"\")","v":283.28999999999996}]
[{"$f":"'Feb voer'!A10","v":"Snijmais"},{"$f":"'Feb voer'!B10","v":"Mkuil 1"},{"$f":"IF('Feb voer'!C10>0,VLOOKUP('Feb voer'!B10,Voedermiddelen!$A$4:$K$75,3,FALSE)*'Feb voer'!C10*(1-'Feb voer'!$B$6),\"\")","v":249.12419999999997},{"$f":"'Feb voer'!G10","v":"Mkuil 1"},{"$f":"IF('Feb voer'!H10>0,VLOOKUP('Feb voer'!G10,Voedermiddelen!$A$4:$K$75,3,FALSE)*'Feb voer'!H10*(1-'Feb voer'!$G$6),\"\")","v":249.12419999999997}]
[{"$f":"'Feb voer'!A11","v":"OverigRuwvoer"},{"$f":"'Feb voer'!B11","v":"Overig 1"},{"$f":"IF('Feb voer'!C11>0,VLOOKUP('Feb voer'!B11,Voedermiddelen!$A$4:$K$75,3,FALSE)*'Feb voer'!C11*(1-'Feb voer'!$B$6),\"\")","v":""},{"$f":"'Feb voer'!G11","v":"Overig 1"},{"$f":"IF('Feb voer'!H11>0,VLOOKUP('Feb voer'!G11,Voedermiddelen!$A$4:$K$75,3,FALSE)*'Feb voer'!H11*(1-'Feb voer'!$G$6),\"\")","v":""}]
[{"$f":"'Feb voer'!A12","v":"Bijproducten"},{"$f":"'Feb voer'!B12","v":"Bierbostel"},{"$f":"IF('Feb voer'!C12>0,VLOOKUP('Feb voer'!B12,Voedermiddelen!$A$4:$K$75,3,FALSE)*'Feb voer'!C12*(1-'Feb voer'!$B$6),\"\")","v":54.092999999999996},{"$f":"'Feb voer'!G12","v":"Bierbostel"},{"$f":"IF('Feb voer'!H12>0,VLOOKUP('Feb voer'!G12,Voedermiddelen!$A$4:$K$75,3,FALSE)*'Feb voer'!H12*(1-'Feb voer'!$G$6),\"\")","v":54.092999999999996}]
[{"$f":"'Feb voer'!A13","v":"Bijproducten"},{"$f":"'Feb voer'!B13","v":"sodagrain"},{"$f":"IF('Feb voer'!C13>0,VLOOKUP('Feb voer'!B13,Voedermiddelen!$A$4:$K$75,3,FALSE)*'Feb voer'!C13*(1-'Feb voer'!$B$6),\"\")","v":114},{"$f":"'Feb voer'!G13","v":"sodagrain"},{"$f":"IF('Feb voer'!H13>0,VLOOKUP('Feb voer'!G13,Voedermiddelen!$A$4:$K$75,3,FALSE)*'Feb voer'!H13*(1-'Feb voer'!$G$6),\"\")","v":114}]
[{"$f":"'Feb voer'!A14","v":"Bijproducten"},{"$f":"'Feb voer'!B14","v":"BP 6"},{"$f":"IF('Feb voer'!C14>0,VLOOKUP('Feb voer'!B14,Voedermiddelen!$A$4:$K$75,3,FALSE)*'Feb voer'!C14*(1-'Feb voer'!$B$6),\"\")","v":""},{"$f":"'Feb voer'!G14","v":"BP 6"},{"$f":"IF('Feb voer'!H14>0,VLOOKUP('Feb voer'!G14,Voedermiddelen!$A$4:$K$75,3,FALSE)*'Feb voer'!H14*(1-'Feb voer'!$G$6),\"\")","v":""}]
[{"$f":"'Feb voer'!A15","v":"Kuilgras"},{"$f":"'Feb voer'!B15","v":"Gkuil 2 2e snede 2015"},{"$f":"IF('Feb voer'!C15>0,VLOOKUP('Feb voer'!B15,Voedermiddelen!$A$4:$K$75,3,FALSE)*'Feb voer'!C15*(1-'Feb voer'!$B$6),\"\")","v":519.36500000000001},{"$f":"'Feb voer'!G15","v":"Gkuil 2 2e snede 2015"},{"$f":"IF('Feb voer'!H15>0,VLOOKUP('Feb voer'!G15,Voedermiddelen!$A$4:$K$75,3,FALSE)*'Feb voer'!H15*(1-'Feb voer'!$G$6),\"\")","v":519.36500000000001}]
[{"$f":"'Feb voer'!A16","v":0},{"$f":"'Feb voer'!B16","v":0},{"$f":"IF('Feb voer'!C16>0,VLOOKUP('Feb voer'!B16,Voedermiddelen!$A$4:$K$75,3,FALSE)*'Feb voer'!C16*(1-'Feb voer'!$B$6),\"\")","v":""},{"$f":"'Feb voer'!G16","v":0},{"$f":"IF('Feb voer'!H16>0,VLOOKUP('Feb voer'!G16,Voedermiddelen!$A$4:$K$75,3,FALSE)*'Feb voer'!H16*(1-'Feb voer'!$G$6),\"\")","v":""}]
[{"$f":"'Feb voer'!A17","v":0},{"$f":"'Feb voer'!B17","v":0},{"$f":"IF('Feb voer'!C17>0,VLOOKUP('Feb voer'!B17,Voedermiddelen!$A$4:$K$75,3,FALSE)*'Feb voer'!C17*(1-'Feb voer'!$B$6),\"\")","v":""},{"$f":"'Feb voer'!G17","v":0},{"$f":"IF('Feb voer'!H17>0,VLOOKUP('Feb voer'!G17,Voedermiddelen!$A$4:$K$75,3,FALSE)*'Feb voer'!H17*(1-'Feb voer'!$G$6),\"\")","v":""}]
[null,{"$f":"'Feb voer'!B18","v":0},{"$f":"IF('Feb voer'!C18>0,VLOOKUP('Feb voer'!B18,Voedermiddelen!$A$4:$K$75,3,FALSE)*'Feb voer'!C18*(1-'Feb voer'!$B$6),\"\")","v":""},{"$f":"'Feb voer'!G18","v":0},{"$f":"IF('Feb voer'!H18>0,VLOOKUP('Feb voer'!G18,Voedermiddelen!$A$4:$K$75,3,FALSE)*'Feb voer'!H18*(1-'Feb voer'!$G$6),\"\")","v":""}]
[null,{"$f":"'Feb voer'!B20","v":"KV 1"},{"$f":"IF('Feb voer'!C20>0,VLOOKUP('Feb voer'!B20,Voedermiddelen!$A$4:$K$75,3,FALSE)*'Feb voer'!C20,\"\")","v":""},null,{"$f":"'Feb voer'!H22*'Feb vee+melk'!E15/100*0.9","v":340.43142857142863}]
[null,{"$f":"'Feb voer'!B21","v":"KV 2"},{"$f":"IF('Feb voer'!C21>0,VLOOKUP('Feb voer'!B21,Voedermiddelen!$A$4:$K$75,3,FALSE)*'Feb voer'!C21,\"\")","v":251.1}]
[null,{"$f":"'Feb voer'!B22","v":"snijmaiskernbrok"},{"$f":"IF('Feb voer'!C22>0,VLOOKUP('Feb voer'!B22,Voedermiddelen!$A$4:$K$75,3,FALSE)*'Feb voer'!C22,\"\")","v":117}]
[]
["Totaal",null,{"$f":"SUM(C66:C78)","v":1587.9721999999997},null,{"$f":"SUM(E66:E78)","v":1560.3036285714284}]
[]
["VEM",{"$f":"B66","v":"Gkuil 1e snede 2016"},{"$f":"IF('Feb voer'!C9>0,VLOOKUP('Feb voer'!B9,Voedermiddelen!$A$4:$K$75,4,FALSE)*C66,\"\")","v":274508.00999999995},{"$f":"D66","v":"Gkuil 1e snede 2016"},{"$f":"IF('Feb voer'!H9>0,VLOOKUP('Feb voer'!G9,Voedermiddelen!$A$4:$K$75,4,FALSE)*E66,\"\")","v":274508.00999999995}]
[null,{"$f":"B67","v":"Mkuil 1"},{"$f":"IF('Feb voer'!C10>0,VLOOKUP('Feb voer'!B10,Voedermiddelen!$A$4:$K$75,4,FALSE)*C67,\"\")","v":249672.27323999998},"Mkuil 1",{"$f":"IF('Feb voer'!H10>0,VLOOKUP('Feb voer'!G10,Voedermiddelen!$A$4:$K$75,4,FALSE)*E67,\"\")","v":249672.27323999998}]
[null,"Overig 1",{"$f":"IF('Feb voer'!C11>0,VLOOKUP('Feb voer'!B11,Voedermiddelen!$A$4:$K$75,4,FALSE)*C68,\"\")","v":""},"Overig 1",{"$f":"IF('Feb voer'!H11>0,VLOOKUP('Feb voer'!G11,Voedermiddelen!$A$4:$K$75,4,FALSE)*E68,\"\")","v":""}]
[null,"Bierbostel",{"$f":"IF('Feb voer'!C12>0,VLOOKUP('Feb voer'!B12,Voedermiddelen!$A$4:$K$75,4,FALSE)*C69,\"\")","v":51226.070999999996},"Bierbostel",{"$f":"IF('Feb voer'!H12>0,VLOOKUP('Feb voer'!G12,Voedermiddelen!$A$4:$K$75,4,FALSE)*E69,\"\")","v":51226.070999999996}]
[null,"sodagrain",{"$f":"IF('Feb voer'!C13>0,VLOOKUP('Feb voer'!B13,Voedermiddelen!$A$4:$K$75,4,FALSE)*C70,\"\")","v":118104},"sodagrain",{"$f":"IF('Feb voer'!H13>0,VLOOKUP('Feb voer'!G13,Voedermiddelen!$A$4:$K$75,4,FALSE)*E70,\"\")","v":118104}]
[null,"BP 6",{"$f":"IF('Feb voer'!C14>0,VLOOKUP('Feb voer'!B14,Voedermiddelen!$A$4:$K$75,4,FALSE)*C71,\"\")","v":""},"BP 6",{"$f":"IF('Feb voer'!H14>0,VLOOKUP('Feb voer'!G14,Voedermiddelen!$A$4:$K$75,4,FALSE)*E71,\"\")","v":""}]
[null,"Gkuil 2 2e snede 2015",{"$f":"IF('Feb voer'!C15>0,VLOOKUP('Feb voer'!B15,Voedermiddelen!$A$4:$K$75,4,FALSE)*C72,\"\")","v":487683.73499999999},"Gkuil 2 2e snede 2015",{"$f":"IF('Feb voer'!H15>0,VLOOKUP('Feb voer'!G15,Voedermiddelen!$A$4:$K$75,4,FALSE)*E72,\"\")","v":487683.73499999999}]
[null,0,{"$f":"IF('Feb voer'!C16>0,VLOOKUP('Feb voer'!B16,Voedermiddelen!$A$4:$K$75,4,FALSE)*C73,\"\")","v":""},0,{"$f":"IF('Feb voer'!H16>0,VLOOKUP('Feb voer'!G16,Voedermiddelen!$A$4:$K$75,4,FALSE)*E73,\"\")","v":""}]
[null,0,{"$f":"IF('Feb voer'!C17>0,VLOOKUP('Feb voer'!B17,Voedermiddelen!$A$4:$K$75,4,FALSE)*C74,\"\")","v":""},0,{"$f":"IF('Feb voer'!H17>0,VLOOKUP('Feb voer'!G17,Voedermiddelen!$A$4:$K$75,4,FALSE)*E74,\"\")","v":""}]
[null,0,{"$f":"IF('Feb voer'!C18>0,VLOOKUP('Feb voer'!B18,Voedermiddelen!$A$4:$K$75,4,FALSE)*C75,\"\")","v":""},0,{"$f":"IF('Feb voer'!H18>0,VLOOKUP('Feb voer'!G18,Voedermiddelen!$A$4:$K$75,4,FALSE)*E75,\"\")","v":""}]
[null,"KV 1",{"$f":"IF('Feb voer'!C20>0,VLOOKUP('Feb voer'!B20,Voedermiddelen!$A$4:$K$75,4,FALSE)*C76,\"\")","v":""},0,{"$f":"E76*1000","v":340431.42857142864}]
[null,"KV 2",{"$f":"IF('Feb voer'!C21>0,VLOOKUP('Feb voer'!B21,Voedermiddelen!$A$4:$K$75,4,FALSE)*C77,\"\")","v":236034},0]
[null,"snijmaiskernbrok",{"$f":"IF('Feb voer'!C22>0,VLOOKUP('Feb voer'!B22,Voedermiddelen!$A$4:$K$75,4,FALSE)*C78,\"\")","v":109980},0]
[]
["Totaal",null,{"$f":"SUM(C82:C94)","v":1527208.0892399999},null,{"$f":"SUM(E82:E94)","v":1521625.5178114285}]
[]
["DVE",{"$f":"B82","v":"Gkuil 1e snede 2016"},{"$f":"IF('Feb voer'!C9>0,VLOOKUP('Feb voer'!B9,[2]Voedermiddelen!$A$4:$K$75,5,FALSE)*C66,\"\")","v":{"$error":"#N/A"}},{"$f":"D82","v":"Gkuil 1e snede 2016"},{"$f":"IF('Feb voer'!H9>0,VLOOKUP('Feb voer'!G9,[2]Voedermiddelen!$A$4:$K$75,5,FALSE)*E66,\"\")","v":{"$error":"#N/A"}}]
[null,{"$f":"B83","v":"Mkuil 1"},{"$f":"IF('Feb voer'!C10>0,VLOOKUP('Feb voer'!B10,[2]Voedermiddelen!$A$4:$K$75,5,FALSE)*C67,\"\")","v":17787.46788},"Mkuil 1",{"$f":"IF('Feb voer'!H10>0,VLOOKUP('Feb voer'!G10,[2]Voedermiddelen!$A$4:$K$75,5,FALSE)*E67,\"\")","v":17787.46788}]
[null,"Overig 1",{"$f":"IF('Feb voer'!C11>0,VLOOKUP('Feb voer'!B11,[2]Voedermiddelen!$A$4:$K$75,5,FALSE)*C68,\"\")","v":""},"Overig 1",{"$f":"IF('Feb voer'!H11>0,VLOOKUP('Feb voer'!G11,[2]Voedermiddelen!$A$4:$K$75,5,FALSE)*E68,\"\")","v":""}]
[null,"Bierbostel",{"$f":"IF('Feb voer'!C12>0,VLOOKUP('Feb voer'!B12,[2]Voedermiddelen!$A$4:$K$75,5,FALSE)*C69,\"\")","v":7410.7409999999991},"Bierbostel",{"$f":"IF('Feb voer'!H12>0,VLOOKUP('Feb voer'!G12,[2]Voedermiddelen!$A$4:$K$75,5,FALSE)*E69,\"\")","v":7410.7409999999991}]
[null,"sodagrain",{"$f":"IF('Feb voer'!C13>0,VLOOKUP('Feb voer'!B13,[2]Voedermiddelen!$A$4:$K$75,5,FALSE)*C70,\"\")","v":{"$error":"#N/A"}},"sodagrain",{"$f":"IF('Feb voer'!H13>0,VLOOKUP('Feb voer'!G13,[2]Voedermiddelen!$A$4:$K$75,5,FALSE)*E70,\"\")","v":{"$error":"#N/A"}}]
[null,"BP 6",{"$f":"IF('Feb voer'!C14>0,VLOOKUP('Feb voer'!B14,[2]Voedermiddelen!$A$4:$K$75,5,FALSE)*C71,\"\")","v":""},"BP 6",{"$f":"IF('Feb voer'!H14>0,VLOOKUP('Feb voer'!G14,[2]Voedermiddelen!$A$4:$K$75,5,FALSE)*E71,\"\")","v":""}]
[null,"Gkuil 2 2e snede 2015",{"$f":"IF('Feb voer'!C15>0,VLOOKUP('Feb voer'!B15,[2]Voedermiddelen!$A$4:$K$75,5,FALSE)*C72,\"\")","v":{"$error":"#N/A"}},"Gkuil 2 2e snede 2015",{"$f":"IF('Feb voer'!H15>0,VLOOKUP('Feb voer'!G15,[2]Voedermiddelen!$A$4:$K$75,5,FALSE)*E72,\"\")","v":{"$error":"#N/A"}}]
[null,0,{"$f":"IF('Feb voer'!C16>0,VLOOKUP('Feb voer'!B16,[2]Voedermiddelen!$A$4:$K$75,5,FALSE)*C73,\"\")","v":""},0,{"$f":"IF('Feb voer'!H16>0,VLOOKUP('Feb voer'!G16,[2]Voedermiddelen!$A$4:$K$75,5,FALSE)*E73,\"\")","v":""}]
[null,0,{"$f":"IF('Feb voer'!C17>0,VLOOKUP('Feb voer'!B17,[2]Voedermiddelen!$A$4:$K$75,5,FALSE)*C74,\"\")","v":""},0,{"$f":"IF('Feb voer'!H17>0,VLOOKUP('Feb voer'!G17,[2]Voedermiddelen!$A$4:$K$75,5,FALSE)*E74,\"\")","v":""}]
[null,0,{"$f":"IF('Feb voer'!C18>0,VLOOKUP('Feb voer'!B18,[2]Voedermiddelen!$A$4:$K$75,5,FALSE)*C75,\"\")","v":""},0,{"$f":"IF('Feb voer'!H18>0,VLOOKUP('Feb voer'!G18,[2]Voedermiddelen!$A$4:$K$75,5,FALSE)*E75,\"\")","v":""}]
[null,"KV 1",{"$f":"IF('Feb voer'!C20>0,VLOOKUP('Feb voer'!B20,[2]Voedermiddelen!$A$4:$K$75,5,FALSE)*C76,\"\")","v":""},0]
[null,"KV 2",{"$f":"IF('Feb voer'!C21>0,VLOOKUP('Feb voer'!B21,[2]Voedermiddelen!$A$4:$K$75,5,FALSE)*C77,\"\")","v":27621},0]
[null,"snijmaiskernbrok",{"$f":"IF('Feb voer'!C22>0,VLOOKUP('Feb voer'!B22,[2]Voedermiddelen!$A$4:$K$75,5,FALSE)*C78,\"\")","v":{"$error":"#N/A"}},0]
[]
["Totaal",null,{"$f":"SUM(C98:C110)/1000","v":{"$error":"#N/A"}},null,{"$f":"SUM(E98:E110)/1000","v":{"$error":"#N/A"}}]
[]
["OEB",{"$f":"B98","v":"Gkuil 1e snede 2016"},{"$f":"IF('Feb voer'!C9>0,VLOOKUP('Feb voer'!B9,[2]Voedermiddelen!$A$4:$K$75,6,FALSE)*C66,\"\")","v":{"$error":"#N/A"}},{"$f":"D98","v":"Gkuil 1e snede 2016"},{"$f":"IF('Feb voer'!H9>0,VLOOKUP('Feb voer'!G9,[2]Voedermiddelen!$A$4:$K$75,6,FALSE)*E66,\"\")","v":{"$error":"#N/A"}}]
[null,{"$f":"B99","v":"Mkuil 1"},{"$f":"IF('Feb voer'!C10>0,VLOOKUP('Feb voer'!B10,[2]Voedermiddelen!$A$4:$K$75,6,FALSE)*C67,\"\")","v":-6826.0030799999986},"Mkuil 1",{"$f":"IF('Feb voer'!H10>0,VLOOKUP('Feb voer'!G10,[2]Voedermiddelen!$A$4:$K$75,6,FALSE)*E67,\"\")","v":-6826.0030799999986}]
[null,"Overig 1",{"$f":"IF('Feb voer'!C11>0,VLOOKUP('Feb voer'!B11,[2]Voedermiddelen!$A$4:$K$75,6,FALSE)*C68,\"\")","v":""},"Overig 1",{"$f":"IF('Feb voer'!H11>0,VLOOKUP('Feb voer'!G11,[2]Voedermiddelen!$A$4:$K$75,6,FALSE)*E68,\"\")","v":""}]
[null,"Bierbostel",{"$f":"IF('Feb voer'!C12>0,VLOOKUP('Feb voer'!B12,[2]Voedermiddelen!$A$4:$K$75,6,FALSE)*C69,\"\")","v":2975.1149999999998},"Bierbostel",{"$f":"IF('Feb voer'!H12>0,VLOOKUP('Feb voer'!G12,[2]Voedermiddelen!$A$4:$K$75,6,FALSE)*E69,\"\")","v":2975.1149999999998}]
[null,"sodagrain",{"$f":"IF('Feb voer'!C13>0,VLOOKUP('Feb voer'!B13,[2]Voedermiddelen!$A$4:$K$75,6,FALSE)*C70,\"\")","v":{"$error":"#N/A"}},"sodagrain",{"$f":"IF('Feb voer'!H13>0,VLOOKUP('Feb voer'!G13,[2]Voedermiddelen!$A$4:$K$75,6,FALSE)*E70,\"\")","v":{"$error":"#N/A"}}]
[null,"BP 6",{"$f":"IF('Feb voer'!C14>0,VLOOKUP('Feb voer'!B14,[2]Voedermiddelen!$A$4:$K$75,6,FALSE)*C71,\"\")","v":""},"BP 6",{"$f":"IF('Feb voer'!H14>0,VLOOKUP('Feb voer'!G14,[2]Voedermiddelen!$A$4:$K$75,6,FALSE)*E71,\"\")","v":""}]
[null,"Gkuil 2 2e snede 2015",{"$f":"IF('Feb voer'!C15>0,VLOOKUP('Feb voer'!B15,[2]Voedermiddelen!$A$4:$K$75,6,FALSE)*C72,\"\")","v":{"$error":"#N/A"}},"Gkuil 2 2e snede 2015",{"$f":"IF('Feb voer'!H15>0,VLOOKUP('Feb voer'!G15,[2]Voedermiddelen!$A$4:$K$75,6,FALSE)*E72,\"\")","v":{"$error":"#N/A"}}]
[null,0,{"$f":"IF('Feb voer'!C16>0,VLOOKUP('Feb voer'!B16,[2]Voedermiddelen!$A$4:$K$75,6,FALSE)*C73,\"\")","v":""},0,{"$f":"IF('Feb voer'!H16>0,VLOOKUP('Feb voer'!G16,[2]Voedermiddelen!$A$4:$K$75,6,FALSE)*E73,\"\")","v":""}]
[null,0,{"$f":"IF('Feb voer'!C17>0,VLOOKUP('Feb voer'!B17,[2]Voedermiddelen!$A$4:$K$75,6,FALSE)*C74,\"\")","v":""},0,{"$f":"IF('Feb voer'!H17>0,VLOOKUP('Feb voer'!G17,[2]Voedermiddelen!$A$4:$K$75,6,FALSE)*E74,\"\")","v":""}]
[null,0,{"$f":"IF('Feb voer'!C18>0,VLOOKUP('Feb voer'!B18,[2]Voedermiddelen!$A$4:$K$75,6,FALSE)*C75,\"\")","v":""},0,{"$f":"IF('Feb voer'!H18>0,VLOOKUP('Feb voer'!G18,[2]Voedermiddelen!$A$4:$K$75,6,FALSE)*E75,\"\")","v":""}]
[null,"KV 1",{"$f":"IF('Feb voer'!C20>0,VLOOKUP('Feb voer'!B20,[2]Voedermiddelen!$A$4:$K$75,6,FALSE)*C76,\"\")","v":""},0]
[null,"KV 2",{"$f":"IF('Feb voer'!C21>0,VLOOKUP('Feb voer'!B21,[2]Voedermiddelen!$A$4:$K$75,6,FALSE)*C77,\"\")","v":12555},0]
[null,"snijmaiskernbrok",{"$f":"IF('Feb voer'!C22>0,VLOOKUP('Feb voer'!B22,[2]Voedermiddelen!$A$4:$K$75,6,FALSE)*C78,\"\")","v":{"$error":"#N/A"}},0]
[]
["Totaal",null,{"$f":"SUM(C114:C126)","v":{"$error":"#N/A"}},null,{"$f":"SUM(E114:E126)","v":{"$error":"#N/A"}}]
[]
["RE",{"$f":"B114","v":"Gkuil 1e snede 2016"},{"$f":"IF('Feb voer'!C9>0,VLOOKUP('Feb voer'!B9,Voedermiddelen!$A$4:$K$75,7,FALSE)*C66,\"\")","v":48159.299999999996},{"$f":"D114","v":"Gkuil 1e snede 2016"},{"$f":"IF('Feb voer'!H9>0,VLOOKUP('Feb voer'!G9,Voedermiddelen!$A$4:$K$75,7,FALSE)*E66,\"\")","v":48159.299999999996}]
[null,{"$f":"B115","v":"Mkuil 1"},{"$f":"IF('Feb voer'!C10>0,VLOOKUP('Feb voer'!B10,Voedermiddelen!$A$4:$K$75,7,FALSE)*C67,\"\")","v":17438.694},"Mkuil 1",{"$f":"IF('Feb voer'!H10>0,VLOOKUP('Feb voer'!G10,Voedermiddelen!$A$4:$K$75,7,FALSE)*E67,\"\")","v":17438.694}]
[null,"Overig 1",{"$f":"IF('Feb voer'!C11>0,VLOOKUP('Feb voer'!B11,Voedermiddelen!$A$4:$K$75,7,FALSE)*C68,\"\")","v":""},"Overig 1",{"$f":"IF('Feb voer'!H11>0,VLOOKUP('Feb voer'!G11,Voedermiddelen!$A$4:$K$75,7,FALSE)*E68,\"\")","v":""}]
[null,"Bierbostel",{"$f":"IF('Feb voer'!C12>0,VLOOKUP('Feb voer'!B12,Voedermiddelen!$A$4:$K$75,7,FALSE)*C69,\"\")","v":13360.971},"Bierbostel",{"$f":"IF('Feb voer'!H12>0,VLOOKUP('Feb voer'!G12,Voedermiddelen!$A$4:$K$75,7,FALSE)*E69,\"\")","v":13360.971}]
[null,"sodagrain",{"$f":"IF('Feb voer'!C13>0,VLOOKUP('Feb voer'!B13,Voedermiddelen!$A$4:$K$75,7,FALSE)*C70,\"\")","v":10032},"sodagrain",{"$f":"IF('Feb voer'!H13>0,VLOOKUP('Feb voer'!G13,Voedermiddelen!$A$4:$K$75,7,FALSE)*E70,\"\")","v":10032}]
[null,"BP 6",{"$f":"IF('Feb voer'!C14>0,VLOOKUP('Feb voer'!B14,Voedermiddelen!$A$4:$K$75,7,FALSE)*C71,\"\")","v":""},"BP 6",{"$f":"IF('Feb voer'!H14>0,VLOOKUP('Feb voer'!G14,Voedermiddelen!$A$4:$K$75,7,FALSE)*E71,\"\")","v":""}]
[null,"Gkuil 2 2e snede 2015",{"$f":"IF('Feb voer'!C15>0,VLOOKUP('Feb voer'!B15,Voedermiddelen!$A$4:$K$75,7,FALSE)*C72,\"\")","v":86214.59},"Gkuil 2 2e snede 2015",{"$f":"IF('Feb voer'!H15>0,VLOOKUP('Feb voer'!G15,Voedermiddelen!$A$4:$K$75,7,FALSE)*E72,\"\")","v":86214.59}]
[null,0,{"$f":"IF('Feb voer'!C16>0,VLOOKUP('Feb voer'!B16,Voedermiddelen!$A$4:$K$75,7,FALSE)*C73,\"\")","v":""},0,{"$f":"IF('Feb voer'!H16>0,VLOOKUP('Feb voer'!G16,Voedermiddelen!$A$4:$K$75,7,FALSE)*E73,\"\")","v":""}]
[null,0,{"$f":"IF('Feb voer'!C17>0,VLOOKUP('Feb voer'!B17,Voedermiddelen!$A$4:$K$75,7,FALSE)*C74,\"\")","v":""},0,{"$f":"IF('Feb voer'!H17>0,VLOOKUP('Feb voer'!G17,Voedermiddelen!$A$4:$K$75,7,FALSE)*E74,\"\")","v":""}]
[null,0,{"$f":"IF('Feb voer'!C18>0,VLOOKUP('Feb voer'!B18,Voedermiddelen!$A$4:$K$75,7,FALSE)*C75,\"\")","v":""},0,{"$f":"IF('Feb voer'!H18>0,VLOOKUP('Feb voer'!G18,Voedermiddelen!$A$4:$K$75,7,FALSE)*E75,\"\")","v":""}]
[null,"KV 1",{"$f":"IF('Feb voer'!C20>0,VLOOKUP('Feb voer'!B20,Voedermiddelen!$A$4:$K$75,7,FALSE)*C76,\"\")","v":""},0]
[null,"KV 2",{"$f":"IF('Feb voer'!C21>0,VLOOKUP('Feb voer'!B21,Voedermiddelen!$A$4:$K$75,7,FALSE)*C77,\"\")","v":37665},0]
[null,{"$f":"B126","v":"snijmaiskernbrok"},{"$f":"IF('Feb voer'!C22>0,VLOOKUP('Feb voer'!B22,Voedermiddelen!$A$4:$K$75,7,FALSE)*C78,\"\")","v":37089},0]
[]
["Totaal",null,{"$f":"SUM(C130:C142)","v":249959.55499999999},null,{"$f":"SUM(E130:E142)","v":175205.55499999999}]
[]
["N opname",null,{"$f":"C144/6.25","v":39993.5288},null,{"$f":"E144/6.25","v":28032.888800000001},null,{"$f":"(E76/0.9*'Feb voer'!M6/6.25)","v":10662.641188571422}]
[]
["P",{"$f":"B130","v":"Gkuil 1e snede 2016"},{"$f":"IF('Feb voer'!C9>0,VLOOKUP('Feb voer'!B9,Voedermiddelen!$A$4:$K$75,10,FALSE)*C66,\"\")","v":1019.8439999999999},{"$f":"D130","v":"Gkuil 1e snede 2016"},{"$f":"IF('Feb voer'!H9>0,VLOOKUP('Feb voer'!G9,Voedermiddelen!$A$4:$K$75,10,FALSE)*E66,\"\")","v":1019.8439999999999}]
[null,{"$f":"B131","v":"Mkuil 1"},{"$f":"IF('Feb voer'!C10>0,VLOOKUP('Feb voer'!B10,Voedermiddelen!$A$4:$K$75,10,FALSE)*C67,\"\")","v":767.3025359999998},"Mkuil 1",{"$f":"IF('Feb voer'!H10>0,VLOOKUP('Feb voer'!G10,Voedermiddelen!$A$4:$K$75,10,FALSE)*E67,\"\")","v":767.3025359999998}]
[null,"Overig 1",{"$f":"IF('Feb voer'!C11>0,VLOOKUP('Feb voer'!B11,Voedermiddelen!$A$4:$K$75,10,FALSE)*C68,\"\")","v":""},"Overig 1",{"$f":"IF('Feb voer'!H11>0,VLOOKUP('Feb voer'!G11,Voedermiddelen!$A$4:$K$75,10,FALSE)*E68,\"\")","v":""}]
[null,"Bierbostel",{"$f":"IF('Feb voer'!C12>0,VLOOKUP('Feb voer'!B12,Voedermiddelen!$A$4:$K$75,10,FALSE)*C69,\"\")","v":281.28359999999998},"Bierbostel",{"$f":"IF('Feb voer'!H12>0,VLOOKUP('Feb voer'!G12,Voedermiddelen!$A$4:$K$75,10,FALSE)*E69,\"\")","v":281.28359999999998}]
[null,"sodagrain",{"$f":"IF('Feb voer'!C13>0,VLOOKUP('Feb voer'!B13,Voedermiddelen!$A$4:$K$75,10,FALSE)*C70,\"\")","v":262.2},"sodagrain",{"$f":"IF('Feb voer'!H13>0,VLOOKUP('Feb voer'!G13,Voedermiddelen!$A$4:$K$75,10,FALSE)*E70,\"\")","v":262.2}]
[null,"BP 6",{"$f":"IF('Feb voer'!C14>0,VLOOKUP('Feb voer'!B14,Voedermiddelen!$A$4:$K$75,10,FALSE)*C71,\"\")","v":""},"BP 6",{"$f":"IF('Feb voer'!H14>0,VLOOKUP('Feb voer'!G14,Voedermiddelen!$A$4:$K$75,10,FALSE)*E71,\"\")","v":""}]
[null,"Gkuil 2 2e snede 2015",{"$f":"IF('Feb voer'!C15>0,VLOOKUP('Feb voer'!B15,Voedermiddelen!$A$4:$K$75,10,FALSE)*C72,\"\")","v":2285.2060000000001},"Gkuil 2 2e snede 2015",{"$f":"IF('Feb voer'!H15>0,VLOOKUP('Feb voer'!G15,Voedermiddelen!$A$4:$K$75,10,FALSE)*E72,\"\")","v":2285.2060000000001}]
[null,0,{"$f":"IF('Feb voer'!C16>0,VLOOKUP('Feb voer'!B16,Voedermiddelen!$A$4:$K$75,10,FALSE)*C73,\"\")","v":""},0,{"$f":"IF('Feb voer'!H16>0,VLOOKUP('Feb voer'!G16,Voedermiddelen!$A$4:$K$75,10,FALSE)*E73,\"\")","v":""}]
[null,0,{"$f":"IF('Feb voer'!C17>0,VLOOKUP('Feb voer'!B17,Voedermiddelen!$A$4:$K$75,10,FALSE)*C74,\"\")","v":""},0,{"$f":"IF('Feb voer'!H17>0,VLOOKUP('Feb voer'!G17,Voedermiddelen!$A$4:$K$75,10,FALSE)*E74,\"\")","v":""}]
[null,0,{"$f":"IF('Feb voer'!C18>0,VLOOKUP('Feb voer'!B18,Voedermiddelen!$A$4:$K$75,10,FALSE)*C75,\"\")","v":""},0,{"$f":"IF('Feb voer'!H18>0,VLOOKUP('Feb voer'!G18,Voedermiddelen!$A$4:$K$75,10,FALSE)*E75,\"\")","v":""}]
[null,{"$f":"B140","v":"KV 1"},{"$f":"IF('Feb voer'!C20>0,VLOOKUP('Feb voer'!B20,Voedermiddelen!$A$4:$K$75,10,FALSE)*C76,\"\")","v":""},0]
[null,{"$f":"B141","v":"KV 2"},{"$f":"IF('Feb voer'!C21>0,VLOOKUP('Feb voer'!B21,Voedermiddelen!$A$4:$K$75,10,FALSE)*C77,\"\")","v":954.18},0]
[null,{"$f":"B142","v":"snijmaiskernbrok"},{"$f":"IF('Feb voer'!C22>0,VLOOKUP('Feb voer'!B22,Voedermiddelen!$A$4:$K$75,10,FALSE)*C78,\"\")","v":772.19999999999993},0]
[]
["Totaal",null,{"$f":"SUM(C148:C160)","v":6342.216136},null,{"$f":"SUM(E148:E160)","v":4615.8361359999999},null,{"$f":"(E76/0.9*'Feb voer'!M7)","v":1469.3480154285712}]

{"sheet":"Feb Excretie","index":60,"n_rows":25,"n_cols":5,"rows_kept":25,"cut":false,"hidden":true,"merged":[]}
["Veestapel"]
[null,null,{"$f":"'Feb vee+melk'!C6","v":"Februari gerealiseerd"},null,{"$f":"'Feb vee+melk'!E6","v":"Februari prognose"}]
[]
[]
["Excretie (kg/dier/dag)"]
[null,null,"N",null,"N"]
["Opname",null,{"$f":"'Feb Voeropname'!C2*'Feb Voeropname'!C7*0.001","v":0.54045309189189183},null,{"$f":"'Feb Voeropname'!E2*'Feb Voeropname'!E7*0.001+'Feb Voeropname'!G146*0.001/'Feb vee+melk'!E2","v":0.54715286526933016}]
["Gem opname 7 dgn",null,{"$f":"AVERAGE(C7:F7)","v":0.543802978580611},null,{"$f":"AVERAGE(E7)","v":0.54715286526933016}]
["Productie",null,{"$f":"'Feb vee+melk'!C22*'Feb vee+melk'!C10/6.38","v":0.15949739708360397},null,{"$f":"'Feb vee+melk'!E22*'Feb vee+melk'!E10/6.38","v":0.16468875951634573}]
["Vastlegging",null,{"$f":"1.4/365","v":3.8356164383561643E-3},null,{"$f":"1.4/365","v":3.8356164383561643E-3}]
["Onder de staart",null,{"$f":"C7-C9-C10","v":0.37712007836993167},null,{"$f":"E7-E9-E10","v":0.37862848931462822}]
["Vervluchtiging",null,{"$f":"C11*0.1175","v":4.4311609208466968E-2},null,{"$f":"E11*0.1175","v":4.4488847494468811E-2}]
["Gemeten netto excretie",null,{"$f":"C11-C12","v":0.33280846916146467},null,{"$f":"E11-E12","v":0.33413964182015943}]
[]
[null,null,"P",null,"P"]
["Opname",null,{"$f":"'Feb Voeropname'!C2*'Feb Voeropname'!C8/1000","v":8.5705623459459465E-2},null,{"$f":"'Feb Voeropname'!E2*'Feb Voeropname'!E8/1000+'Feb Voeropname'!G162*0.001/'Feb vee+melk'!E2","v":8.6002462498074153E-2}]
["Gem opname 7 dgn",null,{"$f":"AVERAGE(C16:F16)","v":8.5854042978766809E-2},null,{"$f":"AVERAGE(E16)","v":8.6002462498074153E-2}]
["Productie",null,{"$f":"'Feb vee+melk'!C22*0.9/1000","v":2.5725675675675675E-2},null,{"$f":"'Feb vee+melk'!E22*0.9/1000","v":2.6637826961770628E-2}]
["Vastlegging",null,{"$f":"0.5/365","v":1.3698630136986301E-3},null,{"$f":"0.5/365","v":1.3698630136986301E-3}]
["Onder de staart",null,{"$f":"C16-C18-C19","v":5.8610084770085162E-2},null,{"$f":"E16-E18-E19","v":5.7994772522604897E-2}]
["Vervluchtiging"]
["Gemeten netto excretie",null,{"$f":"C20","v":5.8610084770085162E-2},null,{"$f":"E20","v":5.7994772522604897E-2}]
[]
["N excretie per ton meetmelk (kg)",null,{"$f":"C13/'Feb vee+melk'!C21*1000","v":10.370131092982628},null,{"$f":"E13/'Feb vee+melk'!E21*1000","v":10.612525122873787}]
["P excretie per ton meetmelk (kg)",null,{"$f":"C22/'Feb vee+melk'!C21*1000","v":1.8262584001182118},null,{"$f":"E22/'Feb vee+melk'!E21*1000","v":1.8419573835622698}]

{"sheet":"Feb kengetallen","index":61,"n_rows":106,"n_cols":6,"rows_kept":106,"cut":false,"hidden":true,"merged":[]}
["Rantsoen"]
["Datum",null,{"$f":"'Feb voer'!B3","v":"Februari gerealiseerd"},null,{"$f":"'Feb voer'!G3","v":"Februari prognose"}]
[]
[{"$f":"'Feb Voeropname'!A2","v":"DS opname/koe"},null,{"$f":"'Feb Voeropname'!C2","v":21.459083783783779},null,{"$f":"'Feb Voeropname'!E2","v":21.976107444668006}]
[{"$f":"'Feb Voeropname'!A3","v":"VEM"},null,{"$f":"'Feb Voeropname'!C3","v":961.73477674231322},null,{"$f":"'Feb Voeropname'!E3","v":975.21116399927075}]
[{"$f":"'Feb Voeropname'!A4","v":"DVE"},null,{"$f":"'Feb Voeropname'!C4","v":{"$error":"#N/A"}},null,{"$f":"'Feb Voeropname'!E4","v":{"$error":"#N/A"}}]
[{"$f":"'Feb Voeropname'!A5","v":"OEB"},null,{"$f":"'Feb Voeropname'!C5","v":{"$error":"#N/A"}},null,{"$f":"'Feb Voeropname'!E5","v":{"$error":"#N/A"}}]
[{"$f":"'Feb Voeropname'!A6","v":"RE"},null,{"$f":"'Feb Voeropname'!C6","v":157.4080169665439},null,{"$f":"'Feb Voeropname'!E6","v":112.28939790418448}]
[{"$f":"'Feb Voeropname'!A7","v":"N"},null,{"$f":"'Feb Voeropname'!C7","v":25.185282714647023},null,{"$f":"'Feb Voeropname'!E7","v":17.966303664669518}]
[{"$f":"'Feb Voeropname'!A8","v":"P"},null,{"$f":"'Feb Voeropname'!C8","v":3.9939087951287822},null,{"$f":"'Feb Voeropname'!E8","v":2.9582935343335284}]
[]
["Streefwaarde RE",null,{"$f":"'Feb voer'!H20","v":155}]
["Streefwaarde P",null,{"$f":"'Feb voer'!H21","v":3.9}]
[]
[]
[{"$f":"'Feb Excretie'!A24","v":"N excretie per ton meetmelk (kg)"},null,{"$f":"'Feb Excretie'!C24","v":10.370131092982628},null,{"$f":"'Feb Excretie'!E24","v":10.612525122873787}]
[{"$f":"'Feb Excretie'!A25","v":"P excretie per ton meetmelk (kg)"},null,{"$f":"'Feb Excretie'!C25","v":1.8262584001182118},null,{"$f":"'Feb Excretie'!E25","v":1.8419573835622698}]
[]
[]
["VEM dekking",null,{"$f":"'Feb Voeropname'!C35/'Feb vee+melk'!C27","v":1.0378241468564988},null,{"$f":"'Feb Voeropname'!E35/'Feb vee+melk'!E27","v":1.0939802306103712}]
["DVE dekking",null,{"$f":"'Feb Voeropname'!C36/'Feb vee+melk'!C28","v":{"$error":"#N/A"}},null,{"$f":"'Feb Voeropname'!E36/'Feb vee+melk'!E28","v":{"$error":"#N/A"}}]
[]
[]
["Voerefficientie kg meetmelk/kg voer (ds)",null,{"$f":"'Feb vee+melk'!C21/'Feb Voeropname'!C2","v":1.4955431485826804},null,{"$f":"'Feb vee+melk'!E21/'Feb Voeropname'!E2","v":1.4327106909586875}]
["kg krachtvoer per 100 kg (excl bijprod)",null,{"$f":"SUM('Feb Voeropname'!C76:C78)/('Feb vee+melk'!C21*'Feb vee+melk'!C2)*100/0.9","v":17.94960253669927},null,{"$f":"SUM('Feb Voeropname'!E76:E78)/('Feb vee+melk'!E21*'Feb vee+melk'!E2)*100","v":15.446224256292906}]
[]
[]
[{"$f":"A12","v":"Streefwaarde RE"},null,{"$f":"$C$12","v":155},null,{"$f":"$C$12","v":155}]
[{"$f":"A13","v":"Streefwaarde P"},null,{"$f":"$C$13","v":3.9},null,{"$f":"$C$13","v":3.9}]
[]
[]
[]
[]
[{"$f":"A2","v":"Datum"},null,{"$f":"C2","v":"Februari gerealiseerd"},{"$f":"E2","v":"Februari prognose"},{"$f":"#REF!","v":{"$error":"#REF!"}},{"$f":"#REF!","v":{"$error":"#REF!"}}]
["00:00:00"]
["DS opname/koe",null,{"$f":"C4","v":21.459083783783779},{"$f":"E4","v":21.976107444668006},{"$f":"#REF!","v":{"$error":"#REF!"}},{"$f":"#REF!","v":{"$error":"#REF!"}}]
["VEM",null,961.73477674231322,975.21116399927075,{"$f":"#REF!","v":{"$error":"#REF!"}},{"$f":"#REF!","v":{"$error":"#REF!"}}]
["DVE",null,{"$error":"#N/A"},{"$error":"#N/A"},{"$f":"#REF!","v":{"$error":"#REF!"}},{"$f":"#REF!","v":{"$error":"#REF!"}}]
["OEB",null,{"$error":"#N/A"},{"$error":"#N/A"},{"$f":"#REF!","v":{"$error":"#REF!"}},{"$f":"#REF!","v":{"$error":"#REF!"}}]
["RE",null,157.4080169665439,112.28939790418448,{"$f":"#REF!","v":{"$error":"#REF!"}},{"$f":"#REF!","v":{"$error":"#REF!"}}]
["N",null,25.185282714647023,17.966303664669518,{"$f":"#REF!","v":{"$error":"#REF!"}},{"$f":"#REF!","v":{"$error":"#REF!"}}]
["P",null,3.9939087951287822,2.9582935343335284,{"$f":"#REF!","v":{"$error":"#REF!"}},{"$f":"#REF!","v":{"$error":"#REF!"}}]
[{"$f":"A15","v":"00:00:00"}]
["N excretie per ton meetmelk (kg)",null,{"$f":"C16","v":10.370131092982628},{"$f":"E16","v":10.612525122873787},{"$f":"#REF!","v":{"$error":"#REF!"}},{"$f":"#REF!","v":{"$error":"#REF!"}}]
["P excretie per ton meetmelk (kg)",null,1.8262584001182118,{"$f":"E17","v":1.8419573835622698},{"$f":"#REF!","v":{"$error":"#REF!"}},{"$f":"#REF!","v":{"$error":"#REF!"}}]
["00:00:00",null,{"$f":"1000/C45/2.29","v":239.11250602825848},{"$f":"1000/D45/2.29","v":237.07455264947555},{"$f":"1000/E45/2.29","v":{"$error":"#REF!"}},{"$f":"1000/F45/2.29","v":{"$error":"#REF!"}}]
[]
[]
["Rantsoen"]
[]
["Kuilgras",null,{"$f":"IF('Feb Voeropname'!$A66='Feb kengetallen'!$A51,'Feb Voeropname'!C66,\"\")","v":283.28999999999996},null,{"$f":"IF('Feb Voeropname'!$A66='Feb kengetallen'!$A51,'Feb Voeropname'!E66,\"\")","v":283.28999999999996}]
["Kuilgras",null,{"$f":"IF('Feb Voeropname'!$A67='Feb kengetallen'!$A52,'Feb Voeropname'!C67,\"\")","v":""},null,{"$f":"IF('Feb Voeropname'!$A67='Feb kengetallen'!$A52,'Feb Voeropname'!E67,\"\")","v":""}]
["Kuilgras",null,{"$f":"IF('Feb Voeropname'!$A68='Feb kengetallen'!$A53,'Feb Voeropname'!C68,\"\")","v":""},null,{"$f":"IF('Feb Voeropname'!$A68='Feb kengetallen'!$A53,'Feb Voeropname'!E68,\"\")","v":""}]
["Kuilgras",null,{"$f":"IF('Feb Voeropname'!$A69='Feb kengetallen'!$A54,'Feb Voeropname'!C69,\"\")","v":""},null,{"$f":"IF('Feb Voeropname'!$A69='Feb kengetallen'!$A54,'Feb Voeropname'!E69,\"\")","v":""}]
["Kuilgras",null,{"$f":"IF('Feb Voeropname'!$A70='Feb kengetallen'!$A55,'Feb Voeropname'!C70,\"\")","v":""},null,{"$f":"IF('Feb Voeropname'!$A70='Feb kengetallen'!$A55,'Feb Voeropname'!E70,\"\")","v":""}]
["Kuilgras",null,{"$f":"IF('Feb Voeropname'!$A71='Feb kengetallen'!$A56,'Feb Voeropname'!C71,\"\")","v":""},null,{"$f":"IF('Feb Voeropname'!$A71='Feb kengetallen'!$A56,'Feb Voeropname'!E71,\"\")","v":""}]
["Kuilgras",null,{"$f":"IF('Feb Voeropname'!$A72='Feb kengetallen'!$A57,'Feb Voeropname'!C72,\"\")","v":519.36500000000001},null,{"$f":"IF('Feb Voeropname'!$A72='Feb kengetallen'!$A57,'Feb Voeropname'!E72,\"\")","v":519.36500000000001}]
["Kuilgras",null,{"$f":"IF('Feb Voeropname'!$A73='Feb kengetallen'!$A58,'Feb Voeropname'!C73,\"\")","v":""},null,{"$f":"IF('Feb Voeropname'!$A73='Feb kengetallen'!$A58,'Feb Voeropname'!E73,\"\")","v":""}]
["Kuilgras",null,{"$f":"IF('Feb Voeropname'!$A74='Feb kengetallen'!$A59,'Feb Voeropname'!C74,\"\")","v":""},null,{"$f":"IF('Feb Voeropname'!$A74='Feb kengetallen'!$A59,'Feb Voeropname'!E74,\"\")","v":""}]
["Totaal kuilgras",null,{"$f":"SUM(C51:C59)","v":802.65499999999997},null,{"$f":"SUM(E51:E59)","v":802.65499999999997}]
[]
["Snijmais",null,{"$f":"IF('Feb Voeropname'!$A66='Feb kengetallen'!$A62,'Feb Voeropname'!C66,\"\")","v":""},null,{"$f":"IF('Feb Voeropname'!$A66='Feb kengetallen'!$A62,'Feb Voeropname'!E66,\"\")","v":""}]
["Snijmais",null,{"$f":"IF('Feb Voeropname'!$A67='Feb kengetallen'!$A63,'Feb Voeropname'!C67,\"\")","v":249.12419999999997},null,{"$f":"IF('Feb Voeropname'!$A67='Feb kengetallen'!$A63,'Feb Voeropname'!E67,\"\")","v":249.12419999999997}]
["Snijmais",null,{"$f":"IF('Feb Voeropname'!$A68='Feb kengetallen'!$A64,'Feb Voeropname'!C68,\"\")","v":""},null,{"$f":"IF('Feb Voeropname'!$A68='Feb kengetallen'!$A64,'Feb Voeropname'!E68,\"\")","v":""}]
["Snijmais",null,{"$f":"IF('Feb Voeropname'!$A69='Feb kengetallen'!$A65,'Feb Voeropname'!C69,\"\")","v":""},null,{"$f":"IF('Feb Voeropname'!$A69='Feb kengetallen'!$A65,'Feb Voeropname'!E69,\"\")","v":""}]
["Snijmais",null,{"$f":"IF('Feb Voeropname'!$A70='Feb kengetallen'!$A66,'Feb Voeropname'!C70,\"\")","v":""},null,{"$f":"IF('Feb Voeropname'!$A70='Feb kengetallen'!$A66,'Feb Voeropname'!E70,\"\")","v":""}]
["Snijmais",null,{"$f":"IF('Feb Voeropname'!$A71='Feb kengetallen'!$A67,'Feb Voeropname'!C71,\"\")","v":""},null,{"$f":"IF('Feb Voeropname'!$A71='Feb kengetallen'!$A67,'Feb Voeropname'!E71,\"\")","v":""}]
["Snijmais",null,{"$f":"IF('Feb Voeropname'!$A72='Feb kengetallen'!$A68,'Feb Voeropname'!C72,\"\")","v":""},null,{"$f":"IF('Feb Voeropname'!$A72='Feb kengetallen'!$A68,'Feb Voeropname'!E72,\"\")","v":""}]
["Snijmais",null,{"$f":"IF('Feb Voeropname'!$A73='Feb kengetallen'!$A69,'Feb Voeropname'!C73,\"\")","v":""},null,{"$f":"IF('Feb Voeropname'!$A73='Feb kengetallen'!$A69,'Feb Voeropname'!E73,\"\")","v":""}]
["Snijmais",null,{"$f":"IF('Feb Voeropname'!$A74='Feb kengetallen'!$A70,'Feb Voeropname'!C74,\"\")","v":""},null,{"$f":"IF('Feb Voeropname'!$A74='Feb kengetallen'!$A70,'Feb Voeropname'!E74,\"\")","v":""}]
["Totaal snijmais",null,{"$f":"SUM(C62:C70)","v":249.12419999999997},null,{"$f":"SUM(E62:E70)","v":249.12419999999997}]
[]
["OverigRuwvoer",null,{"$f":"IF('Feb Voeropname'!$A66='Feb kengetallen'!$A73,'Feb Voeropname'!C66,\"\")","v":""},null,{"$f":"IF('Feb Voeropname'!$A66='Feb kengetallen'!$A73,'Feb Voeropname'!E66,\"\")","v":""}]
["OverigRuwvoer",null,{"$f":"IF('Feb Voeropname'!$A67='Feb kengetallen'!$A74,'Feb Voeropname'!C67,\"\")","v":""},null,{"$f":"IF('Feb Voeropname'!$A67='Feb kengetallen'!$A74,'Feb Voeropname'!E67,\"\")","v":""}]
["OverigRuwvoer",null,{"$f":"IF('Feb Voeropname'!$A68='Feb kengetallen'!$A75,'Feb Voeropname'!C68,\"\")","v":""},null,{"$f":"IF('Feb Voeropname'!$A68='Feb kengetallen'!$A75,'Feb Voeropname'!E68,\"\")","v":""}]
["OverigRuwvoer",null,{"$f":"IF('Feb Voeropname'!$A69='Feb kengetallen'!$A76,'Feb Voeropname'!C69,\"\")","v":""},null,{"$f":"IF('Feb Voeropname'!$A69='Feb kengetallen'!$A76,'Feb Voeropname'!E69,\"\")","v":""}]
["OverigRuwvoer",null,{"$f":"IF('Feb Voeropname'!$A70='Feb kengetallen'!$A77,'Feb Voeropname'!C70,\"\")","v":""},null,{"$f":"IF('Feb Voeropname'!$A70='Feb kengetallen'!$A77,'Feb Voeropname'!E70,\"\")","v":""}]
["OverigRuwvoer",null,{"$f":"IF('Feb Voeropname'!$A71='Feb kengetallen'!$A78,'Feb Voeropname'!C71,\"\")","v":""},null,{"$f":"IF('Feb Voeropname'!$A71='Feb kengetallen'!$A78,'Feb Voeropname'!E71,\"\")","v":""}]
["OverigRuwvoer",null,{"$f":"IF('Feb Voeropname'!$A72='Feb kengetallen'!$A79,'Feb Voeropname'!C72,\"\")","v":""},null,{"$f":"IF('Feb Voeropname'!$A72='Feb kengetallen'!$A79,'Feb Voeropname'!E72,\"\")","v":""}]
["OverigRuwvoer",null,{"$f":"IF('Feb Voeropname'!$A73='Feb kengetallen'!$A80,'Feb Voeropname'!C73,\"\")","v":""},null,{"$f":"IF('Feb Voeropname'!$A73='Feb kengetallen'!$A80,'Feb Voeropname'!E73,\"\")","v":""}]
["OverigRuwvoer",null,{"$f":"IF('Feb Voeropname'!$A74='Feb kengetallen'!$A81,'Feb Voeropname'!C74,\"\")","v":""},null,{"$f":"IF('Feb Voeropname'!$A74='Feb kengetallen'!$A81,'Feb Voeropname'!E74,\"\")","v":""}]
["Totaal overig Ruwvoer",null,{"$f":"SUM(C73:C81)","v":0},null,{"$f":"SUM(E73:E81)","v":0}]
[]
["Bijproducten",null,{"$f":"IF('Feb Voeropname'!$A66='Feb kengetallen'!$A84,'Feb Voeropname'!C66,\"\")","v":""},null,{"$f":"IF('Feb Voeropname'!$A66='Feb kengetallen'!$A84,'Feb Voeropname'!E66,\"\")","v":""}]
["Bijproducten",null,{"$f":"IF('Feb Voeropname'!$A67='Feb kengetallen'!$A85,'Feb Voeropname'!C67,\"\")","v":""},null,{"$f":"IF('Feb Voeropname'!$A67='Feb kengetallen'!$A85,'Feb Voeropname'!E67,\"\")","v":""}]
["Bijproducten",null,{"$f":"IF('Feb Voeropname'!$A68='Feb kengetallen'!$A86,'Feb Voeropname'!C68,\"\")","v":""},null,{"$f":"IF('Feb Voeropname'!$A68='Feb kengetallen'!$A86,'Feb Voeropname'!E68,\"\")","v":""}]
["Bijproducten",null,{"$f":"IF('Feb Voeropname'!$A69='Feb kengetallen'!$A87,'Feb Voeropname'!C69,\"\")","v":54.092999999999996},null,{"$f":"IF('Feb Voeropname'!$A69='Feb kengetallen'!$A87,'Feb Voeropname'!E69,\"\")","v":54.092999999999996}]
["Bijproducten",null,{"$f":"IF('Feb Voeropname'!$A70='Feb kengetallen'!$A88,'Feb Voeropname'!C70,\"\")","v":114},null,{"$f":"IF('Feb Voeropname'!$A70='Feb kengetallen'!$A88,'Feb Voeropname'!E70,\"\")","v":114}]
["Bijproducten",null,{"$f":"IF('Feb Voeropname'!$A71='Feb kengetallen'!$A89,'Feb Voeropname'!C71,\"\")","v":""},null,{"$f":"IF('Feb Voeropname'!$A71='Feb kengetallen'!$A89,'Feb Voeropname'!E71,\"\")","v":""}]
["Bijproducten",null,{"$f":"IF('Feb Voeropname'!$A72='Feb kengetallen'!$A90,'Feb Voeropname'!C72,\"\")","v":""},null,{"$f":"IF('Feb Voeropname'!$A72='Feb kengetallen'!$A90,'Feb Voeropname'!E72,\"\")","v":""}]
["Bijproducten",null,{"$f":"IF('Feb Voeropname'!$A73='Feb kengetallen'!$A91,'Feb Voeropname'!C73,\"\")","v":""},null,{"$f":"IF('Feb Voeropname'!$A73='Feb kengetallen'!$A91,'Feb Voeropname'!E73,\"\")","v":""}]
["Bijproducten",null,{"$f":"IF('Feb Voeropname'!$A74='Feb kengetallen'!$A92,'Feb Voeropname'!C74,\"\")","v":""},null,{"$f":"IF('Feb Voeropname'!$A74='Feb kengetallen'!$A92,'Feb Voeropname'!E74,\"\")","v":""}]
["Totaal Bijproducten",null,{"$f":"SUM(C84:C92)","v":168.09299999999999},null,{"$f":"SUM(E84:E92)","v":168.09299999999999}]
[]
["Krachtvoer",null,{"$f":"SUM('Feb Voeropname'!C76:C78)","v":368.1},null,{"$f":"SUM('Feb Voeropname'!E76:E78)","v":340.43142857142863}]
[]
["Vers gras",null,{"$f":"'Feb Voeropname'!C31*('Feb vee+melk'!C2+'Feb vee+melk'!C3)","v":0},null,{"$f":"'Feb Voeropname'!E31*('Feb vee+melk'!E2+'Feb vee+melk'!E3)","v":0}]
[]
["Totaal",null,{"$f":"C95+C93+C82+C71+C60+C97","v":1587.9721999999999},null,{"$f":"E95+E93+E82+E71+E60+E97","v":1560.3036285714286}]
[]
["Vers gras",null,{"$f":"C97/C99","v":0},null,{"$f":"E97/E99","v":0}]
["Aandeel kuilgras",null,{"$f":"C60/C$99","v":0.50545910060642119},null,{"$f":"E60/E$99","v":0.51442231197968113}]
["Aandeel snijmais",null,{"$f":"C71/C$99","v":0.15688196556589593},null,{"$f":"E71/E$99","v":0.15966392401976998}]
["Aandeel overig ruwvoer",null,{"$f":"C82/C$99","v":0},null,{"$f":"E82/E$99","v":0}]
["Aandeel bijproducten",null,{"$f":"C93/C$99","v":0.1058538682226301},null,{"$f":"E93/E$99","v":0.10773095500258584}]
["Aandeel krachtvoer",null,{"$f":"C95/C$99","v":0.23180506560505282},null,{"$f":"E95/E$99","v":0.21818280899796302}]

{"sheet":"Voeropname","index":62,"n_rows":162,"n_cols":7,"rows_kept":162,"cut":false,"hidden":true,"merged":[]}
["Gem rantsoen gehaltes (d dgn)",null,{"$f":"'Jan voer'!B3","v":"januari gerealiseerd"},null,{"$f":"'Jan voer'!G3","v":"januari prognose"}]
["DS opname/koe",null,{"$f":"C34","v":21.38318493150685},null,{"$f":"E34","v":21.370856164383564}]
["VEM",null,{"$f":"C12","v":968.84562098307288},null,{"$f":"AVERAGE(E12:E12)","v":985.26919172025634}]
["DVE",null,{"$f":"AVERAGE(C13)","v":79.601123338175384},null,53.23096490707961]
["OEB",null,{"$f":"AVERAGE(C14)","v":514.62245890410952},null,251.156705479452]
["RE",null,{"$f":"AVERAGE(C15)","v":147.88901630233715},null,111.57794749923478]
["N",null,{"$f":"AVERAGE(C16)","v":23.662242608373948},null,17.852471599877564]
["P",null,3.5424301453100542,null,2.6404773111506032]
[]
[]
["Rantsoen gehaltes (incl. weidegras)"]
["VEM",null,{"$f":"C35/C34","v":968.84562098307288},null,{"$f":"E35/E34","v":985.26919172025634}]
["DVE",null,{"$f":"C36/C34","v":79.601123338175384},null,{"$f":"E36/E34","v":53.23096490707961}]
["OEB",null,{"$f":"C37","v":514.62245890410952},null,{"$f":"E37","v":251.156705479452}]
["RE",null,{"$f":"C38/C34","v":147.88901630233715},null,{"$f":"E38/E34","v":111.57794749923478}]
["N",null,{"$f":"C39/C34","v":23.662242608373948},null,{"$f":"E39/E34","v":17.852471599877564}]
["P",null,{"$f":"C40/C34","v":3.5424301453100542},null,{"$f":"E40/E34","v":2.6404773111506032}]
[]
[]
[]
[]
["kg ds",null,{"$f":"C55/SUM('Jan vee+melk'!C2:C3)","v":21.38318493150685},null,{"$f":"E55/SUM('Jan vee+melk'!E2:E3)","v":21.370856164383564}]
["Vemopname ex weidegras",null,{"$f":"C22*C45","v":20717.005083561642},null,{"$f":"E22*E45","v":21056.046179452052}]
[]
[]
[]
["VEM behoefte",null,{"$f":"IF('Jan voer'!B4=1,'Jan vee+melk'!C27*codes!C4,'Jan vee+melk'!C27)","v":19905.46573878534},null,{"$f":"IF('Jan voer'!G4=1,'Jan vee+melk'!E27*codes!C4,'Jan vee+melk'!E27)","v":19387.666956175632}]
["Behoefte-opname",null,{"$f":"C27-Voeropname!C23","v":-811.53934477630173},null,{"$f":"E27-Voeropname!E23","v":-1668.3792232764208}]
[null,null,{"$f":"C28/VLOOKUP('Jan voer'!B5,Weidegras!$A$5:$J$119,4,FALSE)","v":{"$error":"#DIV/0!"}},null,{"$f":"E28/VLOOKUP('Jan voer'!G5,Weidegras!$A$5:$J$119,4,FALSE)","v":{"$error":"#DIV/0!"}}]
[null,null,{"$f":"IF(C29>0,C29,0)","v":{"$error":"#DIV/0!"}},null,{"$f":"IF(E29>0,E29,0)","v":{"$error":"#DIV/0!"}}]
["Weidegrasopname/koe",null,{"$f":"IF('Jan voer'!B4=1,C30,0)","v":0},null,{"$f":"IF('Jan voer'!G4=1,E30,0)","v":0}]
[]
["Rantsoenopname incl weidegras"]
["droge stof",null,{"$f":"C22+C31","v":21.38318493150685},null,{"$f":"E22+E31","v":21.370856164383564}]
["VEM",null,{"$f":"C45*C22+C31*VLOOKUP('Jan voer'!B5,Weidegras!$A$6:$J$180,4,FALSE)","v":20717.005083561642},null,{"$f":"E45*E22+E31*VLOOKUP('Jan voer'!G5,Weidegras!$A$6:$J$180,4,FALSE)","v":21056.046179452052}]
["DVE",null,{"$f":"C46*C22+$C$31*VLOOKUP('Jan voer'!B5,Weidegras!$A$5:$J$150,5,FALSE)","v":1702.1255410958902},null,{"$f":"E46*E22+$C$31*VLOOKUP('Jan voer'!G5,Weidegras!$A$5:$J$150,5,FALSE)","v":1137.5912945205475}]
["OEB",null,{"$f":"C22*C47+$C$31*VLOOKUP('Jan voer'!B5,Weidegras!$A$6:$J$151,6,FALSE)","v":514.62245890410952},null,{"$f":"E22*E47+$C$31*VLOOKUP('Jan voer'!G5,Weidegras!$A$6:$J$151,6,FALSE)","v":251.156705479452}]
["RE",null,{"$f":"C48*C22+C31*VLOOKUP('Jan voer'!$B$5,Weidegras!$A$6:$J$181,7,FALSE)","v":3162.3381849315069},null,{"$f":"E48*E22+E31*VLOOKUP('Jan voer'!$B$5,Weidegras!$A$6:$J$181,7,FALSE)","v":2384.5162671232874}]
["N",null,{"$f":"C38/6.25","v":505.97410958904112},null,{"$f":"E38/6.25","v":381.52260273972598}]
["P",null,{"$f":"C50*C22+C31*VLOOKUP('Jan voer'!$B$5,Weidegras!$A$6:$J$183,10,FALSE)","v":75.748438904109577},null,{"$f":"E50*E22+E31*VLOOKUP('Jan voer'!$B$5,Weidegras!$A$6:$J$183,10,FALSE)","v":56.429260821917808}]
[]
[]
["Stalrantsoen gehaltes"]
["droge stof"]
["VEM",null,{"$f":"C56/C$55","v":968.84562098307288},null,{"$f":"E56/E$55","v":985.26919172025634}]
["DVE",null,{"$f":"C57/C$55*1000","v":79.601123338175384},null,{"$f":"E57/E$55*1000","v":53.230964907079617}]
["OEB",null,{"$f":"C58/C$55","v":24.066688875044239},null,{"$f":"E58/E$55","v":11.752299652740493}]
["RE",null,{"$f":"C59/C$55","v":147.88901630233715},null,{"$f":"E59/E$55","v":111.5779474992348}]
["N",null,{"$f":"C60/C$55","v":23.662242608373944},null,{"$f":"E60/E$55","v":17.852471599877568}]
["P",null,{"$f":"C61/C$55","v":3.5424301453100546},null,{"$f":"E61/E$55","v":2.6404773111506032}]
[]
[]
[]
["Stalrantsoen opname"]
["droge stof (kg)",null,{"$f":"C80","v":1560.9725000000001},null,1560.0725000000002]
["VEM",null,{"$f":"C96","v":1512341.3710999999},null,1537091.3710999999]
["DVE",null,{"$f":"C112","v":124.25516449999998},null,{"$f":"E112","v":83.04416449999998}]
["OEB",null,{"$f":"C128","v":37567.439499999993},null,{"$f":"E128","v":18334.439499999997}]
["RE",null,{"$f":"C144","v":230850.6875},null,{"$f":"E144","v":174069.6875}]
["N",null,{"$f":"C146","v":36936.11},null,{"$f":"E146","v":27851.15}]
["P",null,{"$f":"C162","v":5529.6360399999994},null,{"$f":"E162","v":4119.3360400000001}]
[]
[]
[]
["Drogestof opname"]
[{"$f":"'Jan voer'!A9","v":"Kuilgras"},{"$f":"'Jan voer'!B9","v":"Gkuil 1e snede 2016"},{"$f":"IF('Jan voer'!C9>0,VLOOKUP('Jan voer'!B9,Voedermiddelen!$A$4:$K$75,3,FALSE)*'Jan voer'!C9*(1-'Jan voer'!$B$6),\"\")","v":793.21199999999999},{"$f":"'Jan voer'!G9","v":"Gkuil 1e snede 2016"},{"$f":"IF('Jan voer'!H9>0,VLOOKUP('Jan voer'!G9,Voedermiddelen!$A$4:$K$75,3,FALSE)*'Jan voer'!H9*(1-'Jan voer'!$G$6),\"\")","v":793.21199999999999}]
[{"$f":"'Jan voer'!A10","v":"Snijmais"},{"$f":"'Jan voer'!B10","v":"Mkuil 1"},{"$f":"IF('Jan voer'!C10>0,VLOOKUP('Jan voer'!B10,Voedermiddelen!$A$4:$K$75,3,FALSE)*'Jan voer'!C10*(1-'Jan voer'!$B$6),\"\")","v":243.04799999999997},{"$f":"'Jan voer'!G10","v":"Mkuil 1"},{"$f":"IF('Jan voer'!H10>0,VLOOKUP('Jan voer'!G10,Voedermiddelen!$A$4:$K$75,3,FALSE)*'Jan voer'!H10*(1-'Jan voer'!$G$6),\"\")","v":243.04799999999997}]
[{"$f":"'Jan voer'!A11","v":"OverigRuwvoer"},{"$f":"'Jan voer'!B11","v":"Overig 1"},{"$f":"IF('Jan voer'!C11>0,VLOOKUP('Jan voer'!B11,Voedermiddelen!$A$4:$K$75,3,FALSE)*'Jan voer'!C11*(1-'Jan voer'!$B$6),\"\")","v":""},{"$f":"'Jan voer'!G11","v":"Overig 1"},{"$f":"IF('Jan voer'!H11>0,VLOOKUP('Jan voer'!G11,Voedermiddelen!$A$4:$K$75,3,FALSE)*'Jan voer'!H11*(1-'Jan voer'!$G$6),\"\")","v":""}]
[{"$f":"'Jan voer'!A12","v":"Bijproducten"},{"$f":"'Jan voer'!B12","v":"Bierbostel"},{"$f":"IF('Jan voer'!C12>0,VLOOKUP('Jan voer'!B12,Voedermiddelen!$A$4:$K$75,3,FALSE)*'Jan voer'!C12*(1-'Jan voer'!$B$6),\"\")","v":52.012499999999996},{"$f":"'Jan voer'!G12","v":"Bierbostel"},{"$f":"IF('Jan voer'!H12>0,VLOOKUP('Jan voer'!G12,Voedermiddelen!$A$4:$K$75,3,FALSE)*'Jan voer'!H12*(1-'Jan voer'!$G$6),\"\")","v":52.012499999999996}]
[{"$f":"'Jan voer'!A13","v":"Bijproducten"},{"$f":"'Jan voer'!B13","v":"sodagrain"},{"$f":"IF('Jan voer'!C13>0,VLOOKUP('Jan voer'!B13,Voedermiddelen!$A$4:$K$75,3,FALSE)*'Jan voer'!C13*(1-'Jan voer'!$B$6),\"\")","v":106.39999999999999},{"$f":"'Jan voer'!G13","v":"sodagrain"},{"$f":"IF('Jan voer'!H13>0,VLOOKUP('Jan voer'!G13,Voedermiddelen!$A$4:$K$75,3,FALSE)*'Jan voer'!H13*(1-'Jan voer'!$G$6),\"\")","v":106.39999999999999}]
[{"$f":"'Jan voer'!A14","v":"Bijproducten"},{"$f":"'Jan voer'!B14","v":"BP 6"},{"$f":"IF('Jan voer'!C14>0,VLOOKUP('Jan voer'!B14,Voedermiddelen!$A$4:$K$75,3,FALSE)*'Jan voer'!C14*(1-'Jan voer'!$B$6),\"\")","v":""},{"$f":"'Jan voer'!G14","v":"BP 6"},{"$f":"IF('Jan voer'!H14>0,VLOOKUP('Jan voer'!G14,Voedermiddelen!$A$4:$K$75,3,FALSE)*'Jan voer'!H14*(1-'Jan voer'!$G$6),\"\")","v":""}]
[{"$f":"'Jan voer'!A15","v":0},{"$f":"'Jan voer'!B15","v":0},{"$f":"IF('Jan voer'!C15>0,VLOOKUP('Jan voer'!B15,Voedermiddelen!$A$4:$K$75,3,FALSE)*'Jan voer'!C15*(1-'Jan voer'!$B$6),\"\")","v":""},{"$f":"'Jan voer'!G15","v":0},{"$f":"IF('Jan voer'!H15>0,VLOOKUP('Jan voer'!G15,Voedermiddelen!$A$4:$K$75,3,FALSE)*'Jan voer'!H15*(1-'Jan voer'!$G$6),\"\")","v":""}]
[{"$f":"'Jan voer'!A16","v":0},{"$f":"'Jan voer'!B16","v":0},{"$f":"IF('Jan voer'!C16>0,VLOOKUP('Jan voer'!B16,Voedermiddelen!$A$4:$K$75,3,FALSE)*'Jan voer'!C16*(1-'Jan voer'!$B$6),\"\")","v":""},{"$f":"'Jan voer'!G16","v":0},{"$f":"IF('Jan voer'!H16>0,VLOOKUP('Jan voer'!G16,Voedermiddelen!$A$4:$K$75,3,FALSE)*'Jan voer'!H16*(1-'Jan voer'!$G$6),\"\")","v":""}]
[{"$f":"'Jan voer'!A17","v":0},{"$f":"'Jan voer'!B17","v":0},{"$f":"IF('Jan voer'!C17>0,VLOOKUP('Jan voer'!B17,Voedermiddelen!$A$4:$K$75,3,FALSE)*'Jan voer'!C17*(1-'Jan voer'!$B$6),\"\")","v":""},{"$f":"'Jan voer'!G17","v":0},{"$f":"IF('Jan voer'!H17>0,VLOOKUP('Jan voer'!G17,Voedermiddelen!$A$4:$K$75,3,FALSE)*'Jan voer'!H17*(1-'Jan voer'!$G$6),\"\")","v":""}]
[null,{"$f":"'Jan voer'!B18","v":0},{"$f":"IF('Jan voer'!C18>0,VLOOKUP('Jan voer'!B18,Voedermiddelen!$A$4:$K$75,3,FALSE)*'Jan voer'!C18*(1-'Jan voer'!$B$6),\"\")","v":""},{"$f":"'Jan voer'!G18","v":0},{"$f":"IF('Jan voer'!H18>0,VLOOKUP('Jan voer'!G18,Voedermiddelen!$A$4:$K$75,3,FALSE)*'Jan voer'!H18*(1-'Jan voer'!$G$6),\"\")","v":""}]
[null,{"$f":"'Jan voer'!B20","v":"KV 1"},{"$f":"IF('Jan voer'!C20>0,VLOOKUP('Jan voer'!B20,Voedermiddelen!$A$4:$K$75,3,FALSE)*'Jan voer'!C20,\"\")","v":91.8},null,{"$f":"'Jan voer'!H22*'Jan vee+melk'!E15/100*0.9","v":365.40000000000003}]
[null,{"$f":"'Jan voer'!B21","v":"KV 2"},{"$f":"IF('Jan voer'!C21>0,VLOOKUP('Jan voer'!B21,Voedermiddelen!$A$4:$K$75,3,FALSE)*'Jan voer'!C21,\"\")","v":274.5}]
[null,{"$f":"'Jan voer'!B22","v":0},{"$f":"IF('Jan voer'!C22>0,VLOOKUP('Jan voer'!B22,Voedermiddelen!$A$4:$K$75,3,FALSE)*'Jan voer'!C22,\"\")","v":""}]
[]
["Totaal",null,{"$f":"SUM(C66:C78)","v":1560.9725000000001},null,{"$f":"SUM(E66:E78)","v":1560.0725000000002}]
[]
["VEM",{"$f":"B66","v":"Gkuil 1e snede 2016"},{"$f":"IF('Jan voer'!C9>0,VLOOKUP('Jan voer'!B9,Voedermiddelen!$A$4:$K$75,4,FALSE)*C66,\"\")","v":768622.42799999996},{"$f":"D66","v":"Gkuil 1e snede 2016"},{"$f":"IF('Jan voer'!H9>0,VLOOKUP('Jan voer'!G9,Voedermiddelen!$A$4:$K$75,4,FALSE)*E66,\"\")","v":768622.42799999996}]
[null,{"$f":"B67","v":"Mkuil 1"},{"$f":"IF('Jan voer'!C10>0,VLOOKUP('Jan voer'!B10,Voedermiddelen!$A$4:$K$75,4,FALSE)*C67,\"\")","v":243582.70559999999},"Mkuil 1",{"$f":"IF('Jan voer'!H10>0,VLOOKUP('Jan voer'!G10,Voedermiddelen!$A$4:$K$75,4,FALSE)*E67,\"\")","v":243582.70559999999}]
[null,"Overig 1",{"$f":"IF('Jan voer'!C11>0,VLOOKUP('Jan voer'!B11,Voedermiddelen!$A$4:$K$75,4,FALSE)*C68,\"\")","v":""},{"$f":"D68","v":"Overig 1"},{"$f":"IF('Jan voer'!H11>0,VLOOKUP('Jan voer'!G11,Voedermiddelen!$A$4:$K$75,4,FALSE)*E68,\"\")","v":""}]
[null,"Bierbostel",{"$f":"IF('Jan voer'!C12>0,VLOOKUP('Jan voer'!B12,Voedermiddelen!$A$4:$K$75,4,FALSE)*C69,\"\")","v":49255.837499999994},"Bierbostel",{"$f":"IF('Jan voer'!H12>0,VLOOKUP('Jan voer'!G12,Voedermiddelen!$A$4:$K$75,4,FALSE)*E69,\"\")","v":49255.837499999994}]
[null,"sodagrain",{"$f":"IF('Jan voer'!C13>0,VLOOKUP('Jan voer'!B13,Voedermiddelen!$A$4:$K$75,4,FALSE)*C70,\"\")","v":110230.39999999999},"sodagrain",{"$f":"IF('Jan voer'!H13>0,VLOOKUP('Jan voer'!G13,Voedermiddelen!$A$4:$K$75,4,FALSE)*E70,\"\")","v":110230.39999999999}]
[null,"BP 6",{"$f":"IF('Jan voer'!C14>0,VLOOKUP('Jan voer'!B14,Voedermiddelen!$A$4:$K$75,4,FALSE)*C71,\"\")","v":""},"BP 6",{"$f":"IF('Jan voer'!H14>0,VLOOKUP('Jan voer'!G14,Voedermiddelen!$A$4:$K$75,4,FALSE)*E71,\"\")","v":""}]
[null,0,{"$f":"IF('Jan voer'!C15>0,VLOOKUP('Jan voer'!B15,Voedermiddelen!$A$4:$K$75,4,FALSE)*C72,\"\")","v":""},0,{"$f":"IF('Jan voer'!H15>0,VLOOKUP('Jan voer'!G15,Voedermiddelen!$A$4:$K$75,4,FALSE)*E72,\"\")","v":""}]
[null,0,{"$f":"IF('Jan voer'!C16>0,VLOOKUP('Jan voer'!B16,Voedermiddelen!$A$4:$K$75,4,FALSE)*C73,\"\")","v":""},0,{"$f":"IF('Jan voer'!H16>0,VLOOKUP('Jan voer'!G16,Voedermiddelen!$A$4:$K$75,4,FALSE)*E73,\"\")","v":""}]
[null,0,{"$f":"IF('Jan voer'!C17>0,VLOOKUP('Jan voer'!B17,Voedermiddelen!$A$4:$K$75,4,FALSE)*C74,\"\")","v":""},0,{"$f":"IF('Jan voer'!H17>0,VLOOKUP('Jan voer'!G17,Voedermiddelen!$A$4:$K$75,4,FALSE)*E74,\"\")","v":""}]
[null,0,{"$f":"IF('Jan voer'!C18>0,VLOOKUP('Jan voer'!B18,Voedermiddelen!$A$4:$K$75,4,FALSE)*C75,\"\")","v":""},0,{"$f":"IF('Jan voer'!H18>0,VLOOKUP('Jan voer'!G18,Voedermiddelen!$A$4:$K$75,4,FALSE)*E75,\"\")","v":""}]
[null,"KV 1",{"$f":"IF('Jan voer'!C20>0,VLOOKUP('Jan voer'!B20,Voedermiddelen!$A$4:$K$75,4,FALSE)*C76,\"\")","v":82620},{"$f":"D76","v":0},{"$f":"E76*1000","v":365400.00000000006}]
[null,"KV 2",{"$f":"IF('Jan voer'!C21>0,VLOOKUP('Jan voer'!B21,Voedermiddelen!$A$4:$K$75,4,FALSE)*C77,\"\")","v":258030},0]
[null,0,{"$f":"IF('Jan voer'!C22>0,VLOOKUP('Jan voer'!B22,Voedermiddelen!$A$4:$K$75,4,FALSE)*C78,\"\")","v":""},0]
[]
["Totaal",null,{"$f":"SUM(C82:C94)","v":1512341.3710999999},null,{"$f":"SUM(E82:E94)","v":1537091.3710999999}]
[]
["DVE",{"$f":"B82","v":"Gkuil 1e snede 2016"},{"$f":"IF('Jan voer'!C9>0,VLOOKUP('Jan voer'!B9,Voedermiddelen!$A$4:$K$75,5,FALSE)*C66,\"\")","v":56318.051999999996},{"$f":"D82","v":"Gkuil 1e snede 2016"},{"$f":"IF('Jan voer'!H9>0,VLOOKUP('Jan voer'!G9,Voedermiddelen!$A$4:$K$75,5,FALSE)*E66,\"\")","v":56318.051999999996}]
[null,{"$f":"B83","v":"Mkuil 1"},{"$f":"IF('Jan voer'!C10>0,VLOOKUP('Jan voer'!B10,Voedermiddelen!$A$4:$K$75,5,FALSE)*C67,\"\")","v":12152.399999999998},"Mkuil 1",{"$f":"IF('Jan voer'!H10>0,VLOOKUP('Jan voer'!G10,Voedermiddelen!$A$4:$K$75,5,FALSE)*E67,\"\")","v":12152.399999999998}]
[null,"Overig 1",{"$f":"IF('Jan voer'!C11>0,VLOOKUP('Jan voer'!B11,Voedermiddelen!$A$4:$K$75,5,FALSE)*C68,\"\")","v":""},{"$f":"D84","v":"Overig 1"},{"$f":"IF('Jan voer'!H11>0,VLOOKUP('Jan voer'!G11,Voedermiddelen!$A$4:$K$75,5,FALSE)*E68,\"\")","v":""}]
[null,"Bierbostel",{"$f":"IF('Jan voer'!C12>0,VLOOKUP('Jan voer'!B12,Voedermiddelen!$A$4:$K$75,5,FALSE)*C69,\"\")","v":7125.7124999999996},"Bierbostel",{"$f":"IF('Jan voer'!H12>0,VLOOKUP('Jan voer'!G12,Voedermiddelen!$A$4:$K$75,5,FALSE)*E69,\"\")","v":7125.7124999999996}]
[null,"sodagrain",{"$f":"IF('Jan voer'!C13>0,VLOOKUP('Jan voer'!B13,Voedermiddelen!$A$4:$K$75,5,FALSE)*C70,\"\")","v":7447.9999999999991},"sodagrain",{"$f":"IF('Jan voer'!H13>0,VLOOKUP('Jan voer'!G13,Voedermiddelen!$A$4:$K$75,5,FALSE)*E70,\"\")","v":7447.9999999999991}]
[null,"BP 6",{"$f":"IF('Jan voer'!C14>0,VLOOKUP('Jan voer'!B14,Voedermiddelen!$A$4:$K$75,5,FALSE)*C71,\"\")","v":""},"BP 6",{"$f":"IF('Jan voer'!H14>0,VLOOKUP('Jan voer'!G14,Voedermiddelen!$A$4:$K$75,5,FALSE)*E71,\"\")","v":""}]
[null,0,{"$f":"IF('Jan voer'!C15>0,VLOOKUP('Jan voer'!B15,Voedermiddelen!$A$4:$K$75,5,FALSE)*C72,\"\")","v":""},0,{"$f":"IF('Jan voer'!H15>0,VLOOKUP('Jan voer'!G15,Voedermiddelen!$A$4:$K$75,5,FALSE)*E72,\"\")","v":""}]
[null,0,{"$f":"IF('Jan voer'!C16>0,VLOOKUP('Jan voer'!B16,Voedermiddelen!$A$4:$K$75,5,FALSE)*C73,\"\")","v":""},0,{"$f":"IF('Jan voer'!H16>0,VLOOKUP('Jan voer'!G16,Voedermiddelen!$A$4:$K$75,5,FALSE)*E73,\"\")","v":""}]
[null,0,{"$f":"IF('Jan voer'!C17>0,VLOOKUP('Jan voer'!B17,Voedermiddelen!$A$4:$K$75,5,FALSE)*C74,\"\")","v":""},0,{"$f":"IF('Jan voer'!H17>0,VLOOKUP('Jan voer'!G17,Voedermiddelen!$A$4:$K$75,5,FALSE)*E74,\"\")","v":""}]
[null,0,{"$f":"IF('Jan voer'!C18>0,VLOOKUP('Jan voer'!B18,Voedermiddelen!$A$4:$K$75,5,FALSE)*C75,\"\")","v":""},0,{"$f":"IF('Jan voer'!H18>0,VLOOKUP('Jan voer'!G18,Voedermiddelen!$A$4:$K$75,5,FALSE)*E75,\"\")","v":""}]
[null,"KV 1",{"$f":"IF('Jan voer'!C20>0,VLOOKUP('Jan voer'!B20,Voedermiddelen!$A$4:$K$75,5,FALSE)*C76,\"\")","v":11016},{"$f":"D92","v":0}]
[null,"KV 2",{"$f":"IF('Jan voer'!C21>0,VLOOKUP('Jan voer'!B21,Voedermiddelen!$A$4:$K$75,5,FALSE)*C77,\"\")","v":30195},0]
[null,0,{"$f":"IF('Jan voer'!C22>0,VLOOKUP('Jan voer'!B22,Voedermiddelen!$A$4:$K$75,5,FALSE)*C78,\"\")","v":""},0]
[]
["Totaal",null,{"$f":"SUM(C98:C110)/1000","v":124.25516449999998},null,{"$f":"SUM(E98:E110)/1000","v":83.04416449999998}]
[]
["OEB",{"$f":"B98","v":"Gkuil 1e snede 2016"},{"$f":"IF('Jan voer'!C9>0,VLOOKUP('Jan voer'!B9,Voedermiddelen!$A$4:$K$75,6,FALSE)*C66,\"\")","v":28555.631999999998},{"$f":"D98","v":"Gkuil 1e snede 2016"},{"$f":"IF('Jan voer'!H9>0,VLOOKUP('Jan voer'!G9,Voedermiddelen!$A$4:$K$75,6,FALSE)*E66,\"\")","v":28555.631999999998}]
[null,{"$f":"B99","v":"Mkuil 1"},{"$f":"IF('Jan voer'!C10>0,VLOOKUP('Jan voer'!B10,Voedermiddelen!$A$4:$K$75,6,FALSE)*C67,\"\")","v":-8506.6799999999985},"Mkuil 1",{"$f":"IF('Jan voer'!H10>0,VLOOKUP('Jan voer'!G10,Voedermiddelen!$A$4:$K$75,6,FALSE)*E67,\"\")","v":-8506.6799999999985}]
[null,"Overig 1",{"$f":"IF('Jan voer'!C11>0,VLOOKUP('Jan voer'!B11,Voedermiddelen!$A$4:$K$75,6,FALSE)*C68,\"\")","v":""},{"$f":"D100","v":"Overig 1"},{"$f":"IF('Jan voer'!H11>0,VLOOKUP('Jan voer'!G11,Voedermiddelen!$A$4:$K$75,6,FALSE)*E68,\"\")","v":""}]
[null,"Bierbostel",{"$f":"IF('Jan voer'!C12>0,VLOOKUP('Jan voer'!B12,Voedermiddelen!$A$4:$K$75,6,FALSE)*C69,\"\")","v":2860.6874999999995},"Bierbostel",{"$f":"IF('Jan voer'!H12>0,VLOOKUP('Jan voer'!G12,Voedermiddelen!$A$4:$K$75,6,FALSE)*E69,\"\")","v":2860.6874999999995}]
[null,"sodagrain",{"$f":"IF('Jan voer'!C13>0,VLOOKUP('Jan voer'!B13,Voedermiddelen!$A$4:$K$75,6,FALSE)*C70,\"\")","v":-4575.2},"sodagrain",{"$f":"IF('Jan voer'!H13>0,VLOOKUP('Jan voer'!G13,Voedermiddelen!$A$4:$K$75,6,FALSE)*E70,\"\")","v":-4575.2}]
[null,"BP 6",{"$f":"IF('Jan voer'!C14>0,VLOOKUP('Jan voer'!B14,Voedermiddelen!$A$4:$K$75,6,FALSE)*C71,\"\")","v":""},"BP 6",{"$f":"IF('Jan voer'!H14>0,VLOOKUP('Jan voer'!G14,Voedermiddelen!$A$4:$K$75,6,FALSE)*E71,\"\")","v":""}]
[null,0,{"$f":"IF('Jan voer'!C15>0,VLOOKUP('Jan voer'!B15,Voedermiddelen!$A$4:$K$75,6,FALSE)*C72,\"\")","v":""},0,{"$f":"IF('Jan voer'!H15>0,VLOOKUP('Jan voer'!G15,Voedermiddelen!$A$4:$K$75,6,FALSE)*E72,\"\")","v":""}]
[null,0,{"$f":"IF('Jan voer'!C16>0,VLOOKUP('Jan voer'!B16,Voedermiddelen!$A$4:$K$75,6,FALSE)*C73,\"\")","v":""},0,{"$f":"IF('Jan voer'!H16>0,VLOOKUP('Jan voer'!G16,Voedermiddelen!$A$4:$K$75,6,FALSE)*E73,\"\")","v":""}]
[null,0,{"$f":"IF('Jan voer'!C17>0,VLOOKUP('Jan voer'!B17,Voedermiddelen!$A$4:$K$75,6,FALSE)*C74,\"\")","v":""},0,{"$f":"IF('Jan voer'!H17>0,VLOOKUP('Jan voer'!G17,Voedermiddelen!$A$4:$K$75,6,FALSE)*E74,\"\")","v":""}]
[null,0,{"$f":"IF('Jan voer'!C18>0,VLOOKUP('Jan voer'!B18,Voedermiddelen!$A$4:$K$75,6,FALSE)*C75,\"\")","v":""},0,{"$f":"IF('Jan voer'!H18>0,VLOOKUP('Jan voer'!G18,Voedermiddelen!$A$4:$K$75,6,FALSE)*E75,\"\")","v":""}]
[null,"KV 1",{"$f":"IF('Jan voer'!C20>0,VLOOKUP('Jan voer'!B20,Voedermiddelen!$A$4:$K$75,6,FALSE)*C76,\"\")","v":5508},{"$f":"D108","v":0}]
[null,"KV 2",{"$f":"IF('Jan voer'!C21>0,VLOOKUP('Jan voer'!B21,Voedermiddelen!$A$4:$K$75,6,FALSE)*C77,\"\")","v":13725},0]
[null,0,{"$f":"IF('Jan voer'!C22>0,VLOOKUP('Jan voer'!B22,Voedermiddelen!$A$4:$K$75,6,FALSE)*C78,\"\")","v":""},0]
[]
["Totaal",null,{"$f":"SUM(C114:C126)","v":37567.439499999993},null,{"$f":"SUM(E114:E126)","v":18334.439499999997}]
[]
["RE",{"$f":"B114","v":"Gkuil 1e snede 2016"},{"$f":"IF('Jan voer'!C9>0,VLOOKUP('Jan voer'!B9,Voedermiddelen!$A$4:$K$75,7,FALSE)*C66,\"\")","v":134846.04},{"$f":"D114","v":"Gkuil 1e snede 2016"},{"$f":"IF('Jan voer'!H9>0,VLOOKUP('Jan voer'!G9,Voedermiddelen!$A$4:$K$75,7,FALSE)*E66,\"\")","v":134846.04}]
[null,{"$f":"B115","v":"Mkuil 1"},{"$f":"IF('Jan voer'!C10>0,VLOOKUP('Jan voer'!B10,Voedermiddelen!$A$4:$K$75,7,FALSE)*C67,\"\")","v":17013.359999999997},"Mkuil 1",{"$f":"IF('Jan voer'!H10>0,VLOOKUP('Jan voer'!G10,Voedermiddelen!$A$4:$K$75,7,FALSE)*E67,\"\")","v":17013.359999999997}]
[null,"Overig 1",{"$f":"IF('Jan voer'!C11>0,VLOOKUP('Jan voer'!B11,Voedermiddelen!$A$4:$K$75,7,FALSE)*C68,\"\")","v":""},{"$f":"D116","v":"Overig 1"},{"$f":"IF('Jan voer'!H11>0,VLOOKUP('Jan voer'!G11,Voedermiddelen!$A$4:$K$75,7,FALSE)*E68,\"\")","v":""}]
[null,"Bierbostel",{"$f":"IF('Jan voer'!C12>0,VLOOKUP('Jan voer'!B12,Voedermiddelen!$A$4:$K$75,7,FALSE)*C69,\"\")","v":12847.0875},"Bierbostel",{"$f":"IF('Jan voer'!H12>0,VLOOKUP('Jan voer'!G12,Voedermiddelen!$A$4:$K$75,7,FALSE)*E69,\"\")","v":12847.0875}]
[null,"sodagrain",{"$f":"IF('Jan voer'!C13>0,VLOOKUP('Jan voer'!B13,Voedermiddelen!$A$4:$K$75,7,FALSE)*C70,\"\")","v":9363.1999999999989},"sodagrain",{"$f":"IF('Jan voer'!H13>0,VLOOKUP('Jan voer'!G13,Voedermiddelen!$A$4:$K$75,7,FALSE)*E70,\"\")","v":9363.1999999999989}]
[null,"BP 6",{"$f":"IF('Jan voer'!C14>0,VLOOKUP('Jan voer'!B14,Voedermiddelen!$A$4:$K$75,7,FALSE)*C71,\"\")","v":""},"BP 6",{"$f":"IF('Jan voer'!H14>0,VLOOKUP('Jan voer'!G14,Voedermiddelen!$A$4:$K$75,7,FALSE)*E71,\"\")","v":""}]
[null,0,{"$f":"IF('Jan voer'!C15>0,VLOOKUP('Jan voer'!B15,Voedermiddelen!$A$4:$K$75,7,FALSE)*C72,\"\")","v":""},0,{"$f":"IF('Jan voer'!H15>0,VLOOKUP('Jan voer'!G15,Voedermiddelen!$A$4:$K$75,7,FALSE)*E72,\"\")","v":""}]
[null,0,{"$f":"IF('Jan voer'!C16>0,VLOOKUP('Jan voer'!B16,Voedermiddelen!$A$4:$K$75,7,FALSE)*C73,\"\")","v":""},0,{"$f":"IF('Jan voer'!H16>0,VLOOKUP('Jan voer'!G16,Voedermiddelen!$A$4:$K$75,7,FALSE)*E73,\"\")","v":""}]
[null,0,{"$f":"IF('Jan voer'!C17>0,VLOOKUP('Jan voer'!B17,Voedermiddelen!$A$4:$K$75,7,FALSE)*C74,\"\")","v":""},0,{"$f":"IF('Jan voer'!H17>0,VLOOKUP('Jan voer'!G17,Voedermiddelen!$A$4:$K$75,7,FALSE)*E74,\"\")","v":""}]
[null,0,{"$f":"IF('Jan voer'!C18>0,VLOOKUP('Jan voer'!B18,Voedermiddelen!$A$4:$K$75,7,FALSE)*C75,\"\")","v":""},0,{"$f":"IF('Jan voer'!H18>0,VLOOKUP('Jan voer'!G18,Voedermiddelen!$A$4:$K$75,7,FALSE)*E75,\"\")","v":""}]
[null,"KV 1",{"$f":"IF('Jan voer'!C20>0,VLOOKUP('Jan voer'!B20,Voedermiddelen!$A$4:$K$75,7,FALSE)*C76,\"\")","v":15606},{"$f":"D124","v":0}]
[null,"KV 2",{"$f":"IF('Jan voer'!C21>0,VLOOKUP('Jan voer'!B21,Voedermiddelen!$A$4:$K$75,7,FALSE)*C77,\"\")","v":41175},0]
[null,{"$f":"B126","v":0},{"$f":"IF('Jan voer'!C22>0,VLOOKUP('Jan voer'!B22,Voedermiddelen!$A$4:$K$75,7,FALSE)*C78,\"\")","v":""},{"$f":"D126","v":0}]
[]
["Totaal",null,{"$f":"SUM(C130:C142)","v":230850.6875},null,{"$f":"SUM(E130:E142)","v":174069.6875}]
[]
["N opname",null,{"$f":"C144/6.25","v":36936.11},null,{"$f":"E144/6.25","v":27851.15},null,{"$f":"(E76/0.9*'Jan voer'!M6/6.25)","v":12086.706000000011}]
[]
["P",{"$f":"B130","v":"Gkuil 1e snede 2016"},{"$f":"IF('Jan voer'!C9>0,VLOOKUP('Jan voer'!B9,Voedermiddelen!$A$4:$K$75,10,FALSE)*C66,\"\")","v":2855.5632000000001},{"$f":"D130","v":"Gkuil 1e snede 2016"},{"$f":"IF('Jan voer'!H9>0,VLOOKUP('Jan voer'!G9,Voedermiddelen!$A$4:$K$75,10,FALSE)*E66,\"\")","v":2855.5632000000001}]
[null,{"$f":"B131","v":"Mkuil 1"},{"$f":"IF('Jan voer'!C10>0,VLOOKUP('Jan voer'!B10,Voedermiddelen!$A$4:$K$75,10,FALSE)*C67,\"\")","v":748.5878399999998},"Mkuil 1",{"$f":"IF('Jan voer'!H10>0,VLOOKUP('Jan voer'!G10,Voedermiddelen!$A$4:$K$75,10,FALSE)*E67,\"\")","v":748.5878399999998}]
[null,"Overig 1",{"$f":"IF('Jan voer'!C11>0,VLOOKUP('Jan voer'!B11,Voedermiddelen!$A$4:$K$75,10,FALSE)*C68,\"\")","v":""},{"$f":"D132","v":"Overig 1"},{"$f":"IF('Jan voer'!H11>0,VLOOKUP('Jan voer'!G11,Voedermiddelen!$A$4:$K$75,10,FALSE)*E68,\"\")","v":""}]
[null,"Bierbostel",{"$f":"IF('Jan voer'!C12>0,VLOOKUP('Jan voer'!B12,Voedermiddelen!$A$4:$K$75,10,FALSE)*C69,\"\")","v":270.46499999999997},"Bierbostel",{"$f":"IF('Jan voer'!H12>0,VLOOKUP('Jan voer'!G12,Voedermiddelen!$A$4:$K$75,10,FALSE)*E69,\"\")","v":270.46499999999997}]
[null,"sodagrain",{"$f":"IF('Jan voer'!C13>0,VLOOKUP('Jan voer'!B13,Voedermiddelen!$A$4:$K$75,10,FALSE)*C70,\"\")","v":244.71999999999997},"sodagrain",{"$f":"IF('Jan voer'!H13>0,VLOOKUP('Jan voer'!G13,Voedermiddelen!$A$4:$K$75,10,FALSE)*E70,\"\")","v":244.71999999999997}]
[null,"BP 6",{"$f":"IF('Jan voer'!C14>0,VLOOKUP('Jan voer'!B14,Voedermiddelen!$A$4:$K$75,10,FALSE)*C71,\"\")","v":""},"BP 6",{"$f":"IF('Jan voer'!H14>0,VLOOKUP('Jan voer'!G14,Voedermiddelen!$A$4:$K$75,10,FALSE)*E71,\"\")","v":""}]
[null,0,{"$f":"IF('Jan voer'!C15>0,VLOOKUP('Jan voer'!B15,Voedermiddelen!$A$4:$K$75,10,FALSE)*C72,\"\")","v":""},0,{"$f":"IF('Jan voer'!H15>0,VLOOKUP('Jan voer'!G15,Voedermiddelen!$A$4:$K$75,10,FALSE)*E72,\"\")","v":""}]
[null,0,{"$f":"IF('Jan voer'!C16>0,VLOOKUP('Jan voer'!B16,Voedermiddelen!$A$4:$K$75,10,FALSE)*C73,\"\")","v":""},0,{"$f":"IF('Jan voer'!H16>0,VLOOKUP('Jan voer'!G16,Voedermiddelen!$A$4:$K$75,10,FALSE)*E73,\"\")","v":""}]
[null,0,{"$f":"IF('Jan voer'!C17>0,VLOOKUP('Jan voer'!B17,Voedermiddelen!$A$4:$K$75,10,FALSE)*C74,\"\")","v":""},0,{"$f":"IF('Jan voer'!H17>0,VLOOKUP('Jan voer'!G17,Voedermiddelen!$A$4:$K$75,10,FALSE)*E74,\"\")","v":""}]
[null,0,{"$f":"IF('Jan voer'!C18>0,VLOOKUP('Jan voer'!B18,Voedermiddelen!$A$4:$K$75,10,FALSE)*C75,\"\")","v":""},0,{"$f":"IF('Jan voer'!H18>0,VLOOKUP('Jan voer'!G18,Voedermiddelen!$A$4:$K$75,10,FALSE)*E75,\"\")","v":""}]
[null,{"$f":"B140","v":"KV 1"},{"$f":"IF('Jan voer'!C20>0,VLOOKUP('Jan voer'!B20,Voedermiddelen!$A$4:$K$75,10,FALSE)*C76,\"\")","v":367.2},{"$f":"D140","v":0}]
[null,{"$f":"B141","v":"KV 2"},{"$f":"IF('Jan voer'!C21>0,VLOOKUP('Jan voer'!B21,Voedermiddelen!$A$4:$K$75,10,FALSE)*C77,\"\")","v":1043.0999999999999},{"$f":"D141","v":0}]
[null,{"$f":"B142","v":0},{"$f":"IF('Jan voer'!C22>0,VLOOKUP('Jan voer'!B22,Voedermiddelen!$A$4:$K$75,10,FALSE)*C78,\"\")","v":""},{"$f":"D142","v":0}]
[]
["Totaal",null,{"$f":"SUM(C148:C160)","v":5529.6360399999994},null,{"$f":"SUM(E148:E160)","v":4119.3360400000001},null,{"$f":"(E76/0.9*'Jan voer'!M7)","v":1496.9249600000007}]

{"sheet":"Excretie","index":63,"n_rows":25,"n_cols":5,"rows_kept":25,"cut":false,"hidden":true,"merged":[]}
["Veestapel"]
[null,null,{"$f":"'Jan vee+melk'!C6","v":"januari gerealiseerd"},null,{"$f":"'Jan vee+melk'!E6","v":"januari prognose"}]
[]
[]
["Excretie (kg/dier/dag)"]
[null,null,"N",null,"N"]
["Opname",null,{"$f":"Voeropname!C2*Voeropname!C7*0.001","v":0.5059741095890411},null,{"$f":"Voeropname!E2*Voeropname!E7*0.001+Voeropname!G146*0.001/'Jan vee+melk'!E2","v":0.55418983131115462}]
["Gem opname 7 dgn",null,{"$f":"AVERAGE(C7:F7)","v":0.53008197045009786},null,{"$f":"AVERAGE(E7)","v":0.55418983131115462}]
["Productie",null,{"$f":"'Jan vee+melk'!C22*'Jan vee+melk'!C10/6.38","v":0.16318624905819482},null,{"$f":"'Jan vee+melk'!E22*'Jan vee+melk'!E10/6.38","v":0.15255292652552926}]
["Vastlegging",null,{"$f":"1.4/365","v":3.8356164383561643E-3},null,{"$f":"1.4/365","v":3.8356164383561643E-3}]
["Onder de staart",null,{"$f":"C7-C9-C10","v":0.33895224409249014},null,{"$f":"E7-E9-E10","v":0.39780128834726919}]
["Vervluchtiging",null,{"$f":"C11*0.1175","v":3.9826888680867589E-2},null,{"$f":"E11*0.1175","v":4.6741651380804126E-2}]
["Gemeten netto excretie",null,{"$f":"C11-C12","v":0.29912535541162255},null,{"$f":"E11-E12","v":0.35105963696646508}]
[]
[null,null,"P",null,"P"]
["Opname",null,{"$f":"Voeropname!C2*Voeropname!C8/1000","v":7.574843890410958E-2},null,{"$f":"Voeropname!E2*Voeropname!E8/1000+Voeropname!G162*0.001/'Jan vee+melk'!E2","v":7.7813903107632101E-2}]
["Gem opname 7 dgn",null,{"$f":"AVERAGE(C16:F16)","v":7.6781171005870841E-2},null,{"$f":"AVERAGE(E16)","v":7.7813903107632101E-2}]
["Productie",null,{"$f":"'Jan vee+melk'!C22*0.9/1000","v":2.5531755915317561E-2},null,{"$f":"'Jan vee+melk'!E22*0.9/1000","v":2.5027397260273972E-2}]
["Vastlegging",null,{"$f":"0.5/365","v":1.3698630136986301E-3},null,{"$f":"0.5/365","v":1.3698630136986301E-3}]
["Onder de staart",null,{"$f":"C16-C18-C19","v":4.8846819975093388E-2},null,{"$f":"E16-E18-E19","v":5.1416642833659494E-2}]
["Vervluchtiging"]
["Gemeten netto excretie",null,{"$f":"C20","v":4.8846819975093388E-2},null,{"$f":"E20","v":5.1416642833659494E-2}]
[]
["N excretie per ton meetmelk (kg)",null,{"$f":"C13/'Jan vee+melk'!C21*1000","v":9.3088584838056878},null,{"$f":"E13/'Jan vee+melk'!E21*1000","v":11.299616102547841}]
["P excretie per ton meetmelk (kg)",null,{"$f":"C22/'Jan vee+melk'!C21*1000","v":1.5201256807747348},null,{"$f":"E22/'Jan vee+melk'!E21*1000","v":1.6549562072203381}]

{"sheet":"codes","index":64,"n_rows":10,"n_cols":6,"rows_kept":10,"cut":false,"hidden":true,"merged":[]}
[1,null,null,null,null,"Voedermiddelen"]
[2,null,null,null,null,"Kuilgras"]
[null,null,null,null,null,"Snijmais"]
["Vem toeslag weidegang",null,1.03,null,null,"OverigRuwvoer"]
[null,null,null,null,null,"Bijproducten"]
[null,null,null,null,null,"Krachtvoer"]
[]
[]
[null,null,null,null,null,"Let op bij beperkt weiden is deze opname niet realistisch!"]
[null,null,null,null,null,"Let op VEM dekking te laag!"]

{"sheet":"kengetallen","index":65,"n_rows":106,"n_cols":6,"rows_kept":106,"cut":false,"hidden":true,"merged":[]}
["Rantsoen"]
["Datum",null,{"$f":"'Jan voer'!B3","v":"januari gerealiseerd"},null,{"$f":"'Jan voer'!G3","v":"januari prognose"}]
[]
[{"$f":"Voeropname!A2","v":"DS opname/koe"},null,{"$f":"Voeropname!C2","v":21.38318493150685},null,{"$f":"Voeropname!E2","v":21.370856164383564}]
[{"$f":"Voeropname!A3","v":"VEM"},null,{"$f":"Voeropname!C3","v":968.84562098307288},null,{"$f":"Voeropname!E3","v":985.26919172025634}]
[{"$f":"Voeropname!A4","v":"DVE"},null,{"$f":"Voeropname!C4","v":79.601123338175384},null,{"$f":"Voeropname!E4","v":53.23096490707961}]
[{"$f":"Voeropname!A5","v":"OEB"},null,{"$f":"Voeropname!C5","v":514.62245890410952},null,{"$f":"Voeropname!E5","v":251.156705479452}]
[{"$f":"Voeropname!A6","v":"RE"},null,{"$f":"Voeropname!C6","v":147.88901630233715},null,{"$f":"Voeropname!E6","v":111.57794749923478}]
[{"$f":"Voeropname!A7","v":"N"},null,{"$f":"Voeropname!C7","v":23.662242608373948},null,{"$f":"Voeropname!E7","v":17.852471599877564}]
[{"$f":"Voeropname!A8","v":"P"},null,{"$f":"Voeropname!C8","v":3.5424301453100542},null,{"$f":"Voeropname!E8","v":2.6404773111506032}]
[]
["Streefwaarde RE",null,{"$f":"'Jan voer'!H20","v":160}]
["Streefwaarde P",null,{"$f":"'Jan voer'!H21","v":3.6}]
[]
[]
[{"$f":"Excretie!A24","v":"N excretie per ton meetmelk (kg)"},null,{"$f":"Excretie!C24","v":9.3088584838056878},null,{"$f":"Excretie!E24","v":11.299616102547841}]
[{"$f":"Excretie!A25","v":"P excretie per ton meetmelk (kg)"},null,{"$f":"Excretie!C25","v":1.5201256807747348},null,{"$f":"Excretie!E25","v":1.6549562072203381}]
[]
[]
["VEM dekking",null,{"$f":"Voeropname!C35/'Jan vee+melk'!C27","v":1.0407696737883925},null,{"$f":"Voeropname!E35/'Jan vee+melk'!E27","v":1.0860536353882944}]
["DVE dekking",null,{"$f":"Voeropname!C36/'Jan vee+melk'!C28","v":0.90558833338301048},null,{"$f":"Voeropname!E36/'Jan vee+melk'!E28","v":0.64937167316766709}]
[]
[]
["Voerefficientie kg meetmelk/kg voer (ds)",null,{"$f":"'Jan vee+melk'!C21/Voeropname!C2","v":1.5027419411138405},null,{"$f":"'Jan vee+melk'!E21/Voeropname!E2","v":1.4537686165226296}]
["kg krachtvoer per 100 kg (excl bijprod)",null,{"$f":"SUM(Voeropname!C76:C78)/('Jan vee+melk'!C21*'Jan vee+melk'!C2)*100/0.9","v":18.09420763553091},null,{"$f":"SUM(Voeropname!E76:E78)/('Jan vee+melk'!E21*'Jan vee+melk'!E2)*100","v":16.801702572527351}]
[]
[]
[{"$f":"A12","v":"Streefwaarde RE"},null,{"$f":"$C$12","v":160},null,{"$f":"$C$12","v":160}]
[{"$f":"A13","v":"Streefwaarde P"},null,{"$f":"$C$13","v":3.6},null,{"$f":"$C$13","v":3.6}]
[]
[]
[]
[]
[{"$f":"A2","v":"Datum"},null,{"$f":"C2","v":"januari gerealiseerd"},{"$f":"E2","v":"januari prognose"},{"$f":"#REF!","v":{"$error":"#REF!"}},{"$f":"#REF!","v":{"$error":"#REF!"}}]
["00:00:00"]
["DS opname/koe",null,{"$f":"C4","v":21.38318493150685},{"$f":"E4","v":21.370856164383564},{"$f":"#REF!","v":{"$error":"#REF!"}},{"$f":"#REF!","v":{"$error":"#REF!"}}]
["VEM",null,968.84562098307288,985.26919172025634,{"$f":"#REF!","v":{"$error":"#REF!"}},{"$f":"#REF!","v":{"$error":"#REF!"}}]
["DVE",null,79.601123338175384,53.23096490707961,{"$f":"#REF!","v":{"$error":"#REF!"}},{"$f":"#REF!","v":{"$error":"#REF!"}}]
["OEB",null,514.62245890410952,251.156705479452,{"$f":"#REF!","v":{"$error":"#REF!"}},{"$f":"#REF!","v":{"$error":"#REF!"}}]
["RE",null,147.88901630233715,111.57794749923478,{"$f":"#REF!","v":{"$error":"#REF!"}},{"$f":"#REF!","v":{"$error":"#REF!"}}]
["N",null,23.662242608373948,17.852471599877564,{"$f":"#REF!","v":{"$error":"#REF!"}},{"$f":"#REF!","v":{"$error":"#REF!"}}]
["P",null,3.5424301453100542,2.6404773111506032,{"$f":"#REF!","v":{"$error":"#REF!"}},{"$f":"#REF!","v":{"$error":"#REF!"}}]
[{"$f":"A15","v":"00:00:00"}]
["N excretie per ton meetmelk (kg)",null,{"$f":"C16","v":9.3088584838056878},{"$f":"E16","v":11.299616102547841},{"$f":"#REF!","v":{"$error":"#REF!"}},{"$f":"#REF!","v":{"$error":"#REF!"}}]
["P excretie per ton meetmelk (kg)",null,1.5201256807747348,{"$f":"E17","v":1.6549562072203381},{"$f":"#REF!","v":{"$error":"#REF!"}},{"$f":"#REF!","v":{"$error":"#REF!"}}]
["00:00:00",null,{"$f":"1000/C45/2.29","v":287.26652554469592},{"$f":"1000/D45/2.29","v":263.86270573338777},{"$f":"1000/E45/2.29","v":{"$error":"#REF!"}},{"$f":"1000/F45/2.29","v":{"$error":"#REF!"}}]
[]
[]
["Rantsoen"]
[]
["Kuilgras",null,{"$f":"IF(Voeropname!$A66=kengetallen!$A51,Voeropname!C66,\"\")","v":793.21199999999999},null,{"$f":"IF(Voeropname!$A66=kengetallen!$A51,Voeropname!E66,\"\")","v":793.21199999999999}]
["Kuilgras",null,{"$f":"IF(Voeropname!$A67=kengetallen!$A52,Voeropname!C67,\"\")","v":""},null,{"$f":"IF(Voeropname!$A67=kengetallen!$A52,Voeropname!E67,\"\")","v":""}]
["Kuilgras",null,{"$f":"IF(Voeropname!$A68=kengetallen!$A53,Voeropname!C68,\"\")","v":""},null,{"$f":"IF(Voeropname!$A68=kengetallen!$A53,Voeropname!E68,\"\")","v":""}]
["Kuilgras",null,{"$f":"IF(Voeropname!$A69=kengetallen!$A54,Voeropname!C69,\"\")","v":""},null,{"$f":"IF(Voeropname!$A69=kengetallen!$A54,Voeropname!E69,\"\")","v":""}]
["Kuilgras",null,{"$f":"IF(Voeropname!$A70=kengetallen!$A55,Voeropname!C70,\"\")","v":""},null,{"$f":"IF(Voeropname!$A70=kengetallen!$A55,Voeropname!E70,\"\")","v":""}]
["Kuilgras",null,{"$f":"IF(Voeropname!$A71=kengetallen!$A56,Voeropname!C71,\"\")","v":""},null,{"$f":"IF(Voeropname!$A71=kengetallen!$A56,Voeropname!E71,\"\")","v":""}]
["Kuilgras",null,{"$f":"IF(Voeropname!$A72=kengetallen!$A57,Voeropname!C72,\"\")","v":""},null,{"$f":"IF(Voeropname!$A72=kengetallen!$A57,Voeropname!E72,\"\")","v":""}]
["Kuilgras",null,{"$f":"IF(Voeropname!$A73=kengetallen!$A58,Voeropname!C73,\"\")","v":""},null,{"$f":"IF(Voeropname!$A73=kengetallen!$A58,Voeropname!E73,\"\")","v":""}]
["Kuilgras",null,{"$f":"IF(Voeropname!$A74=kengetallen!$A59,Voeropname!C74,\"\")","v":""},null,{"$f":"IF(Voeropname!$A74=kengetallen!$A59,Voeropname!E74,\"\")","v":""}]
["Totaal kuilgras",null,{"$f":"SUM(C51:C59)","v":793.21199999999999},null,{"$f":"SUM(E51:E59)","v":793.21199999999999}]
[]
["Snijmais",null,{"$f":"IF(Voeropname!$A66=kengetallen!$A62,Voeropname!C66,\"\")","v":""},null,{"$f":"IF(Voeropname!$A66=kengetallen!$A62,Voeropname!E66,\"\")","v":""}]
["Snijmais",null,{"$f":"IF(Voeropname!$A67=kengetallen!$A63,Voeropname!C67,\"\")","v":243.04799999999997},null,{"$f":"IF(Voeropname!$A67=kengetallen!$A63,Voeropname!E67,\"\")","v":243.04799999999997}]
["Snijmais",null,{"$f":"IF(Voeropname!$A68=kengetallen!$A64,Voeropname!C68,\"\")","v":""},null,{"$f":"IF(Voeropname!$A68=kengetallen!$A64,Voeropname!E68,\"\")","v":""}]
["Snijmais",null,{"$f":"IF(Voeropname!$A69=kengetallen!$A65,Voeropname!C69,\"\")","v":""},null,{"$f":"IF(Voeropname!$A69=kengetallen!$A65,Voeropname!E69,\"\")","v":""}]
["Snijmais",null,{"$f":"IF(Voeropname!$A70=kengetallen!$A66,Voeropname!C70,\"\")","v":""},null,{"$f":"IF(Voeropname!$A70=kengetallen!$A66,Voeropname!E70,\"\")","v":""}]
["Snijmais",null,{"$f":"IF(Voeropname!$A71=kengetallen!$A67,Voeropname!C71,\"\")","v":""},null,{"$f":"IF(Voeropname!$A71=kengetallen!$A67,Voeropname!E71,\"\")","v":""}]
["Snijmais",null,{"$f":"IF(Voeropname!$A72=kengetallen!$A68,Voeropname!C72,\"\")","v":""},null,{"$f":"IF(Voeropname!$A72=kengetallen!$A68,Voeropname!E72,\"\")","v":""}]
["Snijmais",null,{"$f":"IF(Voeropname!$A73=kengetallen!$A69,Voeropname!C73,\"\")","v":""},null,{"$f":"IF(Voeropname!$A73=kengetallen!$A69,Voeropname!E73,\"\")","v":""}]
["Snijmais",null,{"$f":"IF(Voeropname!$A74=kengetallen!$A70,Voeropname!C74,\"\")","v":""},null,{"$f":"IF(Voeropname!$A74=kengetallen!$A70,Voeropname!E74,\"\")","v":""}]
["Totaal snijmais",null,{"$f":"SUM(C62:C70)","v":243.04799999999997},null,{"$f":"SUM(E62:E70)","v":243.04799999999997}]
[]
["OverigRuwvoer",null,{"$f":"IF(Voeropname!$A66=kengetallen!$A73,Voeropname!C66,\"\")","v":""},null,{"$f":"IF(Voeropname!$A66=kengetallen!$A73,Voeropname!E66,\"\")","v":""}]
["OverigRuwvoer",null,{"$f":"IF(Voeropname!$A67=kengetallen!$A74,Voeropname!C67,\"\")","v":""},null,{"$f":"IF(Voeropname!$A67=kengetallen!$A74,Voeropname!E67,\"\")","v":""}]
["OverigRuwvoer",null,{"$f":"IF(Voeropname!$A68=kengetallen!$A75,Voeropname!C68,\"\")","v":""},null,{"$f":"IF(Voeropname!$A68=kengetallen!$A75,Voeropname!E68,\"\")","v":""}]
["OverigRuwvoer",null,{"$f":"IF(Voeropname!$A69=kengetallen!$A76,Voeropname!C69,\"\")","v":""},null,{"$f":"IF(Voeropname!$A69=kengetallen!$A76,Voeropname!E69,\"\")","v":""}]
["OverigRuwvoer",null,{"$f":"IF(Voeropname!$A70=kengetallen!$A77,Voeropname!C70,\"\")","v":""},null,{"$f":"IF(Voeropname!$A70=kengetallen!$A77,Voeropname!E70,\"\")","v":""}]
["OverigRuwvoer",null,{"$f":"IF(Voeropname!$A71=kengetallen!$A78,Voeropname!C71,\"\")","v":""},null,{"$f":"IF(Voeropname!$A71=kengetallen!$A78,Voeropname!E71,\"\")","v":""}]
["OverigRuwvoer",null,{"$f":"IF(Voeropname!$A72=kengetallen!$A79,Voeropname!C72,\"\")","v":""},null,{"$f":"IF(Voeropname!$A72=kengetallen!$A79,Voeropname!E72,\"\")","v":""}]
["OverigRuwvoer",null,{"$f":"IF(Voeropname!$A73=kengetallen!$A80,Voeropname!C73,\"\")","v":""},null,{"$f":"IF(Voeropname!$A73=kengetallen!$A80,Voeropname!E73,\"\")","v":""}]
["OverigRuwvoer",null,{"$f":"IF(Voeropname!$A74=kengetallen!$A81,Voeropname!C74,\"\")","v":""},null,{"$f":"IF(Voeropname!$A74=kengetallen!$A81,Voeropname!E74,\"\")","v":""}]
["Totaal overig Ruwvoer",null,{"$f":"SUM(C73:C81)","v":0},null,{"$f":"SUM(E73:E81)","v":0}]
[]
["Bijproducten",null,{"$f":"IF(Voeropname!$A66=kengetallen!$A84,Voeropname!C66,\"\")","v":""},null,{"$f":"IF(Voeropname!$A66=kengetallen!$A84,Voeropname!E66,\"\")","v":""}]
["Bijproducten",null,{"$f":"IF(Voeropname!$A67=kengetallen!$A85,Voeropname!C67,\"\")","v":""},null,{"$f":"IF(Voeropname!$A67=kengetallen!$A85,Voeropname!E67,\"\")","v":""}]
["Bijproducten",null,{"$f":"IF(Voeropname!$A68=kengetallen!$A86,Voeropname!C68,\"\")","v":""},null,{"$f":"IF(Voeropname!$A68=kengetallen!$A86,Voeropname!E68,\"\")","v":""}]
["Bijproducten",null,{"$f":"IF(Voeropname!$A69=kengetallen!$A87,Voeropname!C69,\"\")","v":52.012499999999996},null,{"$f":"IF(Voeropname!$A69=kengetallen!$A87,Voeropname!E69,\"\")","v":52.012499999999996}]
["Bijproducten",null,{"$f":"IF(Voeropname!$A70=kengetallen!$A88,Voeropname!C70,\"\")","v":106.39999999999999},null,{"$f":"IF(Voeropname!$A70=kengetallen!$A88,Voeropname!E70,\"\")","v":106.39999999999999}]
["Bijproducten",null,{"$f":"IF(Voeropname!$A71=kengetallen!$A89,Voeropname!C71,\"\")","v":""},null,{"$f":"IF(Voeropname!$A71=kengetallen!$A89,Voeropname!E71,\"\")","v":""}]
["Bijproducten",null,{"$f":"IF(Voeropname!$A72=kengetallen!$A90,Voeropname!C72,\"\")","v":""},null,{"$f":"IF(Voeropname!$A72=kengetallen!$A90,Voeropname!E72,\"\")","v":""}]
["Bijproducten",null,{"$f":"IF(Voeropname!$A73=kengetallen!$A91,Voeropname!C73,\"\")","v":""},null,{"$f":"IF(Voeropname!$A73=kengetallen!$A91,Voeropname!E73,\"\")","v":""}]
["Bijproducten",null,{"$f":"IF(Voeropname!$A74=kengetallen!$A92,Voeropname!C74,\"\")","v":""},null,{"$f":"IF(Voeropname!$A74=kengetallen!$A92,Voeropname!E74,\"\")","v":""}]
["Totaal Bijproducten",null,{"$f":"SUM(C84:C92)","v":158.41249999999999},null,{"$f":"SUM(E84:E92)","v":158.41249999999999}]
[]
["Krachtvoer",null,{"$f":"SUM(Voeropname!C76:C78)","v":366.3},null,{"$f":"SUM(Voeropname!E76:E78)","v":365.40000000000003}]
[]
["Vers gras",null,{"$f":"Voeropname!C31*('Jan vee+melk'!C2+'Jan vee+melk'!C3)","v":0},null,{"$f":"Voeropname!E31*('Jan vee+melk'!E2+'Jan vee+melk'!E3)","v":0}]
[]
["Totaal",null,{"$f":"C95+C93+C82+C71+C60+C97","v":1560.9724999999999},null,{"$f":"E95+E93+E82+E71+E60+E97","v":1560.0725}]
[]
["Vers gras",null,{"$f":"C97/C99","v":0},null,{"$f":"E97/E99","v":0}]
["Aandeel kuilgras",null,{"$f":"C60/C$99","v":0.50815244983495866},null,{"$f":"E60/E$99","v":0.50844560108584702}]
["Aandeel snijmais",null,{"$f":"C71/C$99","v":0.1557029351894412},null,{"$f":"E71/E$99","v":0.15579275963136327}]
["Aandeel overig ruwvoer",null,{"$f":"C82/C$99","v":0},null,{"$f":"E82/E$99","v":0}]
["Aandeel bijproducten",null,{"$f":"C93/C$99","v":0.1014832099860824},null,{"$f":"E93/E$99","v":0.10154175527098901}]
["Aandeel krachtvoer",null,{"$f":"C95/C$99","v":0.23466140498951779},null,{"$f":"E95/E$99","v":0.23421988401180074}]

{"sheet":"monitor","index":66,"n_rows":10,"n_cols":10,"rows_kept":10,"cut":false,"hidden":true,"merged":[]}
[]
[null,{"$f":"C2-1","v":"2018-02-20"},"2018-02-21",{"$f":"E2-1","v":"2018-02-22"},"2018-02-23","2018-02-24","2018-02-25","2018-02-26",{"$f":"J2-1","v":"2018-02-27"},{"$f":"TODAY()","v":"2018-02-28"}]
[]
["Ruw eiwit (g/kg ds)",{"$f":"HLOOKUP(B2,kengetallen!$C$2:$AQ$26,7,FALSE)","v":{"$error":"#N/A"}},{"$f":"HLOOKUP(C2,kengetallen!$C$2:$AQ$26,7,FALSE)","v":{"$error":"#N/A"}},{"$f":"HLOOKUP(D2,kengetallen!$C$2:$AQ$26,7,FALSE)","v":{"$error":"#N/A"}},{"$f":"HLOOKUP(E2,kengetallen!$C$2:$AQ$26,7,FALSE)","v":{"$error":"#N/A"}},{"$f":"HLOOKUP(F2,kengetallen!$C$2:$AQ$26,7,FALSE)","v":{"$error":"#N/A"}},{"$f":"HLOOKUP(G2,kengetallen!$C$2:$AQ$26,7,FALSE)","v":{"$error":"#N/A"}},{"$f":"HLOOKUP(H2,kengetallen!$C$2:$AQ$26,7,FALSE)","v":{"$error":"#N/A"}},{"$f":"HLOOKUP(I2,kengetallen!$C$2:$AQ$26,7,FALSE)","v":{"$error":"#N/A"}},{"$f":"HLOOKUP(J2,kengetallen!$C$2:$AQ$26,7,FALSE)","v":{"$error":"#N/A"}}]
["Fosfor (g/kg ds)",{"$f":"HLOOKUP(B2,kengetallen!$C$2:$AQ$26,9,FALSE)","v":{"$error":"#N/A"}},{"$f":"HLOOKUP(C2,kengetallen!$C$2:$AQ$26,9,FALSE)","v":{"$error":"#N/A"}},{"$f":"HLOOKUP(D2,kengetallen!$C$2:$AQ$26,9,FALSE)","v":{"$error":"#N/A"}},{"$f":"HLOOKUP(E2,kengetallen!$C$2:$AQ$26,9,FALSE)","v":{"$error":"#N/A"}},{"$f":"HLOOKUP(F2,kengetallen!$C$2:$AQ$26,9,FALSE)","v":{"$error":"#N/A"}},{"$f":"HLOOKUP(G2,kengetallen!$C$2:$AQ$26,9,FALSE)","v":{"$error":"#N/A"}},{"$f":"HLOOKUP(H2,kengetallen!$C$2:$AQ$26,9,FALSE)","v":{"$error":"#N/A"}},{"$f":"HLOOKUP(I2,kengetallen!$C$2:$AQ$26,9,FALSE)","v":{"$error":"#N/A"}},{"$f":"HLOOKUP(J2,kengetallen!$C$2:$AQ$26,9,FALSE)","v":{"$error":"#N/A"}}]
[]
["Streefwaarde Ruw eiwit",{"$f":"kengetallen!$C$12","v":160},{"$f":"kengetallen!$C$12","v":160},{"$f":"kengetallen!$C$12","v":160},{"$f":"kengetallen!$C$12","v":160},{"$f":"kengetallen!$C$12","v":160},{"$f":"kengetallen!$C$12","v":160},{"$f":"kengetallen!$C$12","v":160},{"$f":"kengetallen!$C$12","v":160},{"$f":"kengetallen!$C$12","v":160}]
["Streefwaarde Fosfor",{"$f":"kengetallen!$C$13","v":3.6},{"$f":"kengetallen!$C$13","v":3.6},{"$f":"kengetallen!$C$13","v":3.6},{"$f":"kengetallen!$C$13","v":3.6},{"$f":"kengetallen!$C$13","v":3.6},{"$f":"kengetallen!$C$13","v":3.6},{"$f":"kengetallen!$C$13","v":3.6},{"$f":"kengetallen!$C$13","v":3.6},{"$f":"kengetallen!$C$13","v":3.6}]
["N-excretie/ton meetmelk",{"$f":"HLOOKUP(B2,kengetallen!$C$2:$AQ$26,15,FALSE)","v":{"$error":"#N/A"}},{"$f":"HLOOKUP(C2,kengetallen!$C$2:$AQ$26,15,FALSE)","v":{"$error":"#N/A"}},{"$f":"HLOOKUP(D2,kengetallen!$C$2:$AQ$26,15,FALSE)","v":{"$error":"#N/A"}},{"$f":"HLOOKUP(E2,kengetallen!$C$2:$AQ$26,15,FALSE)","v":{"$error":"#N/A"}},{"$f":"HLOOKUP(F2,kengetallen!$C$2:$AQ$26,15,FALSE)","v":{"$error":"#N/A"}},{"$f":"HLOOKUP(G2,kengetallen!$C$2:$AQ$26,15,FALSE)","v":{"$error":"#N/A"}},{"$f":"HLOOKUP(H2,kengetallen!$C$2:$AQ$26,15,FALSE)","v":{"$error":"#N/A"}},{"$f":"HLOOKUP(I2,kengetallen!$C$2:$AQ$26,15,FALSE)","v":{"$error":"#N/A"}}]
["P-excretie/ton meetmelk",{"$f":"HLOOKUP(B2,kengetallen!$C$2:$AQ$26,16,FALSE)","v":{"$error":"#N/A"}},{"$f":"HLOOKUP(C2,kengetallen!$C$2:$AQ$26,16,FALSE)","v":{"$error":"#N/A"}},{"$f":"HLOOKUP(D2,kengetallen!$C$2:$AQ$26,16,FALSE)","v":{"$error":"#N/A"}},{"$f":"HLOOKUP(E2,kengetallen!$C$2:$AQ$26,16,FALSE)","v":{"$error":"#N/A"}},{"$f":"HLOOKUP(F2,kengetallen!$C$2:$AQ$26,16,FALSE)","v":{"$error":"#N/A"}},{"$f":"HLOOKUP(G2,kengetallen!$C$2:$AQ$26,16,FALSE)","v":{"$error":"#N/A"}},{"$f":"HLOOKUP(H2,kengetallen!$C$2:$AQ$26,16,FALSE)","v":{"$error":"#N/A"}},{"$f":"HLOOKUP(I2,kengetallen!$C$2:$AQ$26,16,FALSE)","v":{"$error":"#N/A"}}]

{"sheet":"grafieken","index":67,"n_rows":0,"n_cols":0,"rows_kept":0,"cut":false,"hidden":true,"merged":[]}